Workbook

Sheet PANEL DE CONTROL DISTRITAL
A1: INSTITUTO NACIONAL ELECTORAL SISTEMA DE GESTIÓN DE LA CALIDAD CIUDAD DE MÉXICO
M2: Fecha de corte dd/mm/aaaa | Q2: Version 0
A4: TABLERO DE CONTROL DISTRITAL DE PROCESOS SUSTANTIVOS DEL SISTEMA DE GESTIÓN DE LA CALIDAD
A5: CAMPAÑA ANUAL INTENSA 2024 CAMPAÑA ESPECIAL DE ACTUALIZACIÓN PARA EL PROCESO ELECTORAL EXTRAORDINARIO (CEAPEE) 2024-2025
A6: Número | B6: PROCESOS SUSTANTIVOS E INDICADORES | I6: % AVANCE REGISTRADO | K6: % AVANCE REGISTRADO | M6: % AVANCE REGISTRADO | O6: % AVANCE REGISTRADO | Q6: % AVANCE REGISTRADO | S6: % AVANCE REGISTRADO | U6: % AVANCE REGISTRADO | W6: % AVANCE REGISTRADO | Y6: % AVANCE REGISTRADO | AA6: % AVANCE REGISTRADO | AC6: % AVANCE REGISTRADO | AE6: % AVANCE REGISTRADO | AG6: % AVANCE REGISTRADO | AI6: % AVANCE REGISTRADO | AK6: % AVANCE REGISTRADO | AM6: % AVANCE REGISTRADO | AO6: % AVANCE REGISTRADO | AQ6: % AVANCE REGISTRADO | AS6: % AVANCE REGISTRADO | AU6: % AVANCE REGISTRADO | AW6: % AVANCE REGISTRADO | AY6: % AVANCE REGISTRADO | BB6: % AVANCE REGISTRADO
B7: DESCRIPCIÓN | E7: MEDICIÓN
B8: Proceso | C8: Dueño de Proceso | D8: Indicador | E8: Cálculo | F8: Periodo | G8: Estimado | H8: Nominativo | I8: Distrito 01 | K8: Distrito 02 | M8: Distrito 03 | O8: Distrito 04 | Q8: Distrito 05 | S8: Distrito 06 | U8: Distrito 07 | W8: Distrito 08 | Y8: Distrito 09 | AA8: Distrito 10 | AC8: Distrito 11 | AE8: Distrito 12 | AG8: Distrito 13 | AI8: Distrito 14 | AK8: Distrito 15 | AM8: Distrito 16 | AO8: Distrito 17 | AQ8: Distrito 18 | AS8: Distrito 19 | AU8: Distrito 20 | AW8: Distrito 21 | AY8: Distrito 22 | BB8: Estatal
A9: 1 | B9: ENTREVISTA | C9: Auxiliar de Atención Ciudadana | D9: Fichas requisitadas correctamente= | E9: (Fichas requisitadas correctamente / Fichas revisadas en la muestra del 10%) x 100 | F9: Semanal (remesa) | G9: 0.9 | H9: Fichas requistadas correctamente | I9: =AVERAGE('090151'!BP10:BP11) -> 0.99629812 | K9: =AVERAGE('090251'!BP10:BP11) -> 0.96088643 | M9: =AVERAGE('090351'!BP10:BP11) -> 0.99983485 | O9: =AVERAGE('090451'!BP10:BP11) -> 0.969067 | Q9: =AVERAGE('090551'!BP10:BP11) -> 0.99947931 | S9: =AVERAGE('090651'!BP10:BP11) -> 0.89567266 | U9: =AVERAGE('090751'!BP10:BP11) -> 1.0001746 | W9: =AVERAGE('090853'!BP10:BP11,'090852'!BP10:BP11) -> 0.9646264 | Y9: =AVERAGE('090951'!BP10:BP11) -> 0.99406528 | AA9: =AVERAGE('091051'!BP10:BP11) -> 0.97960445 | AC9: =AVERAGE('091151'!BP10:BP11) -> 0.97597129 | AE9: =AVERAGE('091251'!BP10:BP11,'091252'!BP10:BP11,'091253'!BP10:BP11) -> 0.99274739 | AG9: =AVERAGE('091351'!BP10:BP11) -> 1 | AI9: =AVERAGE('091451'!BP10:BP11) -> 0.97421784 | AK9: =AVERAGE('091551'!BP10:BP11,'091552'!BP10:BP11) -> 1 | AM9: =AVERAGE('091651'!BP10:BP11) -> 1 | AO9: =AVERAGE('091751'!BP10:BP11) -> 0.99377432 | AQ9: =AVERAGE('091851'!BP10:BP11) -> 0.99679144 | AS9: =AVERAGE('091952'!BP10:BP11) -> 0.95986622 | AU9: =AVERAGE('092051'!BP10:BP11) -> 0.98122605 | AW9: =AVERAGE('092151'!BP10:BP11,'092152'!BP10:BP11) -> 0.98780687 | AY9: =AVERAGE('092251'!BP10:BP11) -> 0.96851999 | BB9: =AVERAGE(I9,K9,M9,O9,Q9,S9,U9,W9,Y9,AA9,AC9,AE9,AG9,AI9,AK9,AM9,AO9,AQ9,AS9,AU9,AW9,AY9) -> 0.9813923
H10: Fichas revisadas en la muestra del 10%
A12: 2 | B12: TRÁMITE | C12: Operador de Equipo Tecnológico | D12: Trámites exitosos efectivos= | E12: (Número de trámites exitosos / Número de trámites aplicados) x 100 | F12: Semanal (remesa) | G12: 0.9 | H12: Número de trámites exitosos | I12: =AVERAGE('090151'!BP13:BP14) -> 0.99777104 | K12: =AVERAGE('090251'!BP13:BP14) -> 0.99736215 | M12: =AVERAGE('090351'!BP13:BP14) -> 0.99750161 | O12: =AVERAGE('090451'!BP13:BP14) -> 0.99731288 | Q12: =AVERAGE('090551'!BP13:BP14) -> 0.9916318 | S12: =AVERAGE('090651'!BP13:BP14) -> 0.98686083 | U12: =AVERAGE('090751'!BP13:BP14) -> 0.99639104 | W12: =AVERAGE('090853'!BP13:BP14,'090852'!BP13:BP14) -> 0.99792286 | Y12: =AVERAGE('090951'!BP13:BP14) -> 0.9959945 | AA12: =AVERAGE('091051'!BP13:BP14) -> 0.99768923 | AC12: =AVERAGE('091151'!BP13:BP14) -> 0.99770631 | AE12: =AVERAGE('091251'!BP13:BP14,'091252'!BP13:BP14,'091253'!BP13:BP14) -> 0.99739762 | AG12: =AVERAGE('091351'!BP13:BP14) -> 0.99762081 | AI12: =AVERAGE('091451'!BP13:BP14) -> 0.99915566 | AK12: =AVERAGE('091551'!BP13:BP14,'091552'!BP13:BP14) -> 0.99902505 | AM12: =AVERAGE('091651'!BP13:BP14) -> 0.99821716 | AO12: =AVERAGE('091751'!BP13:BP14) -> 0.99695203 | AQ12: =AVERAGE('091851'!BP13:BP14) -> 0.99232829 | AS12: =AVERAGE('091952'!BP13:BP14) -> 0.99397904 | AU12: =AVERAGE('092051'!BP13:BP14) -> 0.99814478 | AW12: =AVERAGE('092151'!BP13:BP14,'092152'!BP13:BP14) -> 0.97218958 | AY12: =AVERAGE('092251'!BP13:BP14) -> 0.99601331 | BB12: =AVERAGE(I12,K12,M12,O12,Q12,S12,U12,W12,Y12,AA12,AC12,AE12,AG12,AI12,AK12,AM12,AO12,AQ12,AS12,AU12,AW12,AY12) -> 0.99523489
H13: Número de trámites aplicados
A15: 3 | B15: TRANSFERENCIA DE LA INFORMACIÓN | C15: Responsable de Módulo | D15: Reenvíos exitosos = | E15: (Ejecución de los scripts de reenvío de notificaciones/Solicitud de reenvíos de scripts requeridos) x100 | F15: Semanal (remesa) | G15: 1 | H15: Ejecución de los scripts de reenvío de notificaciones | I15: =AVERAGE('090151'!BP16:BP17) -> 1 | K15: =AVERAGE('090251'!BP16:BP17) -> 1 | M15: =AVERAGE('090351'!BP16:BP17) -> 0 | O15: =AVERAGE('090451'!BP16:BP17) -> 0.83333333 | Q15: =AVERAGE('090551'!BP16:BP17) -> 1 | S15: =AVERAGE('090651'!BP16:BP17) -> 1 | U15: =AVERAGE('090751'!BP16:BP17) -> 1 | W15: =AVERAGE('090853'!BP16:BP17,'090852'!BP16:BP17) -> 0.875 | Y15: =AVERAGE('090951'!BP16:BP17) -> 1 | AA15: =AVERAGE('091051'!BP16:BP17) -> 1 | AC15: =AVERAGE('091151'!BP16:BP17) -> 1 | AE15: =AVERAGE('091251'!BP16:BP17,'091252'!BP16:BP17,'091253'!BP16:BP17) -> 1 | AG15: =AVERAGE('091351'!BP16:BP17) -> 1 | AI15: =AVERAGE('091451'!BP16:BP17) -> 1 | AK15: =AVERAGE('091551'!BP16:BP17,'091552'!BP16:BP17) -> 1 | AM15: =AVERAGE('091651'!BP16:BP17) -> 1 | AO15: =AVERAGE('091751'!BP16:BP17) -> 1 | AQ15: =AVERAGE('091851'!BP16:BP17) -> 1 | AS15: =AVERAGE('091952'!BP16:BP17) -> 1 | AU15: =AVERAGE('092051'!BP16:BP17) -> 1 | AW15: =AVERAGE('092151'!BP16:BP17,'092152'!BP16:BP17) -> 1 | AY15: =AVERAGE('092251'!BP16:BP17) -> 1 | BB15: =AVERAGE(I15,K15,M15,O15,Q15,S15,U15,W15,Y15,AA15,AC15,AE15,AG15,AI15,AK15,AM15,AO15,AQ15,AS15,AU15,AW15,AY15) -> 0.94128788
H16: Solicitud de reevíos de scripts requeridos
A18: 4 | B18: CONCILIACIÓN DE CREDENCIALES PARA VOTAR | C18: Responsable de Módulo | D18: Credenciales disponibles para entrega = | E18: [(Credenciales recibidas - credenciales inconsistentes) / Credenciales recibidas] x 100 | F18: Semanal (remesa) | G18: 0.9 | H18: Credenciales Recibidas - Credenciales inconsistentes | I18: =AVERAGE('090151'!BP19:BP20) -> 0.99994976 | K18: =AVERAGE('090251'!BP19:BP20) -> 0.99998888 | M18: =AVERAGE('090351'!BP19:BP20) -> 1 | O18: =AVERAGE('090451'!BP19:BP20) -> 1.0000133 | Q18: =AVERAGE('090551'!BP19:BP20) -> 0.99995152 | S18: =AVERAGE('090651'!BP19:BP20) -> 1 | U18: =AVERAGE('090751'!BP19:BP20) -> 0.99998212 | W18: =AVERAGE('090853'!BP19:BP20,'090852'!BP19:BP20) -> 1 | Y18: =AVERAGE('090951'!BP19:BP20) -> 1 | AA18: =AVERAGE('091051'!BP19:BP20) -> 1 | AC18: =AVERAGE('091151'!BP19:BP20) -> 1 | AE18: =AVERAGE('091251'!BP19:BP20,'091252'!BP19:BP20,'091253'!BP19:BP20) -> 0.99997444 | AG18: =AVERAGE('091351'!BP19:BP20) -> 0.98970665 | AI18: =AVERAGE('091451'!BP19:BP20) -> 1 | AK18: =AVERAGE('091551'!BP19:BP20,'091552'!BP19:BP20) -> 0.99998937 | AM18: =AVERAGE('091651'!BP19:BP20) -> 0.99998759 | AO18: =AVERAGE('091751'!BP19:BP20) -> 1 | AQ18: =AVERAGE('091851'!BP19:BP20) -> 0.99997197 | AS18: =AVERAGE('091952'!BP19:BP20) -> 1 | AU18: =AVERAGE('092051'!BP19:BP20) -> 1 | AW18: =AVERAGE('092151'!BP19:BP20,'092152'!BP19:BP20) -> 0.99999175 | AY18: =AVERAGE('092251'!BP19:BP20) -> 1 | BB18: =AVERAGE(I18,K18,M18,O18,Q18,S18,U18,W18,Y18,AA18,AC18,AE18,AG18,AI18,AK18,AM18,AO18,AQ18,AS18,AU18,AW18,AY18) -> 0.99952306
H19: Credenciales recibidas
A21: 5 | B21: CONCILIACIÓN DE CREDENCIALES PARA VOTAR | C21: Responsable de Módulo | D21: Arqueo de Credenciales = | E21: (Credenciales disponibles (físicas)/ Credenciales disponibles registradas en SIIRFE) x 100 | F21: Semanal (remesa) | G21: 1 | H21: Credenciales disponibles (físicas) | I21: =AVERAGE('090151'!BP22:BP23) -> 1 | K21: =AVERAGE('090251'!BP22:BP23) -> 1 | M21: =AVERAGE('090351'!BP22:BP23) -> 1 | O21: =AVERAGE('090451'!BP22:BP23) -> 1 | Q21: =AVERAGE('090551'!BP22:BP23) -> 1 | S21: =AVERAGE('090651'!BP22:BP23) -> 1 | U21: =AVERAGE('090751'!BP22:BP23) -> 1 | W21: =AVERAGE('090853'!BP22:BP23,'090852'!BP22:BP23) -> 1 | Y21: =AVERAGE('090951'!BP22:BP23) -> 1 | AA21: =AVERAGE('091051'!BP22:BP23) -> 1 | AC21: =AVERAGE('091151'!BP22:BP23) -> 1 | AE21: =AVERAGE('091251'!BP22:BP23,'091252'!BP22:BP23,'091253'!BP22:BP23) -> 1 | AG21: =AVERAGE('091351'!BP22:BP23) -> 1 | AI21: =AVERAGE('091451'!BP22:BP23) -> 1 | AK21: =AVERAGE('091551'!BP22:BP23,'091552'!BP22:BP23) -> 1.0000931 | AM21: =AVERAGE('091651'!BP22:BP23) -> 1 | AO21: =AVERAGE('091751'!BP22:BP23) -> 1 | AQ21: =AVERAGE('091851'!BP22:BP23) -> 1 | AS21: =AVERAGE('091952'!BP22:BP23) -> 1 | AU21: =AVERAGE('092051'!BP22:BP23) -> 1 | AW21: =AVERAGE('092151'!BP22:BP23,'092152'!BP22:BP23) -> 1 | AY21: =AVERAGE('092251'!BP22:BP23) -> 1 | BB21: =AVERAGE(I21,K21,M21,O21,Q21,S21,U21,W21,Y21,AA21,AC21,AE21,AG21,AI21,AK21,AM21,AO21,AQ21,AS21,AU21,AW21,AY21) -> 1.0000042
H22: Credenciales disponibles registradas en SIIRFE
A24: 6 | B24: ENTREGA DE LA CREDENCIAL PARA VOTAR | C24: Operador de Equipo Tecnológico | D24: Efectividad de entrega de CPV en MAC = | E24: (Total de credenciales entregadas / Total de ciudadanas y ciudadanos que acuden al MAC a recoger su credencial) x 100 | F24: Semanal (remesa) | G24: 0.9 | H24: Total de credenciales entregadas | I24: =AVERAGE('090151'!BP25:BP26) -> 0.99949074 | K24: =AVERAGE('090251'!BP25:BP26) -> 0.99648583 | M24: =AVERAGE('090351'!BP25:BP26) -> 0.99725468 | O24: =AVERAGE('090451'!BP25:BP26) -> 1 | Q24: =AVERAGE('090551'!BP25:BP26) -> 0.99973023 | S24: =AVERAGE('090651'!BP25:BP26) -> 0.99957216 | U24: =AVERAGE('090751'!BP25:BP26) -> 1 | W24: =AVERAGE('090853'!BP25:BP26,'090852'!BP25:BP26) -> 0.99868096 | Y24: =AVERAGE('090951'!BP25:BP26) -> 0.9993033 | AA24: =AVERAGE('091051'!BP25:BP26) -> 0.99887581 | AC24: =AVERAGE('091151'!BP25:BP26) -> 0.99879375 | AE24: =AVERAGE('091251'!BP25:BP26,'091252'!BP25:BP26,'091253'!BP25:BP26) -> 0.99578881 | AG24: =AVERAGE('091351'!BP25:BP26) -> 0.99983717 | AI24: =AVERAGE('091451'!BP25:BP26) -> 1 | AK24: =AVERAGE('091551'!BP25:BP26,'091552'!BP25:BP26) -> 0.99951819 | AM24: =AVERAGE('091651'!BP25:BP26) -> 0.99910891 | AO24: =AVERAGE('091751'!BP25:BP26) -> 0.99946478 | AQ24: =AVERAGE('091851'!BP25:BP26) -> 0.99771895 | AS24: =AVERAGE('091952'!BP25:BP26) -> 0.9975219 | AU24: =AVERAGE('092051'!BP25:BP26) -> 0.99886448 | AW24: =AVERAGE('092151'!BP25:BP26,'092152'!BP25:BP26) -> 0.99939625 | AY24: =AVERAGE('092251'!BP25:BP26) -> 0.99533212 | BB24: =AVERAGE(I24,K24,M24,O24,Q24,S24,U24,W24,Y24,AA24,AC24,AE24,AG24,AI24,AK24,AM24,AO24,AQ24,AS24,AU24,AW24,AY24) -> 0.99866996
H25: Total de ciudadanas y ciudadanos que acuden al MAC a recoger su credencial

Sheet 090151
A1: ='PANEL DE CONTROL DISTRITAL'!A1:Q1 -> INSTITUTO NACIONAL ELECTORAL SISTEMA DE GESTIÓN DE LA CALIDAD CIUDAD DE MÉXICO
D2: Distrito | E2: 1 | F2: Módulo | H2: 90151
A4: TABLERO DE CONTROL DE PROCESOS SUSTANTIVOS DEL SISTEMA DE GESTIÓN DE LA CALIDAD
A6: ='PANEL DE CONTROL DISTRITAL'!A6 -> Número | B6: ='PANEL DE CONTROL DISTRITAL'!B6 -> PROCESOS SUSTANTIVOS E INDICADORES | I6: SEMANA OPERATIVA | BP6: % AVANCE REGISTRADO
B7: ='PANEL DE CONTROL DISTRITAL'!B7 -> DESCRIPCIÓN | E7: ='PANEL DE CONTROL DISTRITAL'!E7 -> MEDICIÓN | I7: ='PANEL DE CONTROL DISTRITAL'!A5 -> CAMPAÑA ANUAL INTENSA 2024 CAMPAÑA ESPECIAL DE ACTUALIZACIÓN PARA EL PROCESO ELECTORAL EXTRAORDINARIO (CEAPEE) 2024-2025
B9: ='PANEL DE CONTROL DISTRITAL'!B8 -> Proceso | C9: ='PANEL DE CONTROL DISTRITAL'!C8 -> Dueño de Proceso | D9: ='PANEL DE CONTROL DISTRITAL'!D8 -> Indicador | E9: ='PANEL DE CONTROL DISTRITAL'!E8 -> Cálculo | F9: ='PANEL DE CONTROL DISTRITAL'!F8 -> Periodo | G9: ='PANEL DE CONTROL DISTRITAL'!G8 -> Estimado | H9: ='PANEL DE CONTROL DISTRITAL'!H8 -> Nominativo | I9: 2024-41 | J9: 2024-42 | K9: 2024-43 | L9: 2024-44 | M9: 2024-45 | N9: 2024-46 | O9: 2024-47 | P9: 2024-48 | Q9: 2024-49 | R9: 2024-50 | S9: 2024-51 | T9: 2024-52 | U9: 2024-53 | V9: 2024-54 | W9: 2024-55 | X9: 2024-56 | Y9: 2024-57 | Z9: 2024-58 | AA9: 2024-59 | AB9: 2025-01 | AC9: 2025-02 | AD9: 2025-03 | AE9: 2025-04 | AF9: 2025-05 | AG9: 2025-06 | AH9: 2025-07 | AI9: 2025-08 | AJ9: 2025-09 | AK9: 2025-10 | AL9: 2025-11 | AM9: 2025-12 | AN9: 2025-13 | AO9: 2025-14 | AP9: 2025-15 | AQ9: 2025-16 | AR9: 2025-17 | AS9: 2025-18 | AT9: 2025-19 | AU9: 2025-20 | AV9: 2025-21 | AW9: 2025-22 | AX9: 2025-23 | AY9: 2025-24 | AZ9: 2025-25 | BA9: 2025-26 | BB9: 2025-27 | BC9: 2025-28 | BD9: 2025-29 | BE9: 2025-30 | BF9: 2025-31 | BG9: 2025-32 | BH9: 2025-33 | BI9: 2025-34 | BJ9: 2025-35 | BK9: 2025-36 | BL9: 2025-37 | BM9: 2025-38 | BN9: 2025-39 | BO9: 2025-40
A10: ='PANEL DE CONTROL DISTRITAL'!A9 -> 1 | B10: ='PANEL DE CONTROL DISTRITAL'!B9 -> ENTREVISTA | C10: ='PANEL DE CONTROL DISTRITAL'!C9 -> Auxiliar de Atención Ciudadana | D10: ='PANEL DE CONTROL DISTRITAL'!D9 -> Fichas requisitadas correctamente= | E10: ='PANEL DE CONTROL DISTRITAL'!E9 -> (Fichas requisitadas correctamente / Fichas revisadas en la muestra del 10%) x 100 | F10: ='PANEL DE CONTROL DISTRITAL'!F9 -> Semanal (remesa) | G10: ='PANEL DE CONTROL DISTRITAL'!G9 -> 0.9 | H10: ='PANEL DE CONTROL DISTRITAL'!H9 -> Fichas requistadas correctamente | I10: 0 | J10: 86 | K10: 89 | L10: 53 | M10: 70 | N10: 70 | O10: 95 | P10: 93 | Q10: 88 | R10: 49 | S10: 96 | T10: 104 | U10: 78 | V10: 102 | W10: 101 | X10: 95 | Y10: 77 | Z10: 67 | AA10: 22 | AB10: 58 | AC10: 156 | AD10: 148 | AE10: 150 | AF10: 178 | AG10: 169 | AH10: 52 | AI10: 59 | AJ10: 69 | AK10: 58 | AL10: 4 | AM10: 33 | AN10: 40 | AO10: 37 | AP10: 42 | AQ10: 7 | AR10: 24 | AS10: 26 | AT10: 17 | AU10: 31 | AV10: 27 | AW10: 27 | AX10: 34 | AY10: 17 | AZ10: 0 | BA10: 0 | BB10: 0 | BC10: 47 | BD10: 102 | BE10: 105 | BF10: 97 | BG10: 91 | BH10: 89 | BI10: 85 | BJ10: 80 | BK10: 83 | BL10: 95 | BM10: 89 | BN10: 91 | BO10: 85 | BP10: =IFERROR(SUM(I10:BO10)/SUM(I11:BO11),0) -> 0.99629812
H11: ='PANEL DE CONTROL DISTRITAL'!H10 -> Fichas revisadas en la muestra del 10% | I11: 0 | J11: 87 | K11: 90 | L11: 55 | M11: 72 | N11: 71 | O11: 95 | P11: 93 | Q11: 88 | R11: 49 | S11: 96 | T11: 104 | U11: 78 | V11: 102 | W11: 101 | X11: 95 | Y11: 77 | Z11: 67 | AA11: 22 | AB11: 58 | AC11: 156 | AD11: 150 | AE11: 151 | AF11: 178 | AG11: 169 | AH11: 52 | AI11: 59 | AJ11: 69 | AK11: 58 | AL11: 4 | AM11: 33 | AN11: 41 | AO11: 37 | AP11: 42 | AQ11: 7 | AR11: 24 | AS11: 26 | AT11: 17 | AU11: 31 | AV11: 27 | AW11: 27 | AX11: 34 | AY11: 17 | AZ11: 0 | BA11: 0 | BB11: 0 | BC11: 49 | BD11: 103 | BE11: 105 | BF11: 97 | BG11: 91 | BH11: 89 | BI11: 85 | BJ11: 80 | BK11: 83 | BL11: 95 | BM11: 90 | BN11: 91 | BO11: 85
A13: ='PANEL DE CONTROL DISTRITAL'!A12 -> 2 | B13: ='PANEL DE CONTROL DISTRITAL'!B12 -> TRÁMITE | C13: ='PANEL DE CONTROL DISTRITAL'!C12 -> Operador de Equipo Tecnológico | D13: ='PANEL DE CONTROL DISTRITAL'!D12 -> Trámites exitosos efectivos= | E13: ='PANEL DE CONTROL DISTRITAL'!E12 -> (Número de trámites exitosos / Número de trámites aplicados) x 100 | F13: ='PANEL DE CONTROL DISTRITAL'!F12 -> Semanal (remesa) | G13: ='PANEL DE CONTROL DISTRITAL'!G12 -> 0.9 | H13: ='PANEL DE CONTROL DISTRITAL'!H12 -> Número de trámites exitosos | I13: 0 | J13: 856 | K13: 878 | L13: 527 | M13: 697 | N13: 693 | O13: 932 | P13: 918 | Q13: 860 | R13: 473 | S13: 947 | T13: 1017 | U13: 759 | V13: 999 | W13: 990 | X13: 937 | Y13: 759 | Z13: 661 | AA13: 212 | AB13: 570 | AC13: 1535 | AD13: 1470 | AE13: 1492 | AF13: 1763 | AG13: 1672 | AH13: 515 | AI13: 580 | AJ13: 681 | AK13: 677 | AL13: 37 | AM13: 325 | AN13: 398 | AO13: 362 | AP13: 405 | AQ13: 67 | AR13: 224 | AS13: 250 | AT13: 159 | AU13: 298 | AV13: 256 | AW13: 259 | AX13: 326 | AY13: 159 | AZ13: 0 | BA13: 0 | BB13: 0 | BC13: 478 | BD13: 1009 | BE13: 1033 | BF13: 960 | BG13: 897 | BH13: 876 | BI13: 839 | BJ13: 808 | BK13: 819 | BL13: 936 | BM13: 878 | BN13: 884 | BO13: 828 | BP13: =IFERROR(SUM(I13:BO13)/SUM(I14:BO14),0) -> 0.99777104
H14: ='PANEL DE CONTROL DISTRITAL'!H13 -> Número de trámites aplicados | I14: 0 | J14: 860 | K14: 881 | L14: 529 | M14: 698 | N14: 696 | O14: 933 | P14: 918 | Q14: 862 | R14: 475 | S14: 948 | T14: 1018 | U14: 759 | V14: 1003 | W14: 992 | X14: 938 | Y14: 760 | Z14: 663 | AA14: 213 | AB14: 571 | AC14: 1536 | AD14: 1474 | AE14: 1494 | AF14: 1768 | AG14: 1675 | AH14: 515 | AI14: 580 | AJ14: 683 | AK14: 677 | AL14: 37 | AM14: 325 | AN14: 398 | AO14: 362 | AP14: 405 | AQ14: 67 | AR14: 225 | AS14: 250 | AT14: 159 | AU14: 298 | AV14: 257 | AW14: 259 | AX14: 326 | AY14: 159 | AZ14: 0 | BA14: 0 | BB14: 0 | BC14: 479 | BD14: 1010 | BE14: 1036 | BF14: 961 | BG14: 901 | BH14: 880 | BI14: 842 | BJ14: 809 | BK14: 820 | BL14: 938 | BM14: 883 | BN14: 892 | BO14: 832
A16: ='PANEL DE CONTROL DISTRITAL'!A15 -> 3 | B16: ='PANEL DE CONTROL DISTRITAL'!B15 -> TRANSFERENCIA DE LA INFORMACIÓN | C16: ='PANEL DE CONTROL DISTRITAL'!C15 -> Responsable de Módulo | D16: ='PANEL DE CONTROL DISTRITAL'!D15 -> Reenvíos exitosos = | E16: ='PANEL DE CONTROL DISTRITAL'!E15 -> (Ejecución de los scripts de reenvío de notificaciones/Solicitud de reenvíos de scripts requeridos) x100 | F16: ='PANEL DE CONTROL DISTRITAL'!F15 -> Semanal (remesa) | G16: ='PANEL DE CONTROL DISTRITAL'!G15 -> 1 | H16: ='PANEL DE CONTROL DISTRITAL'!H15 -> Ejecución de los scripts de reenvío de notificaciones | I16: 0 | J16: 0 | K16: 0 | L16: 0 | M16: 0 | N16: 0 | O16: 0 | P16: 0 | Q16: 0 | R16: 0 | S16: 0 | T16: 0 | U16: 0 | V16: 0 | W16: 0 | X16: 0 | Y16: 0 | Z16: 0 | AA16: 0 | AB16: 0 | AC16: 0 | AD16: 0 | AE16: 0 | AF16: 0 | AG16: 0 | AH16: 0 | AI16: 0 | AJ16: 0 | AK16: 0 | AL16: 0 | AM16: 0 | AN16: 0 | AO16: 0 | AP16: 0 | AQ16: 0 | AR16: 0 | AS16: 0 | AT16: 0 | AU16: 0 | AV16: 0 | AW16: 0 | AX16: 0 | AY16: 0 | AZ16: 0 | BA16: 0 | BB16: 0 | BC16: 0 | BD16: 0 | BE16: 0 | BF16: 0 | BG16: 0 | BH16: 0 | BI16: 0 | BJ16: 0 | BK16: 0 | BL16: 0 | BM16: 0 | BN16: 0 | BO16: 0 | BP16: =IFERROR(SUM(I16:BO16)/SUM(I17:BO17),1) -> 1
H17: ='PANEL DE CONTROL DISTRITAL'!H16 -> Solicitud de reevíos de scripts requeridos | I17: 0 | J17: 0 | K17: 0 | L17: 0 | M17: 0 | N17: 0 | O17: 0 | P17: 0 | Q17: 0 | R17: 0 | S17: 0 | T17: 0 | U17: 0 | V17: 0 | W17: 0 | X17: 0 | Y17: 0 | Z17: 0 | AA17: 0 | AB17: 0 | AC17: 0 | AD17: 0 | AE17: 0 | AF17: 0 | AG17: 0 | AH17: 0 | AI17: 0 | AJ17: 0 | AK17: 0 | AL17: 0 | AM17: 0 | AN17: 0 | AO17: 0 | AP17: 0 | AQ17: 0 | AR17: 0 | AS17: 0 | AT17: 0 | AU17: 0 | AV17: 0 | AW17: 0 | AX17: 0 | AY17: 0 | AZ17: 0 | BA17: 0 | BB17: 0 | BC17: 0 | BD17: 0 | BE17: 0 | BF17: 0 | BG17: 0 | BH17: 0 | BI17: 0 | BJ17: 0 | BK17: 0 | BL17: 0 | BM17: 0 | BN17: 0 | BO17: 0
A19: ='PANEL DE CONTROL DISTRITAL'!A18 -> 4 | B19: ='PANEL DE CONTROL DISTRITAL'!B18 -> CONCILIACIÓN DE CREDENCIALES PARA VOTAR | C19: ='PANEL DE CONTROL DISTRITAL'!C18 -> Responsable de Módulo | D19: ='PANEL DE CONTROL DISTRITAL'!D18 -> Credenciales disponibles para entrega = | E19: ='PANEL DE CONTROL DISTRITAL'!E18 -> [(Credenciales recibidas - credenciales inconsistentes) / Credenciales recibidas] x 100 | F19: ='PANEL DE CONTROL DISTRITAL'!F18 -> Semanal (remesa) | G19: ='PANEL DE CONTROL DISTRITAL'!G18 -> 0.9 | H19: ='PANEL DE CONTROL DISTRITAL'!H18 -> Credenciales Recibidas - Credenciales inconsistentes | I19: 0 | J19: 781 | K19: 921 | L19: 464 | M19: 839 | N19: 589 | O19: 730 | P19: 1103 | Q19: 915 | R19: 511 | S19: 763 | T19: 1064 | U19: 963 | V19: 957 | W19: 836 | X19: 970 | Y19: 980 | Z19: 496 | AA19: 0 | AB19: 564 | AC19: 965 | AD19: 1845 | AE19: 1172 | AF19: 1353 | AG19: 1174 | AH19: 440 | AI19: 1894 | AJ19: 1112 | AK19: 725 | AL19: 0 | AM19: 526 | AN19: 351 | AO19: 350 | AP19: 325 | AQ19: 42 | AR19: 398 | AS19: 276 | AT19: 165 | AU19: 266 | AV19: 240 | AW19: 290 | AX19: 298 | AY19: 113 | AZ19: 194 | BA19: 0 | BB19: 0 | BC19: 231 | BD19: 608 | BE19: 1363 | BF19: 987 | BG19: 739 | BH19: 873 | BI19: 847 | BJ19: 989 | BK19: 651 | BL19: 755 | BM19: 1073 | BN19: 871 | BO19: 862 | BP19: =IFERROR(SUM(I19:BO19)/SUM(I20:BO20),0) -> 0.99994976
H20: ='PANEL DE CONTROL DISTRITAL'!H19 -> Credenciales recibidas | I20: 0 | J20: 781 | K20: 921 | L20: 464 | M20: 839 | N20: 589 | O20: 730 | P20: 1103 | Q20: 915 | R20: 511 | S20: 763 | T20: 1064 | U20: 963 | V20: 957 | W20: 836 | X20: 970 | Y20: 980 | Z20: 496 | AA20: 0 | AB20: 564 | AC20: 965 | AD20: 1845 | AE20: 1172 | AF20: 1353 | AG20: 1174 | AH20: 440 | AI20: 1894 | AJ20: 1112 | AK20: 725 | AL20: 0 | AM20: 526 | AN20: 351 | AO20: 350 | AP20: 325 | AQ20: 42 | AR20: 398 | AS20: 276 | AT20: 165 | AU20: 266 | AV20: 240 | AW20: 290 | AX20: 298 | AY20: 113 | AZ20: 194 | BA20: 0 | BB20: 0 | BC20: 231 | BD20: 608 | BE20: 1363 | BF20: 987 | BG20: 739 | BH20: 873 | BI20: 847 | BJ20: 989 | BK20: 652 | BL20: 755 | BM20: 1074 | BN20: 871 | BO20: 862
A22: ='PANEL DE CONTROL DISTRITAL'!A21 -> 5 | B22: ='PANEL DE CONTROL DISTRITAL'!B21 -> CONCILIACIÓN DE CREDENCIALES PARA VOTAR | C22: ='PANEL DE CONTROL DISTRITAL'!C21 -> Responsable de Módulo | D22: ='PANEL DE CONTROL DISTRITAL'!D21 -> Arqueo de Credenciales = | E22: ='PANEL DE CONTROL DISTRITAL'!E21 -> (Credenciales disponibles (físicas)/ Credenciales disponibles registradas en SIIRFE) x 100 | F22: ='PANEL DE CONTROL DISTRITAL'!F21 -> Semanal (remesa) | G22: ='PANEL DE CONTROL DISTRITAL'!G21 -> 1 | H22: ='PANEL DE CONTROL DISTRITAL'!H21 -> Credenciales disponibles (físicas) | I22: 1221 | J22: 1261 | K22: 1356 | L22: 1061 | M22: 1262 | N22: 1139 | O22: 1231 | P22: 1448 | Q22: 1530 | R22: 1599 | S22: 1282 | T22: 1645 | U22: 1661 | V22: 1730 | W22: 1699 | X22: 1653 | Y22: 1680 | Z22: 1371 | AA22: 1150 | AB22: 1360 | AC22: 1422 | AD22: 2101 | AE22: 1720 | AF22: 1539 | AG22: 1342 | AH22: 1772 | AI22: 2171 | AJ22: 1616 | AK22: 1612 | AL22: 1458 | AM22: 1170 | AN22: 930 | AO22: 809 | AP22: 641 | AQ22: 321 | AR22: 445 | AS22: 488 | AT22: 523 | AU22: 453 | AV22: 512 | AW22: 538 | AX22: 526 | AY22: 513 | AZ22: 414 | BA22: 0 | BB22: 0 | BC22: 619 | BD22: 968 | BE22: 1611 | BF22: 1663 | BG22: 1442 | BH22: 1427 | BI22: 1405 | BJ22: 1520 | BK22: 1312 | BL22: 1229 | BM22: 1457 | BN22: 1439 | BO22: 1385 | BP22: =IFERROR(SUM(I22:BO22)/SUM(I23:BO23),0) -> 1
H23: ='PANEL DE CONTROL DISTRITAL'!H22 -> Credenciales disponibles registradas en SIIRFE | I23: 1221 | J23: 1261 | K23: 1356 | L23: 1061 | M23: 1262 | N23: 1139 | O23: 1231 | P23: 1448 | Q23: 1530 | R23: 1599 | S23: 1282 | T23: 1645 | U23: 1661 | V23: 1730 | W23: 1699 | X23: 1653 | Y23: 1680 | Z23: 1371 | AA23: 1150 | AB23: 1360 | AC23: 1422 | AD23: 2101 | AE23: 1720 | AF23: 1539 | AG23: 1342 | AH23: 1772 | AI23: 2171 | AJ23: 1616 | AK23: 1612 | AL23: 1458 | AM23: 1170 | AN23: 930 | AO23: 809 | AP23: 641 | AQ23: 321 | AR23: 445 | AS23: 488 | AT23: 523 | AU23: 453 | AV23: 512 | AW23: 538 | AX23: 526 | AY23: 513 | AZ23: 414 | BA23: 0 | BB23: 0 | BC23: 619 | BD23: 968 | BE23: 1611 | BF23: 1663 | BG23: 1442 | BH23: 1427 | BI23: 1405 | BJ23: 1520 | BK23: 1312 | BL23: 1229 | BM23: 1457 | BN23: 1439 | BO23: 1385
A25: ='PANEL DE CONTROL DISTRITAL'!A24 -> 6 | B25: ='PANEL DE CONTROL DISTRITAL'!B24 -> ENTREGA DE LA CREDENCIAL PARA VOTAR | C25: ='PANEL DE CONTROL DISTRITAL'!C24 -> Operador de Equipo Tecnológico | D25: ='PANEL DE CONTROL DISTRITAL'!D24 -> Efectividad de entrega de CPV en MAC = | E25: ='PANEL DE CONTROL DISTRITAL'!E24 -> (Total de credenciales entregadas / Total de ciudadanas y ciudadanos que acuden al MAC a recoger su credencial) x 100 | F25: ='PANEL DE CONTROL DISTRITAL'!F24 -> Semanal (remesa) | G25: ='PANEL DE CONTROL DISTRITAL'!G24 -> 0.9 | H25: ='PANEL DE CONTROL DISTRITAL'!H24 -> Total de credenciales entregadas | I25: 0 | J25: 741 | K25: 819 | L25: 759 | M25: 638 | N25: 712 | O25: 638 | P25: 875 | Q25: 833 | R25: 442 | S25: 1080 | T25: 701 | U25: 947 | V25: 881 | W25: 867 | X25: 1016 | Y25: 953 | Z25: 796 | AA25: 221 | AB25: 354 | AC25: 893 | AD25: 1166 | AE25: 1553 | AF25: 1534 | AG25: 1364 | AH25: 10 | AI25: 1495 | AJ25: 1667 | AK25: 705 | AL25: 154 | AM25: 814 | AN25: 591 | AO25: 471 | AP25: 482 | AQ25: 107 | AR25: 274 | AS25: 233 | AT25: 130 | AU25: 336 | AV25: 181 | AW25: 264 | AX25: 310 | AY25: 126 | AZ25: 293 | BA25: 0 | BB25: 0 | BC25: 25 | BD25: 259 | BE25: 720 | BF25: 935 | BG25: 960 | BH25: 844 | BI25: 869 | BJ25: 874 | BK25: 859 | BL25: 838 | BM25: 839 | BN25: 889 | BO25: 916 | BP25: =IFERROR(SUM(I25:BO25)/SUM(I26:BO26),0) -> 0.99949074
H26: ='PANEL DE CONTROL DISTRITAL'!H25 -> Total de ciudadanas y ciudadanos que acuden al MAC a recoger su credencial | I26: 0 | J26: 741 | K26: 819 | L26: 759 | M26: 638 | N26: 712 | O26: 641 | P26: 876 | Q26: 834 | R26: 442 | S26: 1081 | T26: 701 | U26: 948 | V26: 881 | W26: 867 | X26: 1016 | Y26: 953 | Z26: 796 | AA26: 221 | AB26: 355 | AC26: 895 | AD26: 1167 | AE26: 1553 | AF26: 1534 | AG26: 1364 | AH26: 10 | AI26: 1495 | AJ26: 1667 | AK26: 705 | AL26: 154 | AM26: 814 | AN26: 592 | AO26: 471 | AP26: 482 | AQ26: 107 | AR26: 274 | AS26: 233 | AT26: 131 | AU26: 336 | AV26: 181 | AW26: 264 | AX26: 310 | AY26: 126 | AZ26: 293 | BA26: 0 | BB26: 0 | BC26: 25 | BD26: 259 | BE26: 721 | BF26: 936 | BG26: 962 | BH26: 844 | BI26: 869 | BJ26: 874 | BK26: 860 | BL26: 839 | BM26: 839 | BN26: 889 | BO26: 917
B27: *Registre el valor nominal solicitado en la celda, el resultado proporcional esta automatizado.
I29: Semaforización
J30: Valor que requiere atención y justificación en el apartado de observaciones
J31: Valor suficiente
J32: Valor esperado
B34: CUADRO DE OBSERVACIONES
B35: Descripción | H35: No conformidad

Sheet 090251
A1: ='PANEL DE CONTROL DISTRITAL'!A1:Q1 -> INSTITUTO NACIONAL ELECTORAL SISTEMA DE GESTIÓN DE LA CALIDAD CIUDAD DE MÉXICO
D2: Distrito | E2: 2 | F2: Módulo | H2: 90251
A4: TABLERO DE CONTROL DE PROCESOS SUSTANTIVOS DEL SISTEMA DE GESTIÓN DE LA CALIDAD
A6: ='PANEL DE CONTROL DISTRITAL'!A6 -> Número | B6: ='PANEL DE CONTROL DISTRITAL'!B6 -> PROCESOS SUSTANTIVOS E INDICADORES | I6: SEMANA OPERATIVA | BP6: % AVANCE REGISTRADO
B7: ='PANEL DE CONTROL DISTRITAL'!B7 -> DESCRIPCIÓN | E7: ='PANEL DE CONTROL DISTRITAL'!E7 -> MEDICIÓN | I7: ='PANEL DE CONTROL DISTRITAL'!A5 -> CAMPAÑA ANUAL INTENSA 2024 CAMPAÑA ESPECIAL DE ACTUALIZACIÓN PARA EL PROCESO ELECTORAL EXTRAORDINARIO (CEAPEE) 2024-2025
B9: ='PANEL DE CONTROL DISTRITAL'!B8 -> Proceso | C9: ='PANEL DE CONTROL DISTRITAL'!C8 -> Dueño de Proceso | D9: ='PANEL DE CONTROL DISTRITAL'!D8 -> Indicador | E9: ='PANEL DE CONTROL DISTRITAL'!E8 -> Cálculo | F9: ='PANEL DE CONTROL DISTRITAL'!F8 -> Periodo | G9: ='PANEL DE CONTROL DISTRITAL'!G8 -> Estimado | H9: ='PANEL DE CONTROL DISTRITAL'!H8 -> Nominativo | I9: ='090151'!I9 -> 2024-41 | J9: ='090151'!J9 -> 2024-42 | K9: ='090151'!K9 -> 2024-43 | L9: ='090151'!L9 -> 2024-44 | M9: ='090151'!M9 -> 2024-45 | N9: ='090151'!N9 -> 2024-46 | O9: ='090151'!O9 -> 2024-47 | P9: ='090151'!P9 -> 2024-48 | ... BO9: ='090151'!BO9 -> 2025-40
A10: ='PANEL DE CONTROL DISTRITAL'!A9 -> 1 | B10: ='PANEL DE CONTROL DISTRITAL'!B9 -> ENTREVISTA | C10: ='PANEL DE CONTROL DISTRITAL'!C9 -> Auxiliar de Atención Ciudadana | D10: ='PANEL DE CONTROL DISTRITAL'!D9 -> Fichas requisitadas correctamente= | E10: ='PANEL DE CONTROL DISTRITAL'!E9 -> (Fichas requisitadas correctamente / Fichas revisadas en la muestra del 10%) x 100 | F10: ='PANEL DE CONTROL DISTRITAL'!F9 -> Semanal (remesa) | G10: ='PANEL DE CONTROL DISTRITAL'!G9 -> 0.9 | H10: ='PANEL DE CONTROL DISTRITAL'!H9 -> Fichas requistadas correctamente | I10: 0 | J10: 187 | K10: 183 | L10: 116 | M10: 179 | N10: 158 | O10: 200 | P10: 197 | Q10: 171 | R10: 157 | S10: 191 | T10: 186 | U10: 159 | V10: 207 | W10: 210 | X10: 179 | Y10: 164 | Z10: 108 | AA10: 40 | AB10: 109 | AC10: 302 | AD10: 315 | AE10: 322 | AF10: 365 | AG10: 347 | AH10: 102 | AI10: 97 | AJ10: 134 | AK10: 157 | AL10: 5 | AM10: 57 | AN10: 72 | AO10: 69 | AP10: 85 | AQ10: 18 | AR10: 56 | AS10: 77 | AT10: 52 | AU10: 81 | AV10: 60 | AW10: 73 | AX10: 88 | AY10: 49 | AZ10: 0 | BA10: 0 | BB10: 0 | BC10: 30 | BD10: 191 | BE10: 262 | BF10: 213 | BG10: 234 | BH10: 227 | BI10: 197 | BJ10: 198 | BK10: 219 | BL10: 217 | BM10: 205 | BN10: 203 | BO10: 192 | BP10: =IFERROR(SUM(I10:BO10)/SUM(I11:BO11),0) -> 0.96088643
H11: ='PANEL DE CONTROL DISTRITAL'!H10 -> Fichas revisadas en la muestra del 10% | I11: 0 | J11: 189 | K11: 186 | L11: 117 | M11: 180 | N11: 160 | O11: 203 | P11: 198 | Q11: 185 | R11: 172 | S11: 205 | T11: 194 | U11: 168 | V11: 213 | W11: 212 | X11: 179 | Y11: 177 | Z11: 120 | AA11: 40 | AB11: 114 | AC11: 309 | AD11: 327 | AE11: 333 | AF11: 380 | AG11: 357 | AH11: 106 | AI11: 102 | AJ11: 134 | AK11: 157 | AL11: 5 | AM11: 57 | AN11: 72 | AO11: 69 | AP11: 85 | AQ11: 18 | AR11: 56 | AS11: 77 | AT11: 52 | AU11: 81 | AV11: 60 | AW11: 73 | AX11: 88 | AY11: 50 | AZ11: 0 | BA11: 0 | BB11: 0 | BC11: 30 | BD11: 195 | BE11: 262 | BF11: 240 | BG11: 244 | BH11: 243 | BI11: 217 | BJ11: 228 | BK11: 230 | BL11: 236 | BM11: 217 | BN11: 215 | BO11: 208
A13: ='PANEL DE CONTROL DISTRITAL'!A12 -> 2 | B13: ='PANEL DE CONTROL DISTRITAL'!B12 -> TRÁMITE | C13: ='PANEL DE CONTROL DISTRITAL'!C12 -> Operador de Equipo Tecnológico | D13: ='PANEL DE CONTROL DISTRITAL'!D12 -> Trámites exitosos efectivos= | E13: ='PANEL DE CONTROL DISTRITAL'!E12 -> (Número de trámites exitosos / Número de trámites aplicados) x 100 | F13: ='PANEL DE CONTROL DISTRITAL'!F12 -> Semanal (remesa) | G13: ='PANEL DE CONTROL DISTRITAL'!G12 -> 0.9 | H13: ='PANEL DE CONTROL DISTRITAL'!H12 -> Número de trámites exitosos | I13: 0 | J13: 1878 | K13: 1863 | L13: 1167 | M13: 1777 | N13: 1592 | O13: 2021 | P13: 1970 | Q13: 1849 | R13: 1714 | S13: 2043 | T13: 1931 | U13: 1678 | V13: 2134 | W13: 2112 | X13: 1773 | Y13: 1761 | Z13: 1201 | AA13: 403 | AB13: 1140 | AC13: 3087 | AD13: 3261 | AE13: 3324 | AF13: 3791 | AG13: 3555 | AH13: 1058 | AI13: 1024 | AJ13: 1340 | AK13: 1566 | AL13: 25 | AM13: 572 | AN13: 719 | AO13: 685 | AP13: 851 | AQ13: 180 | AR13: 563 | AS13: 772 | AT13: 524 | AU13: 810 | AV13: 602 | AW13: 734 | AX13: 876 | AY13: 500 | AZ13: 0 | BA13: 0 | BB13: 0 | BC13: 294 | BD13: 1947 | BE13: 2615 | BF13: 2397 | BG13: 2432 | BH13: 2426 | BI13: 2165 | BJ13: 2270 | BK13: 2294 | BL13: 2352 | BM13: 2163 | BN13: 2133 | BO13: 2073 | BP13: =IFERROR(SUM(I13:BO13)/SUM(I14:BO14),0) -> 0.99736215
H14: ='PANEL DE CONTROL DISTRITAL'!H13 -> Número de trámites aplicados | I14: 0 | J14: 1885 | K14: 1868 | L14: 1169 | M14: 1782 | N14: 1592 | O14: 2026 | P14: 1978 | Q14: 1852 | R14: 1720 | S14: 2050 | T14: 1944 | U14: 1682 | V14: 2139 | W14: 2118 | X14: 1778 | Y14: 1764 | Z14: 1203 | AA14: 403 | AB14: 1141 | AC14: 3090 | AD14: 3267 | AE14: 3327 | AF14: 3803 | AG14: 3565 | AH14: 1059 | AI14: 1026 | AJ14: 1342 | AK14: 1569 | AL14: 25 | AM14: 573 | AN14: 719 | AO14: 685 | AP14: 852 | AQ14: 180 | AR14: 564 | AS14: 773 | AT14: 524 | AU14: 810 | AV14: 602 | AW14: 734 | AX14: 876 | AY14: 500 | AZ14: 0 | BA14: 0 | BB14: 0 | BC14: 295 | BD14: 1950 | BE14: 2621 | BF14: 2404 | BG14: 2439 | BH14: 2431 | BI14: 2174 | BJ14: 2282 | BK14: 2300 | BL14: 2366 | BM14: 2172 | BN14: 2147 | BO14: 2085
A16: ='PANEL DE CONTROL DISTRITAL'!A15 -> 3 | B16: ='PANEL DE CONTROL DISTRITAL'!B15 -> TRANSFERENCIA DE LA INFORMACIÓN | C16: ='PANEL DE CONTROL DISTRITAL'!C15 -> Responsable de Módulo | D16: ='PANEL DE CONTROL DISTRITAL'!D15 -> Reenvíos exitosos = | E16: ='PANEL DE CONTROL DISTRITAL'!E15 -> (Ejecución de los scripts de reenvío de notificaciones/Solicitud de reenvíos de scripts requeridos) x100 | F16: ='PANEL DE CONTROL DISTRITAL'!F15 -> Semanal (remesa) | G16: ='PANEL DE CONTROL DISTRITAL'!G15 -> 1 | H16: ='PANEL DE CONTROL DISTRITAL'!H15 -> Ejecución de los scripts de reenvío de notificaciones | I16: 0 | J16: 0 | K16: 0 | L16: 0 | M16: 1 | N16: 0 | O16: 0 | P16: 0 | Q16: 0 | R16: 0 | S16: 0 | T16: 0 | U16: 0 | V16: 0 | W16: 0 | X16: 0 | Y16: 0 | Z16: 0 | AA16: 0 | AB16: 0 | AC16: 0 | AD16: 0 | AE16: 0 | AF16: 1 | AG16: 0 | AH16: 0 | AI16: 0 | AJ16: 0 | AK16: 0 | AL16: 0 | AM16: 0 | AN16: 0 | AO16: 0 | AP16: 0 | AQ16: 0 | AR16: 0 | AS16: 0 | AT16: 0 | AU16: 0 | AV16: 0 | AW16: 0 | AX16: 0 | AY16: 0 | AZ16: 0 | BA16: 0 | BB16: 0 | BC16: 0 | BD16: 0 | BE16: 0 | BF16: 0 | BG16: 0 | BH16: 0 | BI16: 0 | BJ16: 0 | BK16: 0 | BL16: 0 | BM16: 0 | BN16: 0 | BO16: 0 | BP16: =IFERROR(SUM(I16:BO16)/SUM(I17:BO17),1) -> 1
H17: ='PANEL DE CONTROL DISTRITAL'!H16 -> Solicitud de reevíos de scripts requeridos | I17: 0 | J17: 0 | K17: 0 | L17: 0 | M17: 1 | N17: 0 | O17: 0 | P17: 0 | Q17: 0 | R17: 0 | S17: 0 | T17: 0 | U17: 0 | V17: 0 | W17: 0 | X17: 0 | Y17: 0 | Z17: 0 | AA17: 0 | AB17: 0 | AC17: 0 | AD17: 0 | AE17: 0 | AF17: 1 | AG17: 0 | AH17: 0 | AI17: 0 | AJ17: 0 | AK17: 0 | AL17: 0 | AM17: 0 | AN17: 0 | AO17: 0 | AP17: 0 | AQ17: 0 | AR17: 0 | AS17: 0 | AT17: 0 | AU17: 0 | AV17: 0 | AW17: 0 | AX17: 0 | AY17: 0 | AZ17: 0 | BA17: 0 | BB17: 0 | BC17: 0 | BD17: 0 | BE17: 0 | BF17: 0 | BG17: 0 | BH17: 0 | BI17: 0 | BJ17: 0 | BK17: 0 | BL17: 0 | BM17: 0 | BN17: 0 | BO17: 0
A19: ='PANEL DE CONTROL DISTRITAL'!A18 -> 4 | B19: ='PANEL DE CONTROL DISTRITAL'!B18 -> CONCILIACIÓN DE CREDENCIALES PARA VOTAR | C19: ='PANEL DE CONTROL DISTRITAL'!C18 -> Responsable de Módulo | D19: ='PANEL DE CONTROL DISTRITAL'!D18 -> Credenciales disponibles para entrega = | E19: ='PANEL DE CONTROL DISTRITAL'!E18 -> [(Credenciales recibidas - credenciales inconsistentes) / Credenciales recibidas] x 100 | F19: ='PANEL DE CONTROL DISTRITAL'!F18 -> Semanal (remesa) | G19: ='PANEL DE CONTROL DISTRITAL'!G18 -> 0.9 | H19: ='PANEL DE CONTROL DISTRITAL'!H18 -> Credenciales Recibidas - Credenciales inconsistentes | I19: 0 | J19: 1923 | K19: 1937 | L19: 963 | M19: 1987 | N19: 1443 | O19: 1628 | P19: 2342 | Q19: 1939 | R19: 1882 | S19: 1879 | T19: 1896 | U19: 1664 | V19: 2072 | W19: 1743 | X19: 2356 | Y19: 1682 | Z19: 1107 | AA19: 355 | AB19: 921 | AC19: 1981 | AD19: 3749 | AE19: 2638 | AF19: 2938 | AG19: 2687 | AH19: 0 | AI19: 4141 | AJ19: 2925 | AK19: 1432 | AL19: 0 | AM19: 1004 | AN19: 668 | AO19: 618 | AP19: 646 | AQ19: 117 | AR19: 940 | AS19: 728 | AT19: 510 | AU19: 845 | AV19: 578 | AW19: 724 | AX19: 847 | AY19: 315 | AZ19: 588 | BA19: 1 | BB19: 0 | BC19: 202 | BD19: 913 | BE19: 2511 | BF19: 2547 | BG19: 2393 | BH19: 2457 | BI19: 2271 | BJ19: 2227 | BK19: 2297 | BL19: 1897 | BM19: 2660 | BN19: 2181 | BO19: 2066 | BP19: =IFERROR(SUM(I19:BO19)/SUM(I20:BO20),0) -> 0.99998888
H20: ='PANEL DE CONTROL DISTRITAL'!H19 -> Credenciales recibidas | I20: 0 | J20: 1923 | K20: 1937 | L20: 963 | M20: 1987 | N20: 1443 | O20: 1628 | P20: 2342 | Q20: 1939 | R20: 1882 | S20: 1879 | T20: 1896 | U20: 1664 | V20: 2072 | W20: 1743 | X20: 2356 | Y20: 1682 | Z20: 1107 | AA20: 355 | AB20: 921 | AC20: 1981 | AD20: 3749 | AE20: 2639 | AF20: 2938 | AG20: 2687 | AH20: 0 | AI20: 4141 | AJ20: 2925 | AK20: 1432 | AL20: 0 | AM20: 1004 | AN20: 668 | AO20: 618 | AP20: 646 | AQ20: 117 | AR20: 940 | AS20: 728 | AT20: 510 | AU20: 845 | AV20: 578 | AW20: 724 | AX20: 847 | AY20: 315 | AZ20: 588 | BA20: 1 | BB20: 0 | BC20: 202 | BD20: 913 | BE20: 2511 | BF20: 2547 | BG20: 2393 | BH20: 2457 | BI20: 2271 | BJ20: 2227 | BK20: 2297 | BL20: 1897 | BM20: 2660 | BN20: 2181 | BO20: 2066
A22: ='PANEL DE CONTROL DISTRITAL'!A21 -> 5 | B22: ='PANEL DE CONTROL DISTRITAL'!B21 -> CONCILIACIÓN DE CREDENCIALES PARA VOTAR | C22: ='PANEL DE CONTROL DISTRITAL'!C21 -> Responsable de Módulo | D22: ='PANEL DE CONTROL DISTRITAL'!D21 -> Arqueo de Credenciales = | E22: ='PANEL DE CONTROL DISTRITAL'!E21 -> (Credenciales disponibles (físicas)/ Credenciales disponibles registradas en SIIRFE) x 100 | F22: ='PANEL DE CONTROL DISTRITAL'!F21 -> Semanal (remesa) | G22: ='PANEL DE CONTROL DISTRITAL'!G21 -> 1 | H22: ='PANEL DE CONTROL DISTRITAL'!H21 -> Credenciales disponibles (físicas) | I22: 0 | J22: 3554 | K22: 3463 | L22: 2769 | M22: 3291 | N22: 3166 | O22: 2738 | P22: 3552 | Q22: 3581 | R22: 3564 | S22: 3529 | T22: 3239 | U22: 3285 | V22: 3369 | W22: 3034 | X22: 4205 | Y22: 3723 | Z22: 3911 | AA22: 3805 | AB22: 4176 | AC22: 4387 | AD22: 5279 | AE22: 4644 | AF22: 4195 | AG22: 3678 | AH22: 3499 | AI22: 6519 | AJ22: 6151 | AK22: 4356 | AL22: 4063 | AM22: 2797 | AN22: 1805 | AO22: 1484 | AP22: 1140 | AQ22: 1081 | AR22: 783 | AS22: 772 | AT22: 782 | AU22: 908 | AV22: 763 | AW22: 935 | AX22: 853 | AY22: 819 | AZ22: 703 | BA22: 288 | BB22: 0 | BC22: 960 | BD22: 1747 | BE22: 3202 | BF22: 3754 | BG22: 3697 | BH22: 3840 | BI22: 3765 | BJ22: 3777 | BK22: 3912 | BL22: 3556 | BM22: 3918 | BN22: 3899 | BO22: 3776 | BP22: =IFERROR(SUM(I22:BO22)/SUM(I23:BO23),0) -> 1
H23: ='PANEL DE CONTROL DISTRITAL'!H22 -> Credenciales disponibles registradas en SIIRFE | I23: 0 | J23: 3554 | K23: 3463 | L23: 2769 | M23: 3291 | N23: 3166 | O23: 2738 | P23: 3552 | Q23: 3581 | R23: 3564 | S23: 3529 | T23: 3239 | U23: 3285 | V23: 3369 | W23: 3034 | X23: 4205 | Y23: 3723 | Z23: 3911 | AA23: 3805 | AB23: 4176 | AC23: 4387 | AD23: 5279 | AE23: 4644 | AF23: 4195 | AG23: 3678 | AH23: 3499 | AI23: 6519 | AJ23: 6151 | AK23: 4356 | AL23: 4063 | AM23: 2797 | AN23: 1805 | AO23: 1484 | AP23: 1140 | AQ23: 1081 | AR23: 783 | AS23: 772 | AT23: 782 | AU23: 908 | AV23: 763 | AW23: 935 | AX23: 853 | AY23: 819 | AZ23: 703 | BA23: 288 | BB23: 0 | BC23: 960 | BD23: 1747 | BE23: 3202 | BF23: 3754 | BG23: 3697 | BH23: 3840 | BI23: 3765 | BJ23: 3777 | BK23: 3912 | BL23: 3556 | BM23: 3918 | BN23: 3899 | BO23: 3776
A25: ='PANEL DE CONTROL DISTRITAL'!A24 -> 6 | B25: ='PANEL DE CONTROL DISTRITAL'!B24 -> ENTREGA DE LA CREDENCIAL PARA VOTAR | C25: ='PANEL DE CONTROL DISTRITAL'!C24 -> Operador de Equipo Tecnológico | D25: ='PANEL DE CONTROL DISTRITAL'!D24 -> Efectividad de entrega de CPV en MAC = | E25: ='PANEL DE CONTROL DISTRITAL'!E24 -> (Total de credenciales entregadas / Total de ciudadanas y ciudadanos que acuden al MAC a recoger su credencial) x 100 | F25: ='PANEL DE CONTROL DISTRITAL'!F24 -> Semanal (remesa) | G25: ='PANEL DE CONTROL DISTRITAL'!G24 -> 0.9 | H25: ='PANEL DE CONTROL DISTRITAL'!H24 -> Total de credenciales entregadas | I25: 0 | J25: 1885 | K25: 2018 | L25: 1657 | M25: 1464 | N25: 1568 | O25: 2056 | P25: 1517 | Q25: 1910 | R25: 1899 | S25: 1914 | T25: 2186 | U25: 1618 | V25: 1975 | W25: 2078 | X25: 1185 | Y25: 2164 | Z25: 908 | AA25: 461 | AB25: 550 | AC25: 1770 | AD25: 2856 | AE25: 3273 | AF25: 3387 | AG25: 3182 | AH25: 179 | AI25: 1121 | AJ25: 3293 | AK25: 3117 | AL25: 293 | AM25: 2270 | AN25: 1660 | AO25: 939 | AP25: 974 | AQ25: 176 | AR25: 599 | AS25: 739 | AT25: 500 | AU25: 719 | AV25: 723 | AW25: 552 | AX25: 929 | AY25: 349 | AZ25: 704 | BA25: 416 | BB25: 0 | BC25: 64 | BD25: 126 | BE25: 1056 | BF25: 1995 | BG25: 2450 | BH25: 2259 | BI25: 2346 | BJ25: 2215 | BK25: 2162 | BL25: 2253 | BM25: 2274 | BN25: 2200 | BO25: 2189 | BP25: =IFERROR(SUM(I25:BO25)/SUM(I26:BO26),0) -> 0.99648583
H26: ='PANEL DE CONTROL DISTRITAL'!H25 -> Total de ciudadanas y ciudadanos que acuden al MAC a recoger su credencial | I26: 0 | J26: 1891 | K26: 2023 | L26: 1666 | M26: 1500 | N26: 1575 | O26: 2060 | P26: 1531 | Q26: 1979 | R26: 1910 | S26: 1921 | T26: 2194 | U26: 1627 | V26: 1979 | W26: 2081 | X26: 1189 | Y26: 2165 | Z26: 914 | AA26: 461 | AB26: 550 | AC26: 1773 | AD26: 2859 | AE26: 3277 | AF26: 3394 | AG26: 3190 | AH26: 179 | AI26: 1123 | AJ26: 3293 | AK26: 3117 | AL26: 293 | AM26: 2271 | AN26: 1660 | AO26: 940 | AP26: 974 | AQ26: 176 | AR26: 599 | AS26: 739 | AT26: 500 | AU26: 719 | AV26: 723 | AW26: 552 | AX26: 929 | AY26: 349 | AZ26: 704 | BA26: 416 | BB26: 0 | BC26: 65 | BD26: 126 | BE26: 1060 | BF26: 2004 | BG26: 2453 | BH26: 2267 | BI26: 2358 | BJ26: 2228 | BK26: 2169 | BL26: 2263 | BM26: 2279 | BN26: 2204 | BO26: 2196
B27: *Registre el valor nominal solicitado en la celda, el resultado proporcional esta automatizado.
I29: Semaforización
J30: Valor que requiere atención y justificación en el apartado de observaciones
J31: Valor suficiente
J32: Valor esperado
B34: CUADRO DE OBSERVACIONES
B35: Descripción | H35: No conformidad

Sheet 090351
A1: ='PANEL DE CONTROL DISTRITAL'!A1:Q1 -> INSTITUTO NACIONAL ELECTORAL SISTEMA DE GESTIÓN DE LA CALIDAD CIUDAD DE MÉXICO
D2: Distrito | E2: 3 | F2: Módulo | H2: 90351
A4: TABLERO DE CONTROL DE PROCESOS SUSTANTIVOS DEL SISTEMA DE GESTIÓN DE LA CALIDAD
A6: ='PANEL DE CONTROL DISTRITAL'!A6 -> Número | B6: ='PANEL DE CONTROL DISTRITAL'!B6 -> PROCESOS SUSTANTIVOS E INDICADORES | I6: SEMANA OPERATIVA | BP6: % AVANCE REGISTRADO
B7: ='PANEL DE CONTROL DISTRITAL'!B7 -> DESCRIPCIÓN | E7: ='PANEL DE CONTROL DISTRITAL'!E7 -> MEDICIÓN | I7: ='PANEL DE CONTROL DISTRITAL'!A5 -> CAMPAÑA ANUAL INTENSA 2024 CAMPAÑA ESPECIAL DE ACTUALIZACIÓN PARA EL PROCESO ELECTORAL EXTRAORDINARIO (CEAPEE) 2024-2025
B9: ='PANEL DE CONTROL DISTRITAL'!B8 -> Proceso | C9: ='PANEL DE CONTROL DISTRITAL'!C8 -> Dueño de Proceso | D9: ='PANEL DE CONTROL DISTRITAL'!D8 -> Indicador | E9: ='PANEL DE CONTROL DISTRITAL'!E8 -> Cálculo | F9: ='PANEL DE CONTROL DISTRITAL'!F8 -> Periodo | G9: ='PANEL DE CONTROL DISTRITAL'!G8 -> Estimado | H9: ='PANEL DE CONTROL DISTRITAL'!H8 -> Nominativo | I9: ='090151'!I9 -> 2024-41 | J9: ='090151'!J9 -> 2024-42 | K9: ='090151'!K9 -> 2024-43 | L9: ='090151'!L9 -> 2024-44 | M9: ='090151'!M9 -> 2024-45 | N9: ='090151'!N9 -> 2024-46 | O9: ='090151'!O9 -> 2024-47 | P9: ='090151'!P9 -> 2024-48 | ... BO9: ='090151'!BO9 -> 2025-40
A10: ='PANEL DE CONTROL DISTRITAL'!A9 -> 1 | B10: ='PANEL DE CONTROL DISTRITAL'!B9 -> ENTREVISTA | C10: ='PANEL DE CONTROL DISTRITAL'!C9 -> Auxiliar de Atención Ciudadana | D10: ='PANEL DE CONTROL DISTRITAL'!D9 -> Fichas requisitadas correctamente= | E10: ='PANEL DE CONTROL DISTRITAL'!E9 -> (Fichas requisitadas correctamente / Fichas revisadas en la muestra del 10%) x 100 | F10: ='PANEL DE CONTROL DISTRITAL'!F9 -> Semanal (remesa) | G10: ='PANEL DE CONTROL DISTRITAL'!G9 -> 0.9 | H10: ='PANEL DE CONTROL DISTRITAL'!H9 -> Fichas requistadas correctamente | I10: 0 | J10: 118 | K10: 115 | L10: 72 | M10: 125 | N10: 95 | O10: 128 | P10: 128 | Q10: 118 | R10: 85 | S10: 148 | T10: 127 | U10: 111 | V10: 144 | W10: 150 | X10: 133 | Y10: 106 | Z10: 96 | AA10: 27 | AB10: 95 | AC10: 187 | AD10: 200 | AE10: 197 | AF10: 222 | AG10: 174 | AH10: 83 | AI10: 84 | AJ10: 123 | AK10: 116 | AL10: 5 | AM10: 55 | AN10: 59 | AO10: 50 | AP10: 60 | AQ10: 12 | AR10: 42 | AS10: 55 | AT10: 32 | AU10: 64 | AV10: 50 | AW10: 55 | AX10: 67 | AY10: 35 | AZ10: 0 | BA10: 0 | BB10: 0 | BC10: 76 | BD10: 131 | BE10: 177 | BF10: 177 | BG10: 145 | BH10: 147 | BI10: 147 | BJ10: 148 | BK10: 152 | BL10: 154 | BM10: 151 | BN10: 159 | BO10: 142 | BP10: =IFERROR(SUM(I10:BO10)/SUM(I11:BO11),0) -> 0.99983485
H11: ='PANEL DE CONTROL DISTRITAL'!H10 -> Fichas revisadas en la muestra del 10% | I11: 0 | J11: 118 | K11: 115 | L11: 72 | M11: 125 | N11: 96 | O11: 128 | P11: 128 | Q11: 118 | R11: 85 | S11: 148 | T11: 127 | U11: 111 | V11: 144 | W11: 150 | X11: 133 | Y11: 106 | Z11: 96 | AA11: 27 | AB11: 95 | AC11: 187 | AD11: 200 | AE11: 197 | AF11: 222 | AG11: 174 | AH11: 83 | AI11: 84 | AJ11: 123 | AK11: 116 | AL11: 5 | AM11: 55 | AN11: 59 | AO11: 50 | AP11: 60 | AQ11: 12 | AR11: 42 | AS11: 55 | AT11: 32 | AU11: 64 | AV11: 50 | AW11: 55 | AX11: 67 | AY11: 35 | AZ11: 0 | BA11: 0 | BB11: 0 | BC11: 76 | BD11: 131 | BE11: 177 | BF11: 177 | BG11: 145 | BH11: 147 | BI11: 147 | BJ11: 148 | BK11: 152 | BL11: 154 | BM11: 151 | BN11: 159 | BO11: 142
A13: ='PANEL DE CONTROL DISTRITAL'!A12 -> 2 | B13: ='PANEL DE CONTROL DISTRITAL'!B12 -> TRÁMITE | C13: ='PANEL DE CONTROL DISTRITAL'!C12 -> Operador de Equipo Tecnológico | D13: ='PANEL DE CONTROL DISTRITAL'!D12 -> Trámites exitosos efectivos= | E13: ='PANEL DE CONTROL DISTRITAL'!E12 -> (Número de trámites exitosos / Número de trámites aplicados) x 100 | F13: ='PANEL DE CONTROL DISTRITAL'!F12 -> Semanal (remesa) | G13: ='PANEL DE CONTROL DISTRITAL'!G12 -> 0.9 | H13: ='PANEL DE CONTROL DISTRITAL'!H12 -> Número de trámites exitosos | I13: 0 | J13: 1134 | K13: 1110 | L13: 685 | M13: 1206 | N13: 909 | O13: 1228 | P13: 1234 | Q13: 1135 | R13: 816 | S13: 1427 | T13: 1221 | U13: 1078 | V13: 1393 | W13: 1443 | X13: 1300 | Y13: 1116 | Z13: 935 | AA13: 256 | AB13: 924 | AC13: 1810 | AD13: 1929 | AE13: 1927 | AF13: 2157 | AG13: 1675 | AH13: 829 | AI13: 831 | AJ13: 1224 | AK13: 1134 | AL13: 43 | AM13: 533 | AN13: 569 | AO13: 483 | AP13: 584 | AQ13: 115 | AR13: 405 | AS13: 538 | AT13: 308 | AU13: 626 | AV13: 495 | AW13: 533 | AX13: 650 | AY13: 348 | AZ13: 0 | BA13: 0 | BB13: 0 | BC13: 750 | BD13: 1264 | BE13: 1687 | BF13: 1699 | BG13: 1397 | BH13: 1421 | BI13: 1430 | BJ13: 1425 | BK13: 1468 | BL13: 1483 | BM13: 1464 | BN13: 1523 | BO13: 1384 | BP13: =IFERROR(SUM(I13:BO13)/SUM(I14:BO14),0) -> 0.99750161
H14: ='PANEL DE CONTROL DISTRITAL'!H13 -> Número de trámites aplicados | I14: 0 | J14: 1137 | K14: 1113 | L14: 685 | M14: 1211 | N14: 910 | O14: 1232 | P14: 1238 | Q14: 1135 | R14: 822 | S14: 1433 | T14: 1226 | U14: 1079 | V14: 1395 | W14: 1452 | X14: 1303 | Y14: 1117 | Z14: 935 | AA14: 256 | AB14: 925 | AC14: 1813 | AD14: 1936 | AE14: 1929 | AF14: 2165 | AG14: 1678 | AH14: 830 | AI14: 831 | AJ14: 1225 | AK14: 1135 | AL14: 43 | AM14: 533 | AN14: 569 | AO14: 486 | AP14: 584 | AQ14: 115 | AR14: 407 | AS14: 538 | AT14: 308 | AU14: 628 | AV14: 495 | AW14: 534 | AX14: 650 | AY14: 348 | AZ14: 0 | BA14: 0 | BB14: 0 | BC14: 750 | BD14: 1264 | BE14: 1704 | BF14: 1710 | BG14: 1402 | BH14: 1422 | BI14: 1430 | BJ14: 1427 | BK14: 1475 | BL14: 1488 | BM14: 1470 | BN14: 1528 | BO14: 1384
A16: ='PANEL DE CONTROL DISTRITAL'!A15 -> 3 | B16: ='PANEL DE CONTROL DISTRITAL'!B15 -> TRANSFERENCIA DE LA INFORMACIÓN | C16: ='PANEL DE CONTROL DISTRITAL'!C15 -> Responsable de Módulo | D16: ='PANEL DE CONTROL DISTRITAL'!D15 -> Reenvíos exitosos = | E16: ='PANEL DE CONTROL DISTRITAL'!E15 -> (Ejecución de los scripts de reenvío de notificaciones/Solicitud de reenvíos de scripts requeridos) x100 | F16: ='PANEL DE CONTROL DISTRITAL'!F15 -> Semanal (remesa) | G16: ='PANEL DE CONTROL DISTRITAL'!G15 -> 1 | H16: ='PANEL DE CONTROL DISTRITAL'!H15 -> Ejecución de los scripts de reenvío de notificaciones | I16: 0 | J16: 0 | K16: 0 | L16: 0 | M16: 0 | N16: 0 | O16: 0 | P16: 0 | Q16: 0 | R16: 0 | S16: 0 | T16: 0 | U16: 0 | V16: 0 | W16: 0 | X16: 0 | Y16: 0 | Z16: 0 | AA16: 0 | AB16: 0 | AC16: 0 | AD16: 0 | AE16: 0 | AF16: 0 | AG16: 0 | AH16: 0 | AI16: 0 | AJ16: 0 | AK16: 0 | AL16: 0 | AM16: 0 | AN16: 0 | AO16: 0 | AP16: 0 | AQ16: 0 | AR16: 0 | AS16: 0 | AT16: 0 | AU16: 0 | AV16: 0 | AW16: 0 | AX16: 0 | AY16: 0 | AZ16: 0 | BA16: 0 | BB16: 0 | BC16: 0 | BD16: 0 | BE16: 0 | BF16: 0 | BG16: 0 | BH16: 0 | BI16: 0 | BJ16: 0 | BK16: 0 | BL16: 0 | BM16: 0 | BN16: 0 | BO16: 0 | BP16: =IFERROR(SUM(I16:BO16)/SUM(I17:BO17),1) -> 0
H17: ='PANEL DE CONTROL DISTRITAL'!H16 -> Solicitud de reevíos de scripts requeridos | I17: 0 | J17: 0 | K17: 0 | L17: 0 | M17: 0 | N17: 0 | O17: 0 | P17: 1 | Q17: 0 | R17: 0 | S17: 0 | T17: 0 | U17: 0 | V17: 0 | W17: 0 | X17: 0 | Y17: 0 | Z17: 0 | AA17: 0 | AB17: 0 | AC17: 0 | AD17: 0 | AE17: 1 | AF17: 1 | AG17: 1 | AH17: 1 | AI17: 1 | AJ17: 0 | AK17: 0 | AL17: 0 | AM17: 0 | AN17: 0 | AO17: 0 | AP17: 0 | AQ17: 0 | AR17: 0 | AS17: 0 | AT17: 0 | AU17: 0 | AV17: 0 | AW17: 0 | AX17: 0 | AY17: 0 | AZ17: 0 | BA17: 0 | BB17: 0 | BC17: 0 | BD17: 0 | BE17: 0 | BF17: 0 | BG17: 0 | BH17: 0 | BI17: 0 | BJ17: 0 | BK17: 0 | BL17: 0 | BM17: 0 | BN17: 0 | BO17: 0
A19: ='PANEL DE CONTROL DISTRITAL'!A18 -> 4 | B19: ='PANEL DE CONTROL DISTRITAL'!B18 -> CONCILIACIÓN DE CREDENCIALES PARA VOTAR | C19: ='PANEL DE CONTROL DISTRITAL'!C18 -> Responsable de Módulo | D19: ='PANEL DE CONTROL DISTRITAL'!D18 -> Credenciales disponibles para entrega = | E19: ='PANEL DE CONTROL DISTRITAL'!E18 -> [(Credenciales recibidas - credenciales inconsistentes) / Credenciales recibidas] x 100 | F19: ='PANEL DE CONTROL DISTRITAL'!F18 -> Semanal (remesa) | G19: ='PANEL DE CONTROL DISTRITAL'!G18 -> 0.9 | H19: ='PANEL DE CONTROL DISTRITAL'!H18 -> Credenciales Recibidas - Credenciales inconsistentes | I19: 0 | J19: 1159 | K19: 1184 | L19: 573 | M19: 1292 | N19: 893 | O19: 959 | P19: 1426 | Q19: 1163 | R19: 1158 | S19: 1002 | T19: 1333 | U19: 753 | V19: 1643 | W19: 1135 | X19: 1616 | Y19: 1380 | Z19: 794 | AA19: 0 | AB19: 694 | AC19: 2147 | AD19: 1478 | AE19: 1582 | AF19: 1689 | AG19: 1511 | AH19: 0 | AI19: 2016 | AJ19: 2391 | AK19: 1216 | AL19: 0 | AM19: 783 | AN19: 557 | AO19: 491 | AP19: 427 | AQ19: 83 | AR19: 620 | AS19: 524 | AT19: 342 | AU19: 568 | AV19: 451 | AW19: 585 | AX19: 609 | AY19: 241 | AZ19: 404 | BA19: 0 | BB19: 0 | BC19: 517 | BD19: 1056 | BE19: 1629 | BF19: 1425 | BG19: 1752 | BH19: 1150 | BI19: 1452 | BJ19: 1693 | BK19: 1168 | BL19: 1182 | BM19: 1834 | BN19: 1480 | BO19: 1438 | BP19: =IFERROR(SUM(I19:BO19)/SUM(I20:BO20),0) -> 1
H20: ='PANEL DE CONTROL DISTRITAL'!H19 -> Credenciales recibidas | I20: 0 | J20: 1159 | K20: 1184 | L20: 573 | M20: 1292 | N20: 893 | O20: 959 | P20: 1426 | Q20: 1163 | R20: 1158 | S20: 1002 | T20: 1333 | U20: 753 | V20: 1643 | W20: 1135 | X20: 1616 | Y20: 1380 | Z20: 794 | AA20: 0 | AB20: 694 | AC20: 2147 | AD20: 1478 | AE20: 1582 | AF20: 1689 | AG20: 1511 | AH20: 0 | AI20: 2016 | AJ20: 2391 | AK20: 1216 | AL20: 0 | AM20: 783 | AN20: 557 | AO20: 491 | AP20: 427 | AQ20: 83 | AR20: 620 | AS20: 524 | AT20: 342 | AU20: 568 | AV20: 451 | AW20: 585 | AX20: 609 | AY20: 241 | AZ20: 404 | BA20: 0 | BB20: 0 | BC20: 517 | BD20: 1056 | BE20: 1629 | BF20: 1425 | BG20: 1752 | BH20: 1150 | BI20: 1452 | BJ20: 1693 | BK20: 1168 | BL20: 1182 | BM20: 1834 | BN20: 1480 | BO20: 1438
A22: ='PANEL DE CONTROL DISTRITAL'!A21 -> 5 | B22: ='PANEL DE CONTROL DISTRITAL'!B21 -> CONCILIACIÓN DE CREDENCIALES PARA VOTAR | C22: ='PANEL DE CONTROL DISTRITAL'!C21 -> Responsable de Módulo | D22: ='PANEL DE CONTROL DISTRITAL'!D21 -> Arqueo de Credenciales = | E22: ='PANEL DE CONTROL DISTRITAL'!E21 -> (Credenciales disponibles (físicas)/ Credenciales disponibles registradas en SIIRFE) x 100 | F22: ='PANEL DE CONTROL DISTRITAL'!F21 -> Semanal (remesa) | G22: ='PANEL DE CONTROL DISTRITAL'!G21 -> 1 | H22: ='PANEL DE CONTROL DISTRITAL'!H21 -> Credenciales disponibles (físicas) | I22: 2297 | J22: 2271 | K22: 2216 | L22: 1853 | M22: 2206 | N22: 1981 | O22: 1930 | P22: 2212 | Q22: 2296 | R22: 2609 | S22: 2236 | T22: 2410 | U22: 1921 | V22: 2468 | W22: 2311 | X22: 2621 | Y22: 2668 | Z22: 2464 | AA22: 2076 | AB22: 2152 | AC22: 3061 | AD22: 2838 | AE22: 2621 | AF22: 2391 | AG22: 1946 | AH22: 1946 | AI22: 3188 | AJ22: 3739 | AK22: 2777 | AL22: 2579 | AM22: 1961 | AN22: 1494 | AO22: 1338 | AP22: 1141 | AQ22: 1075 | AR22: 1282 | AS22: 1265 | AT22: 1296 | AU22: 1304 | AV22: 1351 | AW22: 1428 | AX22: 1428 | AY22: 1447 | AZ22: 1382 | BA22: 752 | BB22: 0 | BC22: 1165 | BD22: 1827 | BE22: 2554 | BF22: 2581 | BG22: 2726 | BH22: 2385 | BI22: 2432 | BJ22: 2784 | BK22: 2541 | BL22: 2258 | BM22: 2646 | BN22: 2682 | BO22: 2605 | BP22: =IFERROR(SUM(I22:BO22)/SUM(I23:BO23),0) -> 1
H23: ='PANEL DE CONTROL DISTRITAL'!H22 -> Credenciales disponibles registradas en SIIRFE | I23: 2297 | J23: 2271 | K23: 2216 | L23: 1853 | M23: 2206 | N23: 1981 | O23: 1930 | P23: 2212 | Q23: 2296 | R23: 2609 | S23: 2236 | T23: 2410 | U23: 1921 | V23: 2468 | W23: 2311 | X23: 2621 | Y23: 2668 | Z23: 2464 | AA23: 2076 | AB23: 2152 | AC23: 3061 | AD23: 2838 | AE23: 2621 | AF23: 2391 | AG23: 1946 | AH23: 1946 | AI23: 3188 | AJ23: 3739 | AK23: 2777 | AL23: 2579 | AM23: 1961 | AN23: 1494 | AO23: 1338 | AP23: 1141 | AQ23: 1075 | AR23: 1282 | AS23: 1265 | AT23: 1296 | AU23: 1304 | AV23: 1351 | AW23: 1428 | AX23: 1428 | AY23: 1447 | AZ23: 1382 | BA23: 752 | BB23: 0 | BC23: 1165 | BD23: 1827 | BE23: 2554 | BF23: 2581 | BG23: 2726 | BH23: 2385 | BI23: 2432 | BJ23: 2784 | BK23: 2541 | BL23: 2258 | BM23: 2646 | BN23: 2682 | BO23: 2605
A25: ='PANEL DE CONTROL DISTRITAL'!A24 -> 6 | B25: ='PANEL DE CONTROL DISTRITAL'!B24 -> ENTREGA DE LA CREDENCIAL PARA VOTAR | C25: ='PANEL DE CONTROL DISTRITAL'!C24 -> Operador de Equipo Tecnológico | D25: ='PANEL DE CONTROL DISTRITAL'!D24 -> Efectividad de entrega de CPV en MAC = | E25: ='PANEL DE CONTROL DISTRITAL'!E24 -> (Total de credenciales entregadas / Total de ciudadanas y ciudadanos que acuden al MAC a recoger su credencial) x 100 | F25: ='PANEL DE CONTROL DISTRITAL'!F24 -> Semanal (remesa) | G25: ='PANEL DE CONTROL DISTRITAL'!G24 -> 0.9 | H25: ='PANEL DE CONTROL DISTRITAL'!H24 -> Total de credenciales entregadas | I25: 0 | J25: 1185 | K25: 1231 | L25: 936 | M25: 939 | N25: 1118 | O25: 1010 | P25: 1144 | Q25: 1066 | R25: 845 | S25: 1375 | T25: 1159 | U25: 1242 | V25: 1087 | W25: 1292 | X25: 1306 | Y25: 1333 | Z25: 985 | AA25: 388 | AB25: 618 | AC25: 1238 | AD25: 1701 | AE25: 1799 | AF25: 1919 | AG25: 1940 | AH25: 0 | AI25: 774 | AJ25: 1840 | AK25: 2142 | AL25: 198 | AM25: 1401 | AN25: 1024 | AO25: 647 | AP25: 616 | AQ25: 149 | AR25: 413 | AS25: 541 | AT25: 311 | AU25: 560 | AV25: 404 | AW25: 508 | AX25: 609 | AY25: 222 | AZ25: 469 | BA25: 630 | BB25: 0 | BC25: 67 | BD25: 394 | BE25: 900 | BF25: 1393 | BG25: 1604 | BH25: 1439 | BI25: 1405 | BJ25: 1341 | BK25: 1411 | BL25: 1448 | BM25: 1446 | BN25: 1444 | BO25: 1515 | BP25: =IFERROR(SUM(I25:BO25)/SUM(I26:BO26),0) -> 0.99725468
H26: ='PANEL DE CONTROL DISTRITAL'!H25 -> Total de ciudadanas y ciudadanos que acuden al MAC a recoger su credencial | I26: 0 | J26: 1189 | K26: 1235 | L26: 939 | M26: 941 | N26: 1122 | O26: 1012 | P26: 1144 | Q26: 1071 | R26: 846 | S26: 1380 | T26: 1160 | U26: 1243 | V26: 1087 | W26: 1298 | X26: 1306 | Y26: 1333 | Z26: 985 | AA26: 388 | AB26: 620 | AC26: 1244 | AD26: 1707 | AE26: 1801 | AF26: 1924 | AG26: 1940 | AH26: 0 | AI26: 781 | AJ26: 1840 | AK26: 2146 | AL26: 200 | AM26: 1403 | AN26: 1029 | AO26: 650 | AP26: 618 | AQ26: 149 | AR26: 413 | AS26: 542 | AT26: 312 | AU26: 563 | AV26: 405 | AW26: 508 | AX26: 609 | AY26: 222 | AZ26: 469 | BA26: 630 | BB26: 0 | BC26: 67 | BD26: 394 | BE26: 902 | BF26: 1398 | BG26: 1607 | BH26: 1445 | BI26: 1412 | BJ26: 1351 | BK26: 1420 | BL26: 1462 | BM26: 1452 | BN26: 1445 | BO26: 1522
B27: *Registre el valor nominal solicitado en la celda, el resultado proporcional esta automatizado.
I29: Semaforización
J30: Valor que requiere atención y justificación en el apartado de observaciones
J31: Valor suficiente
J32: Valor esperado
B34: CUADRO DE OBSERVACIONES
B35: Descripción | H35: No conformidad
B36: El folio de Solicitud Individual 2409035136232, no viajo por lo que se levanto caso CAU REQ000001708452, y fue repetido el tramite, el nuevo tramite se levanto con folio de Solicitud Individual 2409035136235, con este folio genero credencial para votar y fue entregada el dia 26 de septiembre del año en curso. El CAU cancelo el folio 2409035136232, cerrando el caso REQ000001708452 el día 18/10/2024 el folio de Solicitud Individual 2509035104228, aparece para ser reenviado a CECYRD, sin embargo se realizo nuevo tramite con folio de Solicitud Individual 2509035104234, este ya fue entregada la credencial para votar, por medio del caso CAU REQ000001790754

Sheet 090451
A1: ='PANEL DE CONTROL DISTRITAL'!A1:Q1 -> INSTITUTO NACIONAL ELECTORAL SISTEMA DE GESTIÓN DE LA CALIDAD CIUDAD DE MÉXICO
D2: Distrito | E2: 4 | F2: Módulo | H2: 90451
A4: TABLERO DE CONTROL DE PROCESOS SUSTANTIVOS DEL SISTEMA DE GESTIÓN DE LA CALIDAD
A6: ='PANEL DE CONTROL DISTRITAL'!A6 -> Número | B6: ='PANEL DE CONTROL DISTRITAL'!B6 -> PROCESOS SUSTANTIVOS E INDICADORES | I6: SEMANA OPERATIVA | BP6: % AVANCE REGISTRADO
B7: ='PANEL DE CONTROL DISTRITAL'!B7 -> DESCRIPCIÓN | E7: ='PANEL DE CONTROL DISTRITAL'!E7 -> MEDICIÓN | I7: ='PANEL DE CONTROL DISTRITAL'!A5 -> CAMPAÑA ANUAL INTENSA 2024 CAMPAÑA ESPECIAL DE ACTUALIZACIÓN PARA EL PROCESO ELECTORAL EXTRAORDINARIO (CEAPEE) 2024-2025
B9: ='PANEL DE CONTROL DISTRITAL'!B8 -> Proceso | C9: ='PANEL DE CONTROL DISTRITAL'!C8 -> Dueño de Proceso | D9: ='PANEL DE CONTROL DISTRITAL'!D8 -> Indicador | E9: ='PANEL DE CONTROL DISTRITAL'!E8 -> Cálculo | F9: ='PANEL DE CONTROL DISTRITAL'!F8 -> Periodo | G9: ='PANEL DE CONTROL DISTRITAL'!G8 -> Estimado | H9: ='PANEL DE CONTROL DISTRITAL'!H8 -> Nominativo | I9: ='090151'!I9 -> 2024-41 | J9: ='090151'!J9 -> 2024-42 | K9: ='090151'!K9 -> 2024-43 | L9: ='090151'!L9 -> 2024-44 | M9: ='090151'!M9 -> 2024-45 | N9: ='090151'!N9 -> 2024-46 | O9: ='090151'!O9 -> 2024-47 | P9: ='090151'!P9 -> 2024-48 | ... BO9: ='090151'!BO9 -> 2025-40
A10: ='PANEL DE CONTROL DISTRITAL'!A9 -> 1 | B10: ='PANEL DE CONTROL DISTRITAL'!B9 -> ENTREVISTA | C10: ='PANEL DE CONTROL DISTRITAL'!C9 -> Auxiliar de Atención Ciudadana | D10: ='PANEL DE CONTROL DISTRITAL'!D9 -> Fichas requisitadas correctamente= | E10: ='PANEL DE CONTROL DISTRITAL'!E9 -> (Fichas requisitadas correctamente / Fichas revisadas en la muestra del 10%) x 100 | F10: ='PANEL DE CONTROL DISTRITAL'!F9 -> Semanal (remesa) | G10: ='PANEL DE CONTROL DISTRITAL'!G9 -> 0.9 | H10: ='PANEL DE CONTROL DISTRITAL'!H9 -> Fichas requistadas correctamente | I10: 0 | J10: 160 | K10: 162 | L10: 109 | M10: 190 | N10: 135 | O10: 178 | P10: 170 | Q10: 159 | R10: 126 | S10: 193 | T10: 178 | U10: 158 | V10: 213 | W10: 175 | X10: 122 | Y10: 116 | Z10: 93 | AA10: 27 | AB10: 72 | AC10: 205 | AD10: 302 | AE10: 335 | AF10: 351 | AG10: 349 | AH10: 94 | AI10: 117 | AJ10: 138 | AK10: 143 | AL10: 5 | AM10: 62 | AN10: 68 | AO10: 60 | AP10: 45 | AQ10: 8 | AR10: 10 | AS10: 13 | AT10: 27 | AU10: 13 | AV10: 48 | AW10: 49 | AX10: 74 | AY10: 35 | AZ10: 0 | BA10: 2 | BB10: 0 | BC10: 129 | BD10: 175 | BE10: 209 | BF10: 175 | BG10: 193 | BH10: 199 | BI10: 198 | BJ10: 200 | BK10: 204 | BL10: 208 | BM10: 184 | BN10: 200 | BO10: 175 | BP10: =IFERROR(SUM(I10:BO10)/SUM(I11:BO11),0) -> 0.969067
H11: ='PANEL DE CONTROL DISTRITAL'!H10 -> Fichas revisadas en la muestra del 10% | I11: 0 | J11: 160 | K11: 162 | L11: 109 | M11: 190 | N11: 135 | O11: 178 | P11: 170 | Q11: 159 | R11: 126 | S11: 193 | T11: 178 | U11: 158 | V11: 213 | W11: 175 | X11: 122 | Y11: 116 | Z11: 93 | AA11: 27 | AB11: 72 | AC11: 205 | AD11: 302 | AE11: 335 | AF11: 351 | AG11: 349 | AH11: 94 | AI11: 117 | AJ11: 138 | AK11: 143 | AL11: 5 | AM11: 62 | AN11: 68 | AO11: 60 | AP11: 68 | AQ11: 9 | AR11: 41 | AS11: 57 | AT11: 36 | AU11: 62 | AV11: 55 | AW11: 57 | AX11: 76 | AY11: 38 | AZ11: 0 | BA11: 2 | BB11: 0 | BC11: 134 | BD11: 195 | BE11: 221 | BF11: 210 | BG11: 208 | BH11: 206 | BI11: 205 | BJ11: 110 | BK11: 211 | BL11: 226 | BM11: 196 | BN11: 209 | BO11: 188
A13: ='PANEL DE CONTROL DISTRITAL'!A12 -> 2 | B13: ='PANEL DE CONTROL DISTRITAL'!B12 -> TRÁMITE | C13: ='PANEL DE CONTROL DISTRITAL'!C12 -> Operador de Equipo Tecnológico | D13: ='PANEL DE CONTROL DISTRITAL'!D12 -> Trámites exitosos efectivos= | E13: ='PANEL DE CONTROL DISTRITAL'!E12 -> (Número de trámites exitosos / Número de trámites aplicados) x 100 | F13: ='PANEL DE CONTROL DISTRITAL'!F12 -> Semanal (remesa) | G13: ='PANEL DE CONTROL DISTRITAL'!G12 -> 0.9 | H13: ='PANEL DE CONTROL DISTRITAL'!H12 -> Número de trámites exitosos | I13: 0 | J13: 1570 | K13: 1591 | L13: 1061 | M13: 1569 | N13: 1321 | O13: 1747 | P13: 1662 | Q13: 1553 | R13: 1232 | S13: 1871 | T13: 1732 | U13: 1535 | V13: 2076 | W13: 1724 | X13: 1117 | Y13: 1132 | Z13: 898 | AA13: 267 | AB13: 712 | AC13: 2024 | AD13: 3002 | AE13: 3323 | AF13: 3367 | AG13: 3477 | AH13: 933 | AI13: 1160 | AJ13: 1368 | AK13: 1425 | AL13: 47 | AM13: 607 | AN13: 672 | AO13: 580 | AP13: 671 | AQ13: 89 | AR13: 403 | AS13: 566 | AT13: 345 | AU13: 606 | AV13: 533 | AW13: 565 | AX13: 748 | AY13: 373 | AZ13: 0 | BA13: 0 | BB13: 0 | BC13: 1314 | BD13: 1904 | BE13: 2206 | BF13: 2050 | BG13: 2032 | BH13: 2021 | BI13: 2019 | BJ13: 2083 | BK13: 2077 | BL13: 2241 | BM13: 1936 | BN13: 2064 | BO13: 1853 | BP13: =IFERROR(SUM(I13:BO13)/SUM(I14:BO14),0) -> 0.99731288
