Workbook

Sheet PANEL DE CONTROL DISTRITAL
A1: INSTITUTO NACIONAL ELECTORAL SISTEMA DE GESTIÓN DE LA CALIDAD CIUDAD DE MÉXICO
M2: Fecha de corte dd/mm/aaaa | Q2: Version 0
A4: TABLERO DE CONTROL DISTRITAL DE PROCESOS SUSTANTIVOS DEL SISTEMA DE GESTIÓN DE LA CALIDAD
A5: CAMPAÑA ANUAL INTENSA 2024 CAMPAÑA ESPECIAL DE ACTUALIZACIÓN PARA EL PROCESO ELECTORAL EXTRAORDINARIO (CEAPEE) 2024-2025
A6: Número | B6: PROCESOS SUSTANTIVOS E INDICADORES | I6: % AVANCE REGISTRADO | K6: % AVANCE REGISTRADO | M6: % AVANCE REGISTRADO | O6: % AVANCE REGISTRADO | Q6: % AVANCE REGISTRADO | S6: % AVANCE REGISTRADO | U6: % AVANCE REGISTRADO | W6: % AVANCE REGISTRADO | Y6: % AVANCE REGISTRADO | AA6: % AVANCE REGISTRADO | AC6: % AVANCE REGISTRADO | AE6: % AVANCE REGISTRADO | AG6: % AVANCE REGISTRADO | AI6: % AVANCE REGISTRADO | AK6: % AVANCE REGISTRADO | AM6: % AVANCE REGISTRADO | AO6: % AVANCE REGISTRADO | AQ6: % AVANCE REGISTRADO | AS6: % AVANCE REGISTRADO | AU6: % AVANCE REGISTRADO | AW6: % AVANCE REGISTRADO | AY6: % AVANCE REGISTRADO | BB6: % AVANCE REGISTRADO
B7: DESCRIPCIÓN | E7: MEDICIÓN
B8: Proceso | C8: Dueño de Proceso | D8: Indicador | E8: Cálculo | F8: Periodo | G8: Estimado | H8: Nominativo | I8: Distrito 01 | K8: Distrito 02 | M8: Distrito 03 | O8: Distrito 04 | Q8: Distrito 05 | S8: Distrito 06 | U8: Distrito 07 | W8: Distrito 08 | Y8: Distrito 09 | AA8: Distrito 10 | AC8: Distrito 11 | AE8: Distrito 12 | AG8: Distrito 13 | AI8: Distrito 14 | AK8: Distrito 15 | AM8: Distrito 16 | AO8: Distrito 17 | AQ8: Distrito 18 | AS8: Distrito 19 | AU8: Distrito 20 | AW8: Distrito 21 | AY8: Distrito 22 | BB8: Estatal
A9: 1 | B9: ENTREVISTA | C9: Auxiliar de Atención Ciudadana | D9: Fichas requisitadas correctamente= | E9: (Fichas requisitadas correctamente / Fichas revisadas en la muestra del 10%) x 100 | F9: Semanal (remesa) | G9: 0.9 | H9: Fichas requistadas correctamente | I9: =AVERAGE('090151'!BP10:BP11) -> 0.99629812 | K9: =AVERAGE('090251'!BP10:BP11) -> 0.96088643 | M9: =AVERAGE('090351'!BP10:BP11) -> 0.99983485 | O9: =AVERAGE('090451'!BP10:BP11) -> 0.969067 | Q9: =AVERAGE('090551'!BP10:BP11) -> 0.99947931 | S9: =AVERAGE('090651'!BP10:BP11) -> 0.89567266 | U9: =AVERAGE('090751'!BP10:BP11) -> 1.0001746 | W9: =AVERAGE('090853'!BP10:BP11,'090852'!BP10:BP11) -> 0.9646264 | Y9: =AVERAGE('090951'!BP10:BP11) -> 0.99406528 | AA9: =AVERAGE('091051'!BP10:BP11) -> 0.97960445 | AC9: =AVERAGE('091151'!BP10:BP11) -> 0.97597129 | AE9: =AVERAGE('091251'!BP10:BP11,'091252'!BP10:BP11,'091253'!BP10:BP11) -> 0.99274739 | AG9: =AVERAGE('091351'!BP10:BP11) -> 1 | AI9: =AVERAGE('091451'!BP10:BP11) -> 0.97421784 | AK9: =AVERAGE('091551'!BP10:BP11,'091552'!BP10:BP11) -> 1 | AM9: =AVERAGE('091651'!BP10:BP11) -> 1 | AO9: =AVERAGE('091751'!BP10:BP11) -> 0.99377432 | AQ9: =AVERAGE('091851'!BP10:BP11) -> 0.99679144 | AS9: =AVERAGE('091952'!BP10:BP11) -> 0.95986622 | AU9: =AVERAGE('092051'!BP10:BP11) -> 0.98122605 | AW9: =AVERAGE('092151'!BP10:BP11,'092152'!BP10:BP11) -> 0.98780687 | AY9: =AVERAGE('092251'!BP10:BP11) -> 0.96851999 | BB9: =AVERAGE(I9,K9,M9,O9,Q9,S9,U9,W9,Y9,AA9,AC9,AE9,AG9,AI9,AK9,AM9,AO9,AQ9,AS9,AU9,AW9,AY9) -> 0.9813923
H10: Fichas revisadas en la muestra del 10%
A12: 2 | B12: TRÁMITE | C12: Operador de Equipo Tecnológico | D12: Trámites exitosos efectivos= | E12: (Número de trámites exitosos / Número de trámites aplicados) x 100 | F12: Semanal (remesa) | G12: 0.9 | H12: Número de trámites exitosos | I12: =AVERAGE('090151'!BP13:BP14) -> 0.99777104 | K12: =AVERAGE('090251'!BP13:BP14) -> 0.99736215 | M12: =AVERAGE('090351'!BP13:BP14) -> 0.99750161 | O12: =AVERAGE('090451'!BP13:BP14) -> 0.99731288 | Q12: =AVERAGE('090551'!BP13:BP14) -> 0.9916318 | S12: =AVERAGE('090651'!BP13:BP14) -> 0.98686083 | U12: =AVERAGE('090751'!BP13:BP14) -> 0.99639104 | W12: =AVERAGE('090853'!BP13:BP14,'090852'!BP13:BP14) -> 0.99792286 | Y12: =AVERAGE('090951'!BP13:BP14) -> 0.9959945 | AA12: =AVERAGE('091051'!BP13:BP14) -> 0.99768923 | AC12: =AVERAGE('091151'!BP13:BP14) -> 0.99770631 | AE12: =AVERAGE('091251'!BP13:BP14,'091252'!BP13:BP14,'091253'!BP13:BP14) -> 0.99739762 | AG12: =AVERAGE('091351'!BP13:BP14) -> 0.99762081 | AI12: =AVERAGE('091451'!BP13:BP14) -> 0.99915566 | AK12: =AVERAGE('091551'!BP13:BP14,'091552'!BP13:BP14) -> 0.99902505 | AM12: =AVERAGE('091651'!BP13:BP14) -> 0.99821716 | AO12: =AVERAGE('091751'!BP13:BP14) -> 0.99695203 | AQ12: =AVERAGE('091851'!BP13:BP14) -> 0.99232829 | AS12: =AVERAGE('091952'!BP13:BP14) -> 0.99397904 | AU12: =AVERAGE('092051'!BP13:BP14) -> 0.99814478 | AW12: =AVERAGE('092151'!BP13:BP14,'092152'!BP13:BP14) -> 0.97218958 | AY12: =AVERAGE('092251'!BP13:BP14) -> 0.99601331 | BB12: =AVERAGE(I12,K12,M12,O12,Q12,S12,U12,W12,Y12,AA12,AC12,AE12,AG12,AI12,AK12,AM12,AO12,AQ12,AS12,AU12,AW12,AY12) -> 0.99523489
H13: Número de trámites aplicados
A15: 3 | B15: TRANSFERENCIA DE LA INFORMACIÓN | C15: Responsable de Módulo | D15: Reenvíos exitosos = | E15: (Ejecución de los scripts de reenvío de notificaciones/Solicitud de reenvíos de scripts requeridos) x100 | F15: Semanal (remesa) | G15: 1 | H15: Ejecución de los scripts de reenvío de notificaciones | I15: =AVERAGE('090151'!BP16:BP17) -> 1 | K15: =AVERAGE('090251'!BP16:BP17) -> 1 | M15: =AVERAGE('090351'!BP16:BP17) -> 0 | O15: =AVERAGE('090451'!BP16:BP17) -> 0.83333333 | Q15: =AVERAGE('090551'!BP16:BP17) -> 1 | S15: =AVERAGE('090651'!BP16:BP17) -> 1 | U15: =AVERAGE('090751'!BP16:BP17) -> 1 | W15: =AVERAGE('090853'!BP16:BP17,'090852'!BP16:BP17) -> 0.875 | Y15: =AVERAGE('090951'!BP16:BP17) -> 1 | AA15: =AVERAGE('091051'!BP16:BP17) -> 1 | AC15: =AVERAGE('091151'!BP16:BP17) -> 1 | AE15: =AVERAGE('091251'!BP16:BP17,'091252'!BP16:BP17,'091253'!BP16:BP17) -> 1 | AG15: =AVERAGE('091351'!BP16:BP17) -> 1 | AI15: =AVERAGE('091451'!BP16:BP17) -> 1 | AK15: =AVERAGE('091551'!BP16:BP17,'091552'!BP16:BP17) -> 1 | AM15: =AVERAGE('091651'!BP16:BP17) -> 1 | AO15: =AVERAGE('091751'!BP16:BP17) -> 1 | AQ15: =AVERAGE('091851'!BP16:BP17) -> 1 | AS15: =AVERAGE('091952'!BP16:BP17) -> 1 | AU15: =AVERAGE('092051'!BP16:BP17) -> 1 | AW15: =AVERAGE('092151'!BP16:BP17,'092152'!BP16:BP17) -> 1 | AY15: =AVERAGE('092251'!BP16:BP17) -> 1 | BB15: =AVERAGE(I15,K15,M15,O15,Q15,S15,U15,W15,Y15,AA15,AC15,AE15,AG15,AI15,AK15,AM15,AO15,AQ15,AS15,AU15,AW15,AY15) -> 0.94128788
H16: Solicitud de reevíos de scripts requeridos
A18: 4 | B18: CONCILIACIÓN DE CREDENCIALES PARA VOTAR | C18: Responsable de Módulo | D18: Credenciales disponibles para entrega = | E18: [(Credenciales recibidas - credenciales inconsistentes) / Credenciales recibidas] x 100 | F18: Semanal (remesa) | G18: 0.9 | H18: Credenciales Recibidas - Credenciales inconsistentes | I18: =AVERAGE('090151'!BP19:BP20) -> 0.99994976 | K18: =AVERAGE('090251'!BP19:BP20) -> 0.99998888 | M18: =AVERAGE('090351'!BP19:BP20) -> 1 | O18: =AVERAGE('090451'!BP19:BP20) -> 1.0000133 | Q18: =AVERAGE('090551'!BP19:BP20) -> 0.99995152 | S18: =AVERAGE('090651'!BP19:BP20) -> 1 | U18: =AVERAGE('090751'!BP19:BP20) -> 0.99998212 | W18: =AVERAGE('090853'!BP19:BP20,'090852'!BP19:BP20) -> 1 | Y18: =AVERAGE('090951'!BP19:BP20) -> 1 | AA18: =AVERAGE('091051'!BP19:BP20) -> 1 | AC18: =AVERAGE('091151'!BP19:BP20) -> 1 | AE18: =AVERAGE('091251'!BP19:BP20,'091252'!BP19:BP20,'091253'!BP19:BP20) -> 0.99997444 | AG18: =AVERAGE('091351'!BP19:BP20) -> 0.98970665 | AI18: =AVERAGE('091451'!BP19:BP20) -> 1 | AK18: =AVERAGE('091551'!BP19:BP20,'091552'!BP19:BP20) -> 0.99998937 | AM18: =AVERAGE('091651'!BP19:BP20) -> 0.99998759 | AO18: =AVERAGE('091751'!BP19:BP20) -> 1 | AQ18: =AVERAGE('091851'!BP19:BP20) -> 0.99997197 | AS18: =AVERAGE('091952'!BP19:BP20) -> 1 | AU18: =AVERAGE('092051'!BP19:BP20) -> 1 | AW18: =AVERAGE('092151'!BP19:BP20,'092152'!BP19:BP20) -> 0.99999175 | AY18: =AVERAGE('092251'!BP19:BP20) -> 1 | BB18: =AVERAGE(I18,K18,M18,O18,Q18,S18,U18,W18,Y18,AA18,AC18,AE18,AG18,AI18,AK18,AM18,AO18,AQ18,AS18,AU18,AW18,AY18) -> 0.99952306
H19: Credenciales recibidas
A21: 5 | B21: CONCILIACIÓN DE CREDENCIALES PARA VOTAR | C21: Responsable de Módulo | D21: Arqueo de Credenciales = | E21: (Credenciales disponibles (físicas)/ Credenciales disponibles registradas en SIIRFE) x 100 | F21: Semanal (remesa) | G21: 1 | H21: Credenciales disponibles (físicas) | I21: =AVERAGE('090151'!BP22:BP23) -> 1 | K21: =AVERAGE('090251'!BP22:BP23) -> 1 | M21: =AVERAGE('090351'!BP22:BP23) -> 1 | O21: =AVERAGE('090451'!BP22:BP23) -> 1 | Q21: =AVERAGE('090551'!BP22:BP23) -> 1 | S21: =AVERAGE('090651'!BP22:BP23) -> 1 | U21: =AVERAGE('090751'!BP22:BP23) -> 1 | W21: =AVERAGE('090853'!BP22:BP23,'090852'!BP22:BP23) -> 1 | Y21: =AVERAGE('090951'!BP22:BP23) -> 1 | AA21: =AVERAGE('091051'!BP22:BP23) -> 1 | AC21: =AVERAGE('091151'!BP22:BP23) -> 1 | AE21: =AVERAGE('091251'!BP22:BP23,'091252'!BP22:BP23,'091253'!BP22:BP23) -> 1 | AG21: =AVERAGE('091351'!BP22:BP23) -> 1 | AI21: =AVERAGE('091451'!BP22:BP23) -> 1 | AK21: =AVERAGE('091551'!BP22:BP23,'091552'!BP22:BP23) -> 1.0000931 | AM21: =AVERAGE('091651'!BP22:BP23) -> 1 | AO21: =AVERAGE('091751'!BP22:BP23) -> 1 | AQ21: =AVERAGE('091851'!BP22:BP23) -> 1 | AS21: =AVERAGE('091952'!BP22:BP23) -> 1 | AU21: =AVERAGE('092051'!BP22:BP23) -> 1 | AW21: =AVERAGE('092151'!BP22:BP23,'092152'!BP22:BP23) -> 1 | AY21: =AVERAGE('092251'!BP22:BP23) -> 1 | BB21: =AVERAGE(I21,K21,M21,O21,Q21,S21,U21,W21,Y21,AA21,AC21,AE21,AG21,AI21,AK21,AM21,AO21,AQ21,AS21,AU21,AW21,AY21) -> 1.0000042
H22: Credenciales disponibles registradas en SIIRFE
A24: 6 | B24: ENTREGA DE LA CREDENCIAL PARA VOTAR | C24: Operador de Equipo Tecnológico | D24: Efectividad de entrega de CPV en MAC = | E24: (Total de credenciales entregadas / Total de ciudadanas y ciudadanos que acuden al MAC a recoger su credencial) x 100 | F24: Semanal (remesa) | G24: 0.9 | H24: Total de credenciales entregadas | I24: =AVERAGE('090151'!BP25:BP26) -> 0.99949074 | K24: =AVERAGE('090251'!BP25:BP26) -> 0.99648583 | M24: =AVERAGE('090351'!BP25:BP26) -> 0.99725468 | O24: =AVERAGE('090451'!BP25:BP26) -> 1 | Q24: =AVERAGE('090551'!BP25:BP26) -> 0.99973023 | S24: =AVERAGE('090651'!BP25:BP26) -> 0.99957216 | U24: =AVERAGE('090751'!BP25:BP26) -> 1 | W24: =AVERAGE('090853'!BP25:BP26,'090852'!BP25:BP26) -> 0.99868096 | Y24: =AVERAGE('090951'!BP25:BP26) -> 0.9993033 | AA24: =AVERAGE('091051'!BP25:BP26) -> 0.99887581 | AC24: =AVERAGE('091151'!BP25:BP26) -> 0.99879375 | AE24: =AVERAGE('091251'!BP25:BP26,'091252'!BP25:BP26,'091253'!BP25:BP26) -> 0.99578881 | AG24: =AVERAGE('091351'!BP25:BP26) -> 0.99983717 | AI24: =AVERAGE('091451'!BP25:BP26) -> 1 | AK24: =AVERAGE('091551'!BP25:BP26,'091552'!BP25:BP26) -> 0.99951819 | AM24: =AVERAGE('091651'!BP25:BP26) -> 0.99910891 | AO24: =AVERAGE('091751'!BP25:BP26) -> 0.99946478 | AQ24: =AVERAGE('091851'!BP25:BP26) -> 0.99771895 | AS24: =AVERAGE('091952'!BP25:BP26) -> 0.9975219 | AU24: =AVERAGE('092051'!BP25:BP26) -> 0.99886448 | AW24: =AVERAGE('092151'!BP25:BP26,'092152'!BP25:BP26) -> 0.99939625 | AY24: =AVERAGE('092251'!BP25:BP26) -> 0.99533212 | BB24: =AVERAGE(I24,K24,M24,O24,Q24,S24,U24,W24,Y24,AA24,AC24,AE24,AG24,AI24,AK24,AM24,AO24,AQ24,AS24,AU24,AW24,AY24) -> 0.99866996
H25: Total de ciudadanas y ciudadanos que acuden al MAC a recoger su credencial

Sheet 090151
A1: ='PANEL DE CONTROL DISTRITAL'!A1:Q1 -> INSTITUTO NACIONAL ELECTORAL SISTEMA DE GESTIÓN DE LA CALIDAD CIUDAD DE MÉXICO
D2: Distrito | E2: 1 | F2: Módulo | H2: 90151
A4: TABLERO DE CONTROL DE PROCESOS SUSTANTIVOS DEL SISTEMA DE GESTIÓN DE LA CALIDAD
A6: ='PANEL DE CONTROL DISTRITAL'!A6 -> Número | B6: ='PANEL DE CONTROL DISTRITAL'!B6 -> PROCESOS SUSTANTIVOS E INDICADORES | I6: SEMANA OPERATIVA | BP6: % AVANCE REGISTRADO
B7: ='PANEL DE CONTROL DISTRITAL'!B7 -> DESCRIPCIÓN | E7: ='PANEL DE CONTROL DISTRITAL'!E7 -> MEDICIÓN | I7: ='PANEL DE CONTROL DISTRITAL'!A5 -> CAMPAÑA ANUAL INTENSA 2024 CAMPAÑA ESPECIAL DE ACTUALIZACIÓN PARA EL PROCESO ELECTORAL EXTRAORDINARIO (CEAPEE) 2024-2025
B9: ='PANEL DE CONTROL DISTRITAL'!B8 -> Proceso | C9: ='PANEL DE CONTROL DISTRITAL'!C8 -> Dueño de Proceso | D9: ='PANEL DE CONTROL DISTRITAL'!D8 -> Indicador | E9: ='PANEL DE CONTROL DISTRITAL'!E8 -> Cálculo | F9: ='PANEL DE CONTROL DISTRITAL'!F8 -> Periodo | G9: ='PANEL DE CONTROL DISTRITAL'!G8 -> Estimado | H9: ='PANEL DE CONTROL DISTRITAL'!H8 -> Nominativo | I9: 2024-41 | J9: 2024-42 | K9: 2024-43 | L9: 2024-44 | M9: 2024-45 | N9: 2024-46 | O9: 2024-47 | P9: 2024-48 | Q9: 2024-49 | R9: 2024-50 | S9: 2024-51 | T9: 2024-52 | U9: 2024-53 | V9: 2024-54 | W9: 2024-55 | X9: 2024-56 | Y9: 2024-57 | Z9: 2024-58 | AA9: 2024-59 | AB9: 2025-01 | AC9: 2025-02 | AD9: 2025-03 | AE9: 2025-04 | AF9: 2025-05 | AG9: 2025-06 | AH9: 2025-07 | AI9: 2025-08 | AJ9: 2025-09 | AK9: 2025-10 | AL9: 2025-11 | AM9: 2025-12 | AN9: 2025-13 | AO9: 2025-14 | AP9: 2025-15 | AQ9: 2025-16 | AR9: 2025-17 | AS9: 2025-18 | AT9: 2025-19 | AU9: 2025-20 | AV9: 2025-21 | AW9: 2025-22 | AX9: 2025-23 | AY9: 2025-24 | AZ9: 2025-25 | BA9: 2025-26 | BB9: 2025-27 | BC9: 2025-28 | BD9: 2025-29 | BE9: 2025-30 | BF9: 2025-31 | BG9: 2025-32 | BH9: 2025-33 | BI9: 2025-34 | BJ9: 2025-35 | BK9: 2025-36 | BL9: 2025-37 | BM9: 2025-38 | BN9: 2025-39 | BO9: 2025-40
A10: ='PANEL DE CONTROL DISTRITAL'!A9 -> 1 | B10: ='PANEL DE CONTROL DISTRITAL'!B9 -> ENTREVISTA | C10: ='PANEL DE CONTROL DISTRITAL'!C9 -> Auxiliar de Atención Ciudadana | D10: ='PANEL DE CONTROL DISTRITAL'!D9 -> Fichas requisitadas correctamente= | E10: ='PANEL DE CONTROL DISTRITAL'!E9 -> (Fichas requisitadas correctamente / Fichas revisadas en la muestra del 10%) x 100 | F10: ='PANEL DE CONTROL DISTRITAL'!F9 -> Semanal (remesa) | G10: ='PANEL DE CONTROL DISTRITAL'!G9 -> 0.9 | H10: ='PANEL DE CONTROL DISTRITAL'!H9 -> Fichas requistadas correctamente | I10: 0 | J10: 86 | K10: 89 | L10: 53 | M10: 70 | N10: 70 | O10: 95 | P10: 93 | Q10: 88 | R10: 49 | S10: 96 | T10: 104 | U10: 78 | V10: 102 | W10: 101 | X10: 95 | Y10: 77 | Z10: 67 | AA10: 22 | AB10: 58 | AC10: 156 | AD10: 148 | AE10: 150 | AF10: 178 | AG10: 169 | AH10: 52 | AI10: 59 | AJ10: 69 | AK10: 58 | AL10: 4 | AM10: 33 | AN10: 40 | AO10: 37 | AP10: 42 | AQ10: 7 | AR10: 24 | AS10: 26 | AT10: 17 | AU10: 31 | AV10: 27 | AW10: 27 | AX10: 34 | AY10: 17 | AZ10: 0 | BA10: 0 | BB10: 0 | BC10: 47 | BD10: 102 | BE10: 105 | BF10: 97 | BG10: 91 | BH10: 89 | BI10: 85 | BJ10: 80 | BK10: 83 | BL10: 95 | BM10: 89 | BN10: 91 | BO10: 85 | BP10: =IFERROR(SUM(I10:BO10)/SUM(I11:BO11),0) -> 0.99629812
H11: ='PANEL DE CONTROL DISTRITAL'!H10 -> Fichas revisadas en la muestra del 10% | I11: 0 | J11: 87 | K11: 90 | L11: 55 | M11: 72 | N11: 71 | O11: 95 | P11: 93 | Q11: 88 | R11: 49 | S11: 96 | T11: 104 | U11: 78 | V11: 102 | W11: 101 | X11: 95 | Y11: 77 | Z11: 67 | AA11: 22 | AB11: 58 | AC11: 156 | AD11: 150 | AE11: 151 | AF11: 178 | AG11: 169 | AH11: 52 | AI11: 59 | AJ11: 69 | AK11: 58 | AL11: 4 | AM11: 33 | AN11: 41 | AO11: 37 | AP11: 42 | AQ11: 7 | AR11: 24 | AS11: 26 | AT11: 17 | AU11: 31 | AV11: 27 | AW11: 27 | AX11: 34 | AY11: 17 | AZ11: 0 | BA11: 0 | BB11: 0 | BC11: 49 | BD11: 103 | BE11: 105 | BF11: 97 | BG11: 91 | BH11: 89 | BI11: 85 | BJ11: 80 | BK11: 83 | BL11: 95 | BM11: 90 | BN11: 91 | BO11: 85
A13: ='PANEL DE CONTROL DISTRITAL'!A12 -> 2 | B13: ='PANEL DE CONTROL DISTRITAL'!B12 -> TRÁMITE | C13: ='PANEL DE CONTROL DISTRITAL'!C12 -> Operador de Equipo Tecnológico | D13: ='PANEL DE CONTROL DISTRITAL'!D12 -> Trámites exitosos efectivos= | E13: ='PANEL DE CONTROL DISTRITAL'!E12 -> (Número de trámites exitosos / Número de trámites aplicados) x 100 | F13: ='PANEL DE CONTROL DISTRITAL'!F12 -> Semanal (remesa) | G13: ='PANEL DE CONTROL DISTRITAL'!G12 -> 0.9 | H13: ='PANEL DE CONTROL DISTRITAL'!H12 -> Número de trámites exitosos | I13: 0 | J13: 856 | K13: 878 | L13: 527 | M13: 697 | N13: 693 | O13: 932 | P13: 918 | Q13: 860 | R13: 473 | S13: 947 | T13: 1017 | U13: 759 | V13: 999 | W13: 990 | X13: 937 | Y13: 759 | Z13: 661 | AA13: 212 | AB13: 570 | AC13: 1535 | AD13: 1470 | AE13: 1492 | AF13: 1763 | AG13: 1672 | AH13: 515 | AI13: 580 | AJ13: 681 | AK13: 677 | AL13: 37 | AM13: 325 | AN13: 398 | AO13: 362 | AP13: 405 | AQ13: 67 | AR13: 224 | AS13: 250 | AT13: 159 | AU13: 298 | AV13: 256 | AW13: 259 | AX13: 326 | AY13: 159 | AZ13: 0 | BA13: 0 | BB13: 0 | BC13: 478 | BD13: 1009 | BE13: 1033 | BF13: 960 | BG13: 897 | BH13: 876 | BI13: 839 | BJ13: 808 | BK13: 819 | BL13: 936 | BM13: 878 | BN13: 884 | BO13: 828 | BP13: =IFERROR(SUM(I13:BO13)/SUM(I14:BO14),0) -> 0.99777104
H14: ='PANEL DE CONTROL DISTRITAL'!H13 -> Número de trámites aplicados | I14: 0 | J14: 860 | K14: 881 | L14: 529 | M14: 698 | N14: 696 | O14: 933 | P14: 918 | Q14: 862 | R14: 475 | S14: 948 | T14: 1018 | U14: 759 | V14: 1003 | W14: 992 | X14: 938 | Y14: 760 | Z14: 663 | AA14: 213 | AB14: 571 | AC14: 1536 | AD14: 1474 | AE14: 1494 | AF14: 1768 | AG14: 1675 | AH14: 515 | AI14: 580 | AJ14: 683 | AK14: 677 | AL14: 37 | AM14: 325 | AN14: 398 | AO14: 362 | AP14: 405 | AQ14: 67 | AR14: 225 | AS14: 250 | AT14: 159 | AU14: 298 | AV14: 257 | AW14: 259 | AX14: 326 | AY14: 159 | AZ14: 0 | BA14: 0 | BB14: 0 | BC14: 479 | BD14: 1010 | BE14: 1036 | BF14: 961 | BG14: 901 | BH14: 880 | BI14: 842 | BJ14: 809 | BK14: 820 | BL14: 938 | BM14: 883 | BN14: 892 | BO14: 832
A16: ='PANEL DE CONTROL DISTRITAL'!A15 -> 3 | B16: ='PANEL DE CONTROL DISTRITAL'!B15 -> TRANSFERENCIA DE LA INFORMACIÓN | C16: ='PANEL DE CONTROL DISTRITAL'!C15 -> Responsable de Módulo | D16: ='PANEL DE CONTROL DISTRITAL'!D15 -> Reenvíos exitosos = | E16: ='PANEL DE CONTROL DISTRITAL'!E15 -> (Ejecución de los scripts de reenvío de notificaciones/Solicitud de reenvíos de scripts requeridos) x100 | F16: ='PANEL DE CONTROL DISTRITAL'!F15 -> Semanal (remesa) | G16: ='PANEL DE CONTROL DISTRITAL'!G15 -> 1 | H16: ='PANEL DE CONTROL DISTRITAL'!H15 -> Ejecución de los scripts de reenvío de notificaciones | I16: 0 | J16: 0 | K16: 0 | L16: 0 | M16: 0 | N16: 0 | O16: 0 | P16: 0 | Q16: 0 | R16: 0 | S16: 0 | T16: 0 | U16: 0 | V16: 0 | W16: 0 | X16: 0 | Y16: 0 | Z16: 0 | AA16: 0 | AB16: 0 | AC16: 0 | AD16: 0 | AE16: 0 | AF16: 0 | AG16: 0 | AH16: 0 | AI16: 0 | AJ16: 0 | AK16: 0 | AL16: 0 | AM16: 0 | AN16: 0 | AO16: 0 | AP16: 0 | AQ16: 0 | AR16: 0 | AS16: 0 | AT16: 0 | AU16: 0 | AV16: 0 | AW16: 0 | AX16: 0 | AY16: 0 | AZ16: 0 | BA16: 0 | BB16: 0 | BC16: 0 | BD16: 0 | BE16: 0 | BF16: 0 | BG16: 0 | BH16: 0 | BI16: 0 | BJ16: 0 | BK16: 0 | BL16: 0 | BM16: 0 | BN16: 0 | BO16: 0 | BP16: =IFERROR(SUM(I16:BO16)/SUM(I17:BO17),1) -> 1
H17: ='PANEL DE CONTROL DISTRITAL'!H16 -> Solicitud de reevíos de scripts requeridos | I17: 0 | J17: 0 | K17: 0 | L17: 0 | M17: 0 | N17: 0 | O17: 0 | P17: 0 | Q17: 0 | R17: 0 | S17: 0 | T17: 0 | U17: 0 | V17: 0 | W17: 0 | X17: 0 | Y17: 0 | Z17: 0 | AA17: 0 | AB17: 0 | AC17: 0 | AD17: 0 | AE17: 0 | AF17: 0 | AG17: 0 | AH17: 0 | AI17: 0 | AJ17: 0 | AK17: 0 | AL17: 0 | AM17: 0 | AN17: 0 | AO17: 0 | AP17: 0 | AQ17: 0 | AR17: 0 | AS17: 0 | AT17: 0 | AU17: 0 | AV17: 0 | AW17: 0 | AX17: 0 | AY17: 0 | AZ17: 0 | BA17: 0 | BB17: 0 | BC17: 0 | BD17: 0 | BE17: 0 | BF17: 0 | BG17: 0 | BH17: 0 | BI17: 0 | BJ17: 0 | BK17: 0 | BL17: 0 | BM17: 0 | BN17: 0 | BO17: 0
A19: ='PANEL DE CONTROL DISTRITAL'!A18 -> 4 | B19: ='PANEL DE CONTROL DISTRITAL'!B18 -> CONCILIACIÓN DE CREDENCIALES PARA VOTAR | C19: ='PANEL DE CONTROL DISTRITAL'!C18 -> Responsable de Módulo | D19: ='PANEL DE CONTROL DISTRITAL'!D18 -> Credenciales disponibles para entrega = | E19: ='PANEL DE CONTROL DISTRITAL'!E18 -> [(Credenciales recibidas - credenciales inconsistentes) / Credenciales recibidas] x 100 | F19: ='PANEL DE CONTROL DISTRITAL'!F18 -> Semanal (remesa) | G19: ='PANEL DE CONTROL DISTRITAL'!G18 -> 0.9 | H19: ='PANEL DE CONTROL DISTRITAL'!H18 -> Credenciales Recibidas - Credenciales inconsistentes | I19: 0 | J19: 781 | K19: 921 | L19: 464 | M19: 839 | N19: 589 | O19: 730 | P19: 1103 | Q19: 915 | R19: 511 | S19: 763 | T19: 1064 | U19: 963 | V19: 957 | W19: 836 | X19: 970 | Y19: 980 | Z19: 496 | AA19: 0 | AB19: 564 | AC19: 965 | AD19: 1845 | AE19: 1172 | AF19: 1353 | AG19: 1174 | AH19: 440 | AI19: 1894 | AJ19: 1112 | AK19: 725 | AL19: 0 | AM19: 526 | AN19: 351 | AO19: 350 | AP19: 325 | AQ19: 42 | AR19: 398 | AS19: 276 | AT19: 165 | AU19: 266 | AV19: 240 | AW19: 290 | AX19: 298 | AY19: 113 | AZ19: 194 | BA19: 0 | BB19: 0 | BC19: 231 | BD19: 608 | BE19: 1363 | BF19: 987 | BG19: 739 | BH19: 873 | BI19: 847 | BJ19: 989 | BK19: 651 | BL19: 755 | BM19: 1073 | BN19: 871 | BO19: 862 | BP19: =IFERROR(SUM(I19:BO19)/SUM(I20:BO20),0) -> 0.99994976
H20: ='PANEL DE CONTROL DISTRITAL'!H19 -> Credenciales recibidas | I20: 0 | J20: 781 | K20: 921 | L20: 464 | M20: 839 | N20: 589 | O20: 730 | P20: 1103 | Q20: 915 | R20: 511 | S20: 763 | T20: 1064 | U20: 963 | V20: 957 | W20: 836 | X20: 970 | Y20: 980 | Z20: 496 | AA20: 0 | AB20: 564 | AC20: 965 | AD20: 1845 | AE20: 1172 | AF20: 1353 | AG20: 1174 | AH20: 440 | AI20: 1894 | AJ20: 1112 | AK20: 725 | AL20: 0 | AM20: 526 | AN20: 351 | AO20: 350 | AP20: 325 | AQ20: 42 | AR20: 398 | AS20: 276 | AT20: 165 | AU20: 266 | AV20: 240 | AW20: 290 | AX20: 298 | AY20: 113 | AZ20: 194 | BA20: 0 | BB20: 0 | BC20: 231 | BD20: 608 | BE20: 1363 | BF20: 987 | BG20: 739 | BH20: 873 | BI20: 847 | BJ20: 989 | BK20: 652 | BL20: 755 | BM20: 1074 | BN20: 871 | BO20: 862
A22: ='PANEL DE CONTROL DISTRITAL'!A21 -> 5 | B22: ='PANEL DE CONTROL DISTRITAL'!B21 -> CONCILIACIÓN DE CREDENCIALES PARA VOTAR | C22: ='PANEL DE CONTROL DISTRITAL'!C21 -> Responsable de Módulo | D22: ='PANEL DE CONTROL DISTRITAL'!D21 -> Arqueo de Credenciales = | E22: ='PANEL DE CONTROL DISTRITAL'!E21 -> (Credenciales disponibles (físicas)/ Credenciales disponibles registradas en SIIRFE) x 100 | F22: ='PANEL DE CONTROL DISTRITAL'!F21 -> Semanal (remesa) | G22: ='PANEL DE CONTROL DISTRITAL'!G21 -> 1 | H22: ='PANEL DE CONTROL DISTRITAL'!H21 -> Credenciales disponibles (físicas) | I22: 1221 | J22: 1261 | K22: 1356 | L22: 1061 | M22: 1262 | N22: 1139 | O22: 1231 | P22: 1448 | Q22: 1530 | R22: 1599 | S22: 1282 | T22: 1645 | U22: 1661 | V22: 1730 | W22: 1699 | X22: 1653 | Y22: 1680 | Z22: 1371 | AA22: 1150 | AB22: 1360 | AC22: 1422 | AD22: 2101 | AE22: 1720 | AF22: 1539 | AG22: 1342 | AH22: 1772 | AI22: 2171 | AJ22: 1616 | AK22: 1612 | AL22: 1458 | AM22: 1170 | AN22: 930 | AO22: 809 | AP22: 641 | AQ22: 321 | AR22: 445 | AS22: 488 | AT22: 523 | AU22: 453 | AV22: 512 | AW22: 538 | AX22: 526 | AY22: 513 | AZ22: 414 | BA22: 0 | BB22: 0 | BC22: 619 | BD22: 968 | BE22: 1611 | BF22: 1663 | BG22: 1442 | BH22: 1427 | BI22: 1405 | BJ22: 1520 | BK22: 1312 | BL22: 1229 | BM22: 1457 | BN22: 1439 | BO22: 1385 | BP22: =IFERROR(SUM(I22:BO22)/SUM(I23:BO23),0) -> 1
H23: ='PANEL DE CONTROL DISTRITAL'!H22 -> Credenciales disponibles registradas en SIIRFE | I23: 1221 | J23: 1261 | K23: 1356 | L23: 1061 | M23: 1262 | N23: 1139 | O23: 1231 | P23: 1448 | Q23: 1530 | R23: 1599 | S23: 1282 | T23: 1645 | U23: 1661 | V23: 1730 | W23: 1699 | X23: 1653 | Y23: 1680 | Z23: 1371 | AA23: 1150 | AB23: 1360 | AC23: 1422 | AD23: 2101 | AE23: 1720 | AF23: 1539 | AG23: 1342 | AH23: 1772 | AI23: 2171 | AJ23: 1616 | AK23: 1612 | AL23: 1458 | AM23: 1170 | AN23: 930 | AO23: 809 | AP23: 641 | AQ23: 321 | AR23: 445 | AS23: 488 | AT23: 523 | AU23: 453 | AV23: 512 | AW23: 538 | AX23: 526 | AY23: 513 | AZ23: 414 | BA23: 0 | BB23: 0 | BC23: 619 | BD23: 968 | BE23: 1611 | BF23: 1663 | BG23: 1442 | BH23: 1427 | BI23: 1405 | BJ23: 1520 | BK23: 1312 | BL23: 1229 | BM23: 1457 | BN23: 1439 | BO23: 1385
A25: ='PANEL DE CONTROL DISTRITAL'!A24 -> 6 | B25: ='PANEL DE CONTROL DISTRITAL'!B24 -> ENTREGA DE LA CREDENCIAL PARA VOTAR | C25: ='PANEL DE CONTROL DISTRITAL'!C24 -> Operador de Equipo Tecnológico | D25: ='PANEL DE CONTROL DISTRITAL'!D24 -> Efectividad de entrega de CPV en MAC = | E25: ='PANEL DE CONTROL DISTRITAL'!E24 -> (Total de credenciales entregadas / Total de ciudadanas y ciudadanos que acuden al MAC a recoger su credencial) x 100 | F25: ='PANEL DE CONTROL DISTRITAL'!F24 -> Semanal (remesa) | G25: ='PANEL DE CONTROL DISTRITAL'!G24 -> 0.9 | H25: ='PANEL DE CONTROL DISTRITAL'!H24 -> Total de credenciales entregadas | I25: 0 | J25: 741 | K25: 819 | L25: 759 | M25: 638 | N25: 712 | O25: 638 | P25: 875 | Q25: 833 | R25: 442 | S25: 1080 | T25: 701 | U25: 947 | V25: 881 | W25: 867 | X25: 1016 | Y25: 953 | Z25: 796 | AA25: 221 | AB25: 354 | AC25: 893 | AD25: 1166 | AE25: 1553 | AF25: 1534 | AG25: 1364 | AH25: 10 | AI25: 1495 | AJ25: 1667 | AK25: 705 | AL25: 154 | AM25: 814 | AN25: 591 | AO25: 471 | AP25: 482 | AQ25: 107 | AR25: 274 | AS25: 233 | AT25: 130 | AU25: 336 | AV25: 181 | AW25: 264 | AX25: 310 | AY25: 126 | AZ25: 293 | BA25: 0 | BB25: 0 | BC25: 25 | BD25: 259 | BE25: 720 | BF25: 935 | BG25: 960 | BH25: 844 | BI25: 869 | BJ25: 874 | BK25: 859 | BL25: 838 | BM25: 839 | BN25: 889 | BO25: 916 | BP25: =IFERROR(SUM(I25:BO25)/SUM(I26:BO26),0) -> 0.99949074
H26: ='PANEL DE CONTROL DISTRITAL'!H25 -> Total de ciudadanas y ciudadanos que acuden al MAC a recoger su credencial | I26: 0 | J26: 741 | K26: 819 | L26: 759 | M26: 638 | N26: 712 | O26: 641 | P26: 876 | Q26: 834 | R26: 442 | S26: 1081 | T26: 701 | U26: 948 | V26: 881 | W26: 867 | X26: 1016 | Y26: 953 | Z26: 796 | AA26: 221 | AB26: 355 | AC26: 895 | AD26: 1167 | AE26: 1553 | AF26: 1534 | AG26: 1364 | AH26: 10 | AI26: 1495 | AJ26: 1667 | AK26: 705 | AL26: 154 | AM26: 814 | AN26: 592 | AO26: 471 | AP26: 482 | AQ26: 107 | AR26: 274 | AS26: 233 | AT26: 131 | AU26: 336 | AV26: 181 | AW26: 264 | AX26: 310 | AY26: 126 | AZ26: 293 | BA26: 0 | BB26: 0 | BC26: 25 | BD26: 259 | BE26: 721 | BF26: 936 | BG26: 962 | BH26: 844 | BI26: 869 | BJ26: 874 | BK26: 860 | BL26: 839 | BM26: 839 | BN26: 889 | BO26: 917
B27: *Registre el valor nominal solicitado en la celda, el resultado proporcional esta automatizado.
I29: Semaforización
J30: Valor que requiere atención y justificación en el apartado de observaciones
J31: Valor suficiente
J32: Valor esperado
B34: CUADRO DE OBSERVACIONES
B35: Descripción | H35: No conformidad

Sheet 090251
A1: ='PANEL DE CONTROL DISTRITAL'!A1:Q1 -> INSTITUTO NACIONAL ELECTORAL SISTEMA DE GESTIÓN DE LA CALIDAD CIUDAD DE MÉXICO
D2: Distrito | E2: 2 | F2: Módulo | H2: 90251
A4: TABLERO DE CONTROL DE PROCESOS SUSTANTIVOS DEL SISTEMA DE GESTIÓN DE LA CALIDAD
A6: ='PANEL DE CONTROL DISTRITAL'!A6 -> Número | B6: ='PANEL DE CONTROL DISTRITAL'!B6 -> PROCESOS SUSTANTIVOS E INDICADORES | I6: SEMANA OPERATIVA | BP6: % AVANCE REGISTRADO
B7: ='PANEL DE CONTROL DISTRITAL'!B7 -> DESCRIPCIÓN | E7: ='PANEL DE CONTROL DISTRITAL'!E7 -> MEDICIÓN | I7: ='PANEL DE CONTROL DISTRITAL'!A5 -> CAMPAÑA ANUAL INTENSA 2024 CAMPAÑA ESPECIAL DE ACTUALIZACIÓN PARA EL PROCESO ELECTORAL EXTRAORDINARIO (CEAPEE) 2024-2025
B9: ='PANEL DE CONTROL DISTRITAL'!B8 -> Proceso | C9: ='PANEL DE CONTROL DISTRITAL'!C8 -> Dueño de Proceso | D9: ='PANEL DE CONTROL DISTRITAL'!D8 -> Indicador | E9: ='PANEL DE CONTROL DISTRITAL'!E8 -> Cálculo | F9: ='PANEL DE CONTROL DISTRITAL'!F8 -> Periodo | G9: ='PANEL DE CONTROL DISTRITAL'!G8 -> Estimado | H9: ='PANEL DE CONTROL DISTRITAL'!H8 -> Nominativo | I9: ='090151'!I9 -> 2024-41 | J9: ='090151'!J9 -> 2024-42 | K9: ='090151'!K9 -> 2024-43 | L9: ='090151'!L9 -> 2024-44 | M9: ='090151'!M9 -> 2024-45 | N9: ='090151'!N9 -> 2024-46 | O9: ='090151'!O9 -> 2024-47 | P9: ='090151'!P9 -> 2024-48 | ... BO9: ='090151'!BO9 -> 2025-40
A10: ='PANEL DE CONTROL DISTRITAL'!A9 -> 1 | B10: ='PANEL DE CONTROL DISTRITAL'!B9 -> ENTREVISTA | C10: ='PANEL DE CONTROL DISTRITAL'!C9 -> Auxiliar de Atención Ciudadana | D10: ='PANEL DE CONTROL DISTRITAL'!D9 -> Fichas requisitadas correctamente= | E10: ='PANEL DE CONTROL DISTRITAL'!E9 -> (Fichas requisitadas correctamente / Fichas revisadas en la muestra del 10%) x 100 | F10: ='PANEL DE CONTROL DISTRITAL'!F9 -> Semanal (remesa) | G10: ='PANEL DE CONTROL DISTRITAL'!G9 -> 0.9 | H10: ='PANEL DE CONTROL DISTRITAL'!H9 -> Fichas requistadas correctamente | I10: 0 | J10: 187 | K10: 183 | L10: 116 | M10: 179 | N10: 158 | O10: 200 | P10: 197 | Q10: 171 | R10: 157 | S10: 191 | T10: 186 | U10: 159 | V10: 207 | W10: 210 | X10: 179 | Y10: 164 | Z10: 108 | AA10: 40 | AB10: 109 | AC10: 302 | AD10: 315 | AE10: 322 | AF10: 365 | AG10: 347 | AH10: 102 | AI10: 97 | AJ10: 134 | AK10: 157 | AL10: 5 | AM10: 57 | AN10: 72 | AO10: 69 | AP10: 85 | AQ10: 18 | AR10: 56 | AS10: 77 | AT10: 52 | AU10: 81 | AV10: 60 | AW10: 73 | AX10: 88 | AY10: 49 | AZ10: 0 | BA10: 0 | BB10: 0 | BC10: 30 | BD10: 191 | BE10: 262 | BF10: 213 | BG10: 234 | BH10: 227 | BI10: 197 | BJ10: 198 | BK10: 219 | BL10: 217 | BM10: 205 | BN10: 203 | BO10: 192 | BP10: =IFERROR(SUM(I10:BO10)/SUM(I11:BO11),0) -> 0.96088643
H11: ='PANEL DE CONTROL DISTRITAL'!H10 -> Fichas revisadas en la muestra del 10% | I11: 0 | J11: 189 | K11: 186 | L11: 117 | M11: 180 | N11: 160 | O11: 203 | P11: 198 | Q11: 185 | R11: 172 | S11: 205 | T11: 194 | U11: 168 | V11: 213 | W11: 212 | X11: 179 | Y11: 177 | Z11: 120 | AA11: 40 | AB11: 114 | AC11: 309 | AD11: 327 | AE11: 333 | AF11: 380 | AG11: 357 | AH11: 106 | AI11: 102 | AJ11: 134 | AK11: 157 | AL11: 5 | AM11: 57 | AN11: 72 | AO11: 69 | AP11: 85 | AQ11: 18 | AR11: 56 | AS11: 77 | AT11: 52 | AU11: 81 | AV11: 60 | AW11: 73 | AX11: 88 | AY11: 50 | AZ11: 0 | BA11: 0 | BB11: 0 | BC11: 30 | BD11: 195 | BE11: 262 | BF11: 240 | BG11: 244 | BH11: 243 | BI11: 217 | BJ11: 228 | BK11: 230 | BL11: 236 | BM11: 217 | BN11: 215 | BO11: 208
A13: ='PANEL DE CONTROL DISTRITAL'!A12 -> 2 | B13: ='PANEL DE CONTROL DISTRITAL'!B12 -> TRÁMITE | C13: ='PANEL DE CONTROL DISTRITAL'!C12 -> Operador de Equipo Tecnológico | D13: ='PANEL DE CONTROL DISTRITAL'!D12 -> Trámites exitosos efectivos= | E13: ='PANEL DE CONTROL DISTRITAL'!E12 -> (Número de trámites exitosos / Número de trámites aplicados) x 100 | F13: ='PANEL DE CONTROL DISTRITAL'!F12 -> Semanal (remesa) | G13: ='PANEL DE CONTROL DISTRITAL'!G12 -> 0.9 | H13: ='PANEL DE CONTROL DISTRITAL'!H12 -> Número de trámites exitosos | I13: 0 | J13: 1878 | K13: 1863 | L13: 1167 | M13: 1777 | N13: 1592 | O13: 2021 | P13: 1970 | Q13: 1849 | R13: 1714 | S13: 2043 | T13: 1931 | U13: 1678 | V13: 2134 | W13: 2112 | X13: 1773 | Y13: 1761 | Z13: 1201 | AA13: 403 | AB13: 1140 | AC13: 3087 | AD13: 3261 | AE13: 3324 | AF13: 3791 | AG13: 3555 | AH13: 1058 | AI13: 1024 | AJ13: 1340 | AK13: 1566 | AL13: 25 | AM13: 572 | AN13: 719 | AO13: 685 | AP13: 851 | AQ13: 180 | AR13: 563 | AS13: 772 | AT13: 524 | AU13: 810 | AV13: 602 | AW13: 734 | AX13: 876 | AY13: 500 | AZ13: 0 | BA13: 0 | BB13: 0 | BC13: 294 | BD13: 1947 | BE13: 2615 | BF13: 2397 | BG13: 2432 | BH13: 2426 | BI13: 2165 | BJ13: 2270 | BK13: 2294 | BL13: 2352 | BM13: 2163 | BN13: 2133 | BO13: 2073 | BP13: =IFERROR(SUM(I13:BO13)/SUM(I14:BO14),0) -> 0.99736215
H14: ='PANEL DE CONTROL DISTRITAL'!H13 -> Número de trámites aplicados | I14: 0 | J14: 1885 | K14: 1868 | L14: 1169 | M14: 1782 | N14: 1592 | O14: 2026 | P14: 1978 | Q14: 1852 | R14: 1720 | S14: 2050 | T14: 1944 | U14: 1682 | V14: 2139 | W14: 2118 | X14: 1778 | Y14: 1764 | Z14: 1203 | AA14: 403 | AB14: 1141 | AC14: 3090 | AD14: 3267 | AE14: 3327 | AF14: 3803 | AG14: 3565 | AH14: 1059 | AI14: 1026 | AJ14: 1342 | AK14: 1569 | AL14: 25 | AM14: 573 | AN14: 719 | AO14: 685 | AP14: 852 | AQ14: 180 | AR14: 564 | AS14: 773 | AT14: 524 | AU14: 810 | AV14: 602 | AW14: 734 | AX14: 876 | AY14: 500 | AZ14: 0 | BA14: 0 | BB14: 0 | BC14: 295 | BD14: 1950 | BE14: 2621 | BF14: 2404 | BG14: 2439 | BH14: 2431 | BI14: 2174 | BJ14: 2282 | BK14: 2300 | BL14: 2366 | BM14: 2172 | BN14: 2147 | BO14: 2085
A16: ='PANEL DE CONTROL DISTRITAL'!A15 -> 3 | B16: ='PANEL DE CONTROL DISTRITAL'!B15 -> TRANSFERENCIA DE LA INFORMACIÓN | C16: ='PANEL DE CONTROL DISTRITAL'!C15 -> Responsable de Módulo | D16: ='PANEL DE CONTROL DISTRITAL'!D15 -> Reenvíos exitosos = | E16: ='PANEL DE CONTROL DISTRITAL'!E15 -> (Ejecución de los scripts de reenvío de notificaciones/Solicitud de reenvíos de scripts requeridos) x100 | F16: ='PANEL DE CONTROL DISTRITAL'!F15 -> Semanal (remesa) | G16: ='PANEL DE CONTROL DISTRITAL'!G15 -> 1 | H16: ='PANEL DE CONTROL DISTRITAL'!H15 -> Ejecución de los scripts de reenvío de notificaciones | I16: 0 | J16: 0 | K16: 0 | L16: 0 | M16: 1 | N16: 0 | O16: 0 | P16: 0 | Q16: 0 | R16: 0 | S16: 0 | T16: 0 | U16: 0 | V16: 0 | W16: 0 | X16: 0 | Y16: 0 | Z16: 0 | AA16: 0 | AB16: 0 | AC16: 0 | AD16: 0 | AE16: 0 | AF16: 1 | AG16: 0 | AH16: 0 | AI16: 0 | AJ16: 0 | AK16: 0 | AL16: 0 | AM16: 0 | AN16: 0 | AO16: 0 | AP16: 0 | AQ16: 0 | AR16: 0 | AS16: 0 | AT16: 0 | AU16: 0 | AV16: 0 | AW16: 0 | AX16: 0 | AY16: 0 | AZ16: 0 | BA16: 0 | BB16: 0 | BC16: 0 | BD16: 0 | BE16: 0 | BF16: 0 | BG16: 0 | BH16: 0 | BI16: 0 | BJ16: 0 | BK16: 0 | BL16: 0 | BM16: 0 | BN16: 0 | BO16: 0 | BP16: =IFERROR(SUM(I16:BO16)/SUM(I17:BO17),1) -> 1
H17: ='PANEL DE CONTROL DISTRITAL'!H16 -> Solicitud de reevíos de scripts requeridos | I17: 0 | J17: 0 | K17: 0 | L17: 0 | M17: 1 | N17: 0 | O17: 0 | P17: 0 | Q17: 0 | R17: 0 | S17: 0 | T17: 0 | U17: 0 | V17: 0 | W17: 0 | X17: 0 | Y17: 0 | Z17: 0 | AA17: 0 | AB17: 0 | AC17: 0 | AD17: 0 | AE17: 0 | AF17: 1 | AG17: 0 | AH17: 0 | AI17: 0 | AJ17: 0 | AK17: 0 | AL17: 0 | AM17: 0 | AN17: 0 | AO17: 0 | AP17: 0 | AQ17: 0 | AR17: 0 | AS17: 0 | AT17: 0 | AU17: 0 | AV17: 0 | AW17: 0 | AX17: 0 | AY17: 0 | AZ17: 0 | BA17: 0 | BB17: 0 | BC17: 0 | BD17: 0 | BE17: 0 | BF17: 0 | BG17: 0 | BH17: 0 | BI17: 0 | BJ17: 0 | BK17: 0 | BL17: 0 | BM17: 0 | BN17: 0 | BO17: 0
A19: ='PANEL DE CONTROL DISTRITAL'!A18 -> 4 | B19: ='PANEL DE CONTROL DISTRITAL'!B18 -> CONCILIACIÓN DE CREDENCIALES PARA VOTAR | C19: ='PANEL DE CONTROL DISTRITAL'!C18 -> Responsable de Módulo | D19: ='PANEL DE CONTROL DISTRITAL'!D18 -> Credenciales disponibles para entrega = | E19: ='PANEL DE CONTROL DISTRITAL'!E18 -> [(Credenciales recibidas - credenciales inconsistentes) / Credenciales recibidas] x 100 | F19: ='PANEL DE CONTROL DISTRITAL'!F18 -> Semanal (remesa) | G19: ='PANEL DE CONTROL DISTRITAL'!G18 -> 0.9 | H19: ='PANEL DE CONTROL DISTRITAL'!H18 -> Credenciales Recibidas - Credenciales inconsistentes | I19: 0 | J19: 1923 | K19: 1937 | L19: 963 | M19: 1987 | N19: 1443 | O19: 1628 | P19: 2342 | Q19: 1939 | R19: 1882 | S19: 1879 | T19: 1896 | U19: 1664 | V19: 2072 | W19: 1743 | X19: 2356 | Y19: 1682 | Z19: 1107 | AA19: 355 | AB19: 921 | AC19: 1981 | AD19: 3749 | AE19: 2638 | AF19: 2938 | AG19: 2687 | AH19: 0 | AI19: 4141 | AJ19: 2925 | AK19: 1432 | AL19: 0 | AM19: 1004 | AN19: 668 | AO19: 618 | AP19: 646 | AQ19: 117 | AR19: 940 | AS19: 728 | AT19: 510 | AU19: 845 | AV19: 578 | AW19: 724 | AX19: 847 | AY19: 315 | AZ19: 588 | BA19: 1 | BB19: 0 | BC19: 202 | BD19: 913 | BE19: 2511 | BF19: 2547 | BG19: 2393 | BH19: 2457 | BI19: 2271 | BJ19: 2227 | BK19: 2297 | BL19: 1897 | BM19: 2660 | BN19: 2181 | BO19: 2066 | BP19: =IFERROR(SUM(I19:BO19)/SUM(I20:BO20),0) -> 0.99998888
H20: ='PANEL DE CONTROL DISTRITAL'!H19 -> Credenciales recibidas | I20: 0 | J20: 1923 | K20: 1937 | L20: 963 | M20: 1987 | N20: 1443 | O20: 1628 | P20: 2342 | Q20: 1939 | R20: 1882 | S20: 1879 | T20: 1896 | U20: 1664 | V20: 2072 | W20: 1743 | X20: 2356 | Y20: 1682 | Z20: 1107 | AA20: 355 | AB20: 921 | AC20: 1981 | AD20: 3749 | AE20: 2639 | AF20: 2938 | AG20: 2687 | AH20: 0 | AI20: 4141 | AJ20: 2925 | AK20: 1432 | AL20: 0 | AM20: 1004 | AN20: 668 | AO20: 618 | AP20: 646 | AQ20: 117 | AR20: 940 | AS20: 728 | AT20: 510 | AU20: 845 | AV20: 578 | AW20: 724 | AX20: 847 | AY20: 315 | AZ20: 588 | BA20: 1 | BB20: 0 | BC20: 202 | BD20: 913 | BE20: 2511 | BF20: 2547 | BG20: 2393 | BH20: 2457 | BI20: 2271 | BJ20: 2227 | BK20: 2297 | BL20: 1897 | BM20: 2660 | BN20: 2181 | BO20: 2066
A22: ='PANEL DE CONTROL DISTRITAL'!A21 -> 5 | B22: ='PANEL DE CONTROL DISTRITAL'!B21 -> CONCILIACIÓN DE CREDENCIALES PARA VOTAR | C22: ='PANEL DE CONTROL DISTRITAL'!C21 -> Responsable de Módulo | D22: ='PANEL DE CONTROL DISTRITAL'!D21 -> Arqueo de Credenciales = | E22: ='PANEL DE CONTROL DISTRITAL'!E21 -> (Credenciales disponibles (físicas)/ Credenciales disponibles registradas en SIIRFE) x 100 | F22: ='PANEL DE CONTROL DISTRITAL'!F21 -> Semanal (remesa) | G22: ='PANEL DE CONTROL DISTRITAL'!G21 -> 1 | H22: ='PANEL DE CONTROL DISTRITAL'!H21 -> Credenciales disponibles (físicas) | I22: 0 | J22: 3554 | K22: 3463 | L22: 2769 | M22: 3291 | N22: 3166 | O22: 2738 | P22: 3552 | Q22: 3581 | R22: 3564 | S22: 3529 | T22: 3239 | U22: 3285 | V22: 3369 | W22: 3034 | X22: 4205 | Y22: 3723 | Z22: 3911 | AA22: 3805 | AB22: 4176 | AC22: 4387 | AD22: 5279 | AE22: 4644 | AF22: 4195 | AG22: 3678 | AH22: 3499 | AI22: 6519 | AJ22: 6151 | AK22: 4356 | AL22: 4063 | AM22: 2797 | AN22: 1805 | AO22: 1484 | AP22: 1140 | AQ22: 1081 | AR22: 783 | AS22: 772 | AT22: 782 | AU22: 908 | AV22: 763 | AW22: 935 | AX22: 853 | AY22: 819 | AZ22: 703 | BA22: 288 | BB22: 0 | BC22: 960 | BD22: 1747 | BE22: 3202 | BF22: 3754 | BG22: 3697 | BH22: 3840 | BI22: 3765 | BJ22: 3777 | BK22: 3912 | BL22: 3556 | BM22: 3918 | BN22: 3899 | BO22: 3776 | BP22: =IFERROR(SUM(I22:BO22)/SUM(I23:BO23),0) -> 1
H23: ='PANEL DE CONTROL DISTRITAL'!H22 -> Credenciales disponibles registradas en SIIRFE | I23: 0 | J23: 3554 | K23: 3463 | L23: 2769 | M23: 3291 | N23: 3166 | O23: 2738 | P23: 3552 | Q23: 3581 | R23: 3564 | S23: 3529 | T23: 3239 | U23: 3285 | V23: 3369 | W23: 3034 | X23: 4205 | Y23: 3723 | Z23: 3911 | AA23: 3805 | AB23: 4176 | AC23: 4387 | AD23: 5279 | AE23: 4644 | AF23: 4195 | AG23: 3678 | AH23: 3499 | AI23: 6519 | AJ23: 6151 | AK23: 4356 | AL23: 4063 | AM23: 2797 | AN23: 1805 | AO23: 1484 | AP23: 1140 | AQ23: 1081 | AR23: 783 | AS23: 772 | AT23: 782 | AU23: 908 | AV23: 763 | AW23: 935 | AX23: 853 | AY23: 819 | AZ23: 703 | BA23: 288 | BB23: 0 | BC23: 960 | BD23: 1747 | BE23: 3202 | BF23: 3754 | BG23: 3697 | BH23: 3840 | BI23: 3765 | BJ23: 3777 | BK23: 3912 | BL23: 3556 | BM23: 3918 | BN23: 3899 | BO23: 3776
A25: ='PANEL DE CONTROL DISTRITAL'!A24 -> 6 | B25: ='PANEL DE CONTROL DISTRITAL'!B24 -> ENTREGA DE LA CREDENCIAL PARA VOTAR | C25: ='PANEL DE CONTROL DISTRITAL'!C24 -> Operador de Equipo Tecnológico | D25: ='PANEL DE CONTROL DISTRITAL'!D24 -> Efectividad de entrega de CPV en MAC = | E25: ='PANEL DE CONTROL DISTRITAL'!E24 -> (Total de credenciales entregadas / Total de ciudadanas y ciudadanos que acuden al MAC a recoger su credencial) x 100 | F25: ='PANEL DE CONTROL DISTRITAL'!F24 -> Semanal (remesa) | G25: ='PANEL DE CONTROL DISTRITAL'!G24 -> 0.9 | H25: ='PANEL DE CONTROL DISTRITAL'!H24 -> Total de credenciales entregadas | I25: 0 | J25: 1885 | K25: 2018 | L25: 1657 | M25: 1464 | N25: 1568 | O25: 2056 | P25: 1517 | Q25: 1910 | R25: 1899 | S25: 1914 | T25: 2186 | U25: 1618 | V25: 1975 | W25: 2078 | X25: 1185 | Y25: 2164 | Z25: 908 | AA25: 461 | AB25: 550 | AC25: 1770 | AD25: 2856 | AE25: 3273 | AF25: 3387 | AG25: 3182 | AH25: 179 | AI25: 1121 | AJ25: 3293 | AK25: 3117 | AL25: 293 | AM25: 2270 | AN25: 1660 | AO25: 939 | AP25: 974 | AQ25: 176 | AR25: 599 | AS25: 739 | AT25: 500 | AU25: 719 | AV25: 723 | AW25: 552 | AX25: 929 | AY25: 349 | AZ25: 704 | BA25: 416 | BB25: 0 | BC25: 64 | BD25: 126 | BE25: 1056 | BF25: 1995 | BG25: 2450 | BH25: 2259 | BI25: 2346 | BJ25: 2215 | BK25: 2162 | BL25: 2253 | BM25: 2274 | BN25: 2200 | BO25: 2189 | BP25: =IFERROR(SUM(I25:BO25)/SUM(I26:BO26),0) -> 0.99648583
H26: ='PANEL DE CONTROL DISTRITAL'!H25 -> Total de ciudadanas y ciudadanos que acuden al MAC a recoger su credencial | I26: 0 | J26: 1891 | K26: 2023 | L26: 1666 | M26: 1500 | N26: 1575 | O26: 2060 | P26: 1531 | Q26: 1979 | R26: 1910 | S26: 1921 | T26: 2194 | U26: 1627 | V26: 1979 | W26: 2081 | X26: 1189 | Y26: 2165 | Z26: 914 | AA26: 461 | AB26: 550 | AC26: 1773 | AD26: 2859 | AE26: 3277 | AF26: 3394 | AG26: 3190 | AH26: 179 | AI26: 1123 | AJ26: 3293 | AK26: 3117 | AL26: 293 | AM26: 2271 | AN26: 1660 | AO26: 940 | AP26: 974 | AQ26: 176 | AR26: 599 | AS26: 739 | AT26: 500 | AU26: 719 | AV26: 723 | AW26: 552 | AX26: 929 | AY26: 349 | AZ26: 704 | BA26: 416 | BB26: 0 | BC26: 65 | BD26: 126 | BE26: 1060 | BF26: 2004 | BG26: 2453 | BH26: 2267 | BI26: 2358 | BJ26: 2228 | BK26: 2169 | BL26: 2263 | BM26: 2279 | BN26: 2204 | BO26: 2196
B27: *Registre el valor nominal solicitado en la celda, el resultado proporcional esta automatizado.
I29: Semaforización
J30: Valor que requiere atención y justificación en el apartado de observaciones
J31: Valor suficiente
J32: Valor esperado
B34: CUADRO DE OBSERVACIONES
B35: Descripción | H35: No conformidad

Sheet 090351
A1: ='PANEL DE CONTROL DISTRITAL'!A1:Q1 -> INSTITUTO NACIONAL ELECTORAL SISTEMA DE GESTIÓN DE LA CALIDAD CIUDAD DE MÉXICO
D2: Distrito | E2: 3 | F2: Módulo | H2: 90351
A4: TABLERO DE CONTROL DE PROCESOS SUSTANTIVOS DEL SISTEMA DE GESTIÓN DE LA CALIDAD
A6: ='PANEL DE CONTROL DISTRITAL'!A6 -> Número | B6: ='PANEL DE CONTROL DISTRITAL'!B6 -> PROCESOS SUSTANTIVOS E INDICADORES | I6: SEMANA OPERATIVA | BP6: % AVANCE REGISTRADO
B7: ='PANEL DE CONTROL DISTRITAL'!B7 -> DESCRIPCIÓN | E7: ='PANEL DE CONTROL DISTRITAL'!E7 -> MEDICIÓN | I7: ='PANEL DE CONTROL DISTRITAL'!A5 -> CAMPAÑA ANUAL INTENSA 2024 CAMPAÑA ESPECIAL DE ACTUALIZACIÓN PARA EL PROCESO ELECTORAL EXTRAORDINARIO (CEAPEE) 2024-2025
B9: ='PANEL DE CONTROL DISTRITAL'!B8 -> Proceso | C9: ='PANEL DE CONTROL DISTRITAL'!C8 -> Dueño de Proceso | D9: ='PANEL DE CONTROL DISTRITAL'!D8 -> Indicador | E9: ='PANEL DE CONTROL DISTRITAL'!E8 -> Cálculo | F9: ='PANEL DE CONTROL DISTRITAL'!F8 -> Periodo | G9: ='PANEL DE CONTROL DISTRITAL'!G8 -> Estimado | H9: ='PANEL DE CONTROL DISTRITAL'!H8 -> Nominativo | I9: ='090151'!I9 -> 2024-41 | J9: ='090151'!J9 -> 2024-42 | K9: ='090151'!K9 -> 2024-43 | L9: ='090151'!L9 -> 2024-44 | M9: ='090151'!M9 -> 2024-45 | N9: ='090151'!N9 -> 2024-46 | O9: ='090151'!O9 -> 2024-47 | P9: ='090151'!P9 -> 2024-48 | ... BO9: ='090151'!BO9 -> 2025-40
A10: ='PANEL DE CONTROL DISTRITAL'!A9 -> 1 | B10: ='PANEL DE CONTROL DISTRITAL'!B9 -> ENTREVISTA | C10: ='PANEL DE CONTROL DISTRITAL'!C9 -> Auxiliar de Atención Ciudadana | D10: ='PANEL DE CONTROL DISTRITAL'!D9 -> Fichas requisitadas correctamente= | E10: ='PANEL DE CONTROL DISTRITAL'!E9 -> (Fichas requisitadas correctamente / Fichas revisadas en la muestra del 10%) x 100 | F10: ='PANEL DE CONTROL DISTRITAL'!F9 -> Semanal (remesa) | G10: ='PANEL DE CONTROL DISTRITAL'!G9 -> 0.9 | H10: ='PANEL DE CONTROL DISTRITAL'!H9 -> Fichas requistadas correctamente | I10: 0 | J10: 118 | K10: 115 | L10: 72 | M10: 125 | N10: 95 | O10: 128 | P10: 128 | Q10: 118 | R10: 85 | S10: 148 | T10: 127 | U10: 111 | V10: 144 | W10: 150 | X10: 133 | Y10: 106 | Z10: 96 | AA10: 27 | AB10: 95 | AC10: 187 | AD10: 200 | AE10: 197 | AF10: 222 | AG10: 174 | AH10: 83 | AI10: 84 | AJ10: 123 | AK10: 116 | AL10: 5 | AM10: 55 | AN10: 59 | AO10: 50 | AP10: 60 | AQ10: 12 | AR10: 42 | AS10: 55 | AT10: 32 | AU10: 64 | AV10: 50 | AW10: 55 | AX10: 67 | AY10: 35 | AZ10: 0 | BA10: 0 | BB10: 0 | BC10: 76 | BD10: 131 | BE10: 177 | BF10: 177 | BG10: 145 | BH10: 147 | BI10: 147 | BJ10: 148 | BK10: 152 | BL10: 154 | BM10: 151 | BN10: 159 | BO10: 142 | BP10: =IFERROR(SUM(I10:BO10)/SUM(I11:BO11),0) -> 0.99983485
H11: ='PANEL DE CONTROL DISTRITAL'!H10 -> Fichas revisadas en la muestra del 10% | I11: 0 | J11: 118 | K11: 115 | L11: 72 | M11: 125 | N11: 96 | O11: 128 | P11: 128 | Q11: 118 | R11: 85 | S11: 148 | T11: 127 | U11: 111 | V11: 144 | W11: 150 | X11: 133 | Y11: 106 | Z11: 96 | AA11: 27 | AB11: 95 | AC11: 187 | AD11: 200 | AE11: 197 | AF11: 222 | AG11: 174 | AH11: 83 | AI11: 84 | AJ11: 123 | AK11: 116 | AL11: 5 | AM11: 55 | AN11: 59 | AO11: 50 | AP11: 60 | AQ11: 12 | AR11: 42 | AS11: 55 | AT11: 32 | AU11: 64 | AV11: 50 | AW11: 55 | AX11: 67 | AY11: 35 | AZ11: 0 | BA11: 0 | BB11: 0 | BC11: 76 | BD11: 131 | BE11: 177 | BF11: 177 | BG11: 145 | BH11: 147 | BI11: 147 | BJ11: 148 | BK11: 152 | BL11: 154 | BM11: 151 | BN11: 159 | BO11: 142
A13: ='PANEL DE CONTROL DISTRITAL'!A12 -> 2 | B13: ='PANEL DE CONTROL DISTRITAL'!B12 -> TRÁMITE | C13: ='PANEL DE CONTROL DISTRITAL'!C12 -> Operador de Equipo Tecnológico | D13: ='PANEL DE CONTROL DISTRITAL'!D12 -> Trámites exitosos efectivos= | E13: ='PANEL DE CONTROL DISTRITAL'!E12 -> (Número de trámites exitosos / Número de trámites aplicados) x 100 | F13: ='PANEL DE CONTROL DISTRITAL'!F12 -> Semanal (remesa) | G13: ='PANEL DE CONTROL DISTRITAL'!G12 -> 0.9 | H13: ='PANEL DE CONTROL DISTRITAL'!H12 -> Número de trámites exitosos | I13: 0 | J13: 1134 | K13: 1110 | L13: 685 | M13: 1206 | N13: 909 | O13: 1228 | P13: 1234 | Q13: 1135 | R13: 816 | S13: 1427 | T13: 1221 | U13: 1078 | V13: 1393 | W13: 1443 | X13: 1300 | Y13: 1116 | Z13: 935 | AA13: 256 | AB13: 924 | AC13: 1810 | AD13: 1929 | AE13: 1927 | AF13: 2157 | AG13: 1675 | AH13: 829 | AI13: 831 | AJ13: 1224 | AK13: 1134 | AL13: 43 | AM13: 533 | AN13: 569 | AO13: 483 | AP13: 584 | AQ13: 115 | AR13: 405 | AS13: 538 | AT13: 308 | AU13: 626 | AV13: 495 | AW13: 533 | AX13: 650 | AY13: 348 | AZ13: 0 | BA13: 0 | BB13: 0 | BC13: 750 | BD13: 1264 | BE13: 1687 | BF13: 1699 | BG13: 1397 | BH13: 1421 | BI13: 1430 | BJ13: 1425 | BK13: 1468 | BL13: 1483 | BM13: 1464 | BN13: 1523 | BO13: 1384 | BP13: =IFERROR(SUM(I13:BO13)/SUM(I14:BO14),0) -> 0.99750161
H14: ='PANEL DE CONTROL DISTRITAL'!H13 -> Número de trámites aplicados | I14: 0 | J14: 1137 | K14: 1113 | L14: 685 | M14: 1211 | N14: 910 | O14: 1232 | P14: 1238 | Q14: 1135 | R14: 822 | S14: 1433 | T14: 1226 | U14: 1079 | V14: 1395 | W14: 1452 | X14: 1303 | Y14: 1117 | Z14: 935 | AA14: 256 | AB14: 925 | AC14: 1813 | AD14: 1936 | AE14: 1929 | AF14: 2165 | AG14: 1678 | AH14: 830 | AI14: 831 | AJ14: 1225 | AK14: 1135 | AL14: 43 | AM14: 533 | AN14: 569 | AO14: 486 | AP14: 584 | AQ14: 115 | AR14: 407 | AS14: 538 | AT14: 308 | AU14: 628 | AV14: 495 | AW14: 534 | AX14: 650 | AY14: 348 | AZ14: 0 | BA14: 0 | BB14: 0 | BC14: 750 | BD14: 1264 | BE14: 1704 | BF14: 1710 | BG14: 1402 | BH14: 1422 | BI14: 1430 | BJ14: 1427 | BK14: 1475 | BL14: 1488 | BM14: 1470 | BN14: 1528 | BO14: 1384
A16: ='PANEL DE CONTROL DISTRITAL'!A15 -> 3 | B16: ='PANEL DE CONTROL DISTRITAL'!B15 -> TRANSFERENCIA DE LA INFORMACIÓN | C16: ='PANEL DE CONTROL DISTRITAL'!C15 -> Responsable de Módulo | D16: ='PANEL DE CONTROL DISTRITAL'!D15 -> Reenvíos exitosos = | E16: ='PANEL DE CONTROL DISTRITAL'!E15 -> (Ejecución de los scripts de reenvío de notificaciones/Solicitud de reenvíos de scripts requeridos) x100 | F16: ='PANEL DE CONTROL DISTRITAL'!F15 -> Semanal (remesa) | G16: ='PANEL DE CONTROL DISTRITAL'!G15 -> 1 | H16: ='PANEL DE CONTROL DISTRITAL'!H15 -> Ejecución de los scripts de reenvío de notificaciones | I16: 0 | J16: 0 | K16: 0 | L16: 0 | M16: 0 | N16: 0 | O16: 0 | P16: 0 | Q16: 0 | R16: 0 | S16: 0 | T16: 0 | U16: 0 | V16: 0 | W16: 0 | X16: 0 | Y16: 0 | Z16: 0 | AA16: 0 | AB16: 0 | AC16: 0 | AD16: 0 | AE16: 0 | AF16: 0 | AG16: 0 | AH16: 0 | AI16: 0 | AJ16: 0 | AK16: 0 | AL16: 0 | AM16: 0 | AN16: 0 | AO16: 0 | AP16: 0 | AQ16: 0 | AR16: 0 | AS16: 0 | AT16: 0 | AU16: 0 | AV16: 0 | AW16: 0 | AX16: 0 | AY16: 0 | AZ16: 0 | BA16: 0 | BB16: 0 | BC16: 0 | BD16: 0 | BE16: 0 | BF16: 0 | BG16: 0 | BH16: 0 | BI16: 0 | BJ16: 0 | BK16: 0 | BL16: 0 | BM16: 0 | BN16: 0 | BO16: 0 | BP16: =IFERROR(SUM(I16:BO16)/SUM(I17:BO17),1) -> 0
H17: ='PANEL DE CONTROL DISTRITAL'!H16 -> Solicitud de reevíos de scripts requeridos | I17: 0 | J17: 0 | K17: 0 | L17: 0 | M17: 0 | N17: 0 | O17: 0 | P17: 1 | Q17: 0 | R17: 0 | S17: 0 | T17: 0 | U17: 0 | V17: 0 | W17: 0 | X17: 0 | Y17: 0 | Z17: 0 | AA17: 0 | AB17: 0 | AC17: 0 | AD17: 0 | AE17: 1 | AF17: 1 | AG17: 1 | AH17: 1 | AI17: 1 | AJ17: 0 | AK17: 0 | AL17: 0 | AM17: 0 | AN17: 0 | AO17: 0 | AP17: 0 | AQ17: 0 | AR17: 0 | AS17: 0 | AT17: 0 | AU17: 0 | AV17: 0 | AW17: 0 | AX17: 0 | AY17: 0 | AZ17: 0 | BA17: 0 | BB17: 0 | BC17: 0 | BD17: 0 | BE17: 0 | BF17: 0 | BG17: 0 | BH17: 0 | BI17: 0 | BJ17: 0 | BK17: 0 | BL17: 0 | BM17: 0 | BN17: 0 | BO17: 0
A19: ='PANEL DE CONTROL DISTRITAL'!A18 -> 4 | B19: ='PANEL DE CONTROL DISTRITAL'!B18 -> CONCILIACIÓN DE CREDENCIALES PARA VOTAR | C19: ='PANEL DE CONTROL DISTRITAL'!C18 -> Responsable de Módulo | D19: ='PANEL DE CONTROL DISTRITAL'!D18 -> Credenciales disponibles para entrega = | E19: ='PANEL DE CONTROL DISTRITAL'!E18 -> [(Credenciales recibidas - credenciales inconsistentes) / Credenciales recibidas] x 100 | F19: ='PANEL DE CONTROL DISTRITAL'!F18 -> Semanal (remesa) | G19: ='PANEL DE CONTROL DISTRITAL'!G18 -> 0.9 | H19: ='PANEL DE CONTROL DISTRITAL'!H18 -> Credenciales Recibidas - Credenciales inconsistentes | I19: 0 | J19: 1159 | K19: 1184 | L19: 573 | M19: 1292 | N19: 893 | O19: 959 | P19: 1426 | Q19: 1163 | R19: 1158 | S19: 1002 | T19: 1333 | U19: 753 | V19: 1643 | W19: 1135 | X19: 1616 | Y19: 1380 | Z19: 794 | AA19: 0 | AB19: 694 | AC19: 2147 | AD19: 1478 | AE19: 1582 | AF19: 1689 | AG19: 1511 | AH19: 0 | AI19: 2016 | AJ19: 2391 | AK19: 1216 | AL19: 0 | AM19: 783 | AN19: 557 | AO19: 491 | AP19: 427 | AQ19: 83 | AR19: 620 | AS19: 524 | AT19: 342 | AU19: 568 | AV19: 451 | AW19: 585 | AX19: 609 | AY19: 241 | AZ19: 404 | BA19: 0 | BB19: 0 | BC19: 517 | BD19: 1056 | BE19: 1629 | BF19: 1425 | BG19: 1752 | BH19: 1150 | BI19: 1452 | BJ19: 1693 | BK19: 1168 | BL19: 1182 | BM19: 1834 | BN19: 1480 | BO19: 1438 | BP19: =IFERROR(SUM(I19:BO19)/SUM(I20:BO20),0) -> 1
H20: ='PANEL DE CONTROL DISTRITAL'!H19 -> Credenciales recibidas | I20: 0 | J20: 1159 | K20: 1184 | L20: 573 | M20: 1292 | N20: 893 | O20: 959 | P20: 1426 | Q20: 1163 | R20: 1158 | S20: 1002 | T20: 1333 | U20: 753 | V20: 1643 | W20: 1135 | X20: 1616 | Y20: 1380 | Z20: 794 | AA20: 0 | AB20: 694 | AC20: 2147 | AD20: 1478 | AE20: 1582 | AF20: 1689 | AG20: 1511 | AH20: 0 | AI20: 2016 | AJ20: 2391 | AK20: 1216 | AL20: 0 | AM20: 783 | AN20: 557 | AO20: 491 | AP20: 427 | AQ20: 83 | AR20: 620 | AS20: 524 | AT20: 342 | AU20: 568 | AV20: 451 | AW20: 585 | AX20: 609 | AY20: 241 | AZ20: 404 | BA20: 0 | BB20: 0 | BC20: 517 | BD20: 1056 | BE20: 1629 | BF20: 1425 | BG20: 1752 | BH20: 1150 | BI20: 1452 | BJ20: 1693 | BK20: 1168 | BL20: 1182 | BM20: 1834 | BN20: 1480 | BO20: 1438
A22: ='PANEL DE CONTROL DISTRITAL'!A21 -> 5 | B22: ='PANEL DE CONTROL DISTRITAL'!B21 -> CONCILIACIÓN DE CREDENCIALES PARA VOTAR | C22: ='PANEL DE CONTROL DISTRITAL'!C21 -> Responsable de Módulo | D22: ='PANEL DE CONTROL DISTRITAL'!D21 -> Arqueo de Credenciales = | E22: ='PANEL DE CONTROL DISTRITAL'!E21 -> (Credenciales disponibles (físicas)/ Credenciales disponibles registradas en SIIRFE) x 100 | F22: ='PANEL DE CONTROL DISTRITAL'!F21 -> Semanal (remesa) | G22: ='PANEL DE CONTROL DISTRITAL'!G21 -> 1 | H22: ='PANEL DE CONTROL DISTRITAL'!H21 -> Credenciales disponibles (físicas) | I22: 2297 | J22: 2271 | K22: 2216 | L22: 1853 | M22: 2206 | N22: 1981 | O22: 1930 | P22: 2212 | Q22: 2296 | R22: 2609 | S22: 2236 | T22: 2410 | U22: 1921 | V22: 2468 | W22: 2311 | X22: 2621 | Y22: 2668 | Z22: 2464 | AA22: 2076 | AB22: 2152 | AC22: 3061 | AD22: 2838 | AE22: 2621 | AF22: 2391 | AG22: 1946 | AH22: 1946 | AI22: 3188 | AJ22: 3739 | AK22: 2777 | AL22: 2579 | AM22: 1961 | AN22: 1494 | AO22: 1338 | AP22: 1141 | AQ22: 1075 | AR22: 1282 | AS22: 1265 | AT22: 1296 | AU22: 1304 | AV22: 1351 | AW22: 1428 | AX22: 1428 | AY22: 1447 | AZ22: 1382 | BA22: 752 | BB22: 0 | BC22: 1165 | BD22: 1827 | BE22: 2554 | BF22: 2581 | BG22: 2726 | BH22: 2385 | BI22: 2432 | BJ22: 2784 | BK22: 2541 | BL22: 2258 | BM22: 2646 | BN22: 2682 | BO22: 2605 | BP22: =IFERROR(SUM(I22:BO22)/SUM(I23:BO23),0) -> 1
H23: ='PANEL DE CONTROL DISTRITAL'!H22 -> Credenciales disponibles registradas en SIIRFE | I23: 2297 | J23: 2271 | K23: 2216 | L23: 1853 | M23: 2206 | N23: 1981 | O23: 1930 | P23: 2212 | Q23: 2296 | R23: 2609 | S23: 2236 | T23: 2410 | U23: 1921 | V23: 2468 | W23: 2311 | X23: 2621 | Y23: 2668 | Z23: 2464 | AA23: 2076 | AB23: 2152 | AC23: 3061 | AD23: 2838 | AE23: 2621 | AF23: 2391 | AG23: 1946 | AH23: 1946 | AI23: 3188 | AJ23: 3739 | AK23: 2777 | AL23: 2579 | AM23: 1961 | AN23: 1494 | AO23: 1338 | AP23: 1141 | AQ23: 1075 | AR23: 1282 | AS23: 1265 | AT23: 1296 | AU23: 1304 | AV23: 1351 | AW23: 1428 | AX23: 1428 | AY23: 1447 | AZ23: 1382 | BA23: 752 | BB23: 0 | BC23: 1165 | BD23: 1827 | BE23: 2554 | BF23: 2581 | BG23: 2726 | BH23: 2385 | BI23: 2432 | BJ23: 2784 | BK23: 2541 | BL23: 2258 | BM23: 2646 | BN23: 2682 | BO23: 2605
A25: ='PANEL DE CONTROL DISTRITAL'!A24 -> 6 | B25: ='PANEL DE CONTROL DISTRITAL'!B24 -> ENTREGA DE LA CREDENCIAL PARA VOTAR | C25: ='PANEL DE CONTROL DISTRITAL'!C24 -> Operador de Equipo Tecnológico | D25: ='PANEL DE CONTROL DISTRITAL'!D24 -> Efectividad de entrega de CPV en MAC = | E25: ='PANEL DE CONTROL DISTRITAL'!E24 -> (Total de credenciales entregadas / Total de ciudadanas y ciudadanos que acuden al MAC a recoger su credencial) x 100 | F25: ='PANEL DE CONTROL DISTRITAL'!F24 -> Semanal (remesa) | G25: ='PANEL DE CONTROL DISTRITAL'!G24 -> 0.9 | H25: ='PANEL DE CONTROL DISTRITAL'!H24 -> Total de credenciales entregadas | I25: 0 | J25: 1185 | K25: 1231 | L25: 936 | M25: 939 | N25: 1118 | O25: 1010 | P25: 1144 | Q25: 1066 | R25: 845 | S25: 1375 | T25: 1159 | U25: 1242 | V25: 1087 | W25: 1292 | X25: 1306 | Y25: 1333 | Z25: 985 | AA25: 388 | AB25: 618 | AC25: 1238 | AD25: 1701 | AE25: 1799 | AF25: 1919 | AG25: 1940 | AH25: 0 | AI25: 774 | AJ25: 1840 | AK25: 2142 | AL25: 198 | AM25: 1401 | AN25: 1024 | AO25: 647 | AP25: 616 | AQ25: 149 | AR25: 413 | AS25: 541 | AT25: 311 | AU25: 560 | AV25: 404 | AW25: 508 | AX25: 609 | AY25: 222 | AZ25: 469 | BA25: 630 | BB25: 0 | BC25: 67 | BD25: 394 | BE25: 900 | BF25: 1393 | BG25: 1604 | BH25: 1439 | BI25: 1405 | BJ25: 1341 | BK25: 1411 | BL25: 1448 | BM25: 1446 | BN25: 1444 | BO25: 1515 | BP25: =IFERROR(SUM(I25:BO25)/SUM(I26:BO26),0) -> 0.99725468
H26: ='PANEL DE CONTROL DISTRITAL'!H25 -> Total de ciudadanas y ciudadanos que acuden al MAC a recoger su credencial | I26: 0 | J26: 1189 | K26: 1235 | L26: 939 | M26: 941 | N26: 1122 | O26: 1012 | P26: 1144 | Q26: 1071 | R26: 846 | S26: 1380 | T26: 1160 | U26: 1243 | V26: 1087 | W26: 1298 | X26: 1306 | Y26: 1333 | Z26: 985 | AA26: 388 | AB26: 620 | AC26: 1244 | AD26: 1707 | AE26: 1801 | AF26: 1924 | AG26: 1940 | AH26: 0 | AI26: 781 | AJ26: 1840 | AK26: 2146 | AL26: 200 | AM26: 1403 | AN26: 1029 | AO26: 650 | AP26: 618 | AQ26: 149 | AR26: 413 | AS26: 542 | AT26: 312 | AU26: 563 | AV26: 405 | AW26: 508 | AX26: 609 | AY26: 222 | AZ26: 469 | BA26: 630 | BB26: 0 | BC26: 67 | BD26: 394 | BE26: 902 | BF26: 1398 | BG26: 1607 | BH26: 1445 | BI26: 1412 | BJ26: 1351 | BK26: 1420 | BL26: 1462 | BM26: 1452 | BN26: 1445 | BO26: 1522
B27: *Registre el valor nominal solicitado en la celda, el resultado proporcional esta automatizado.
I29: Semaforización
J30: Valor que requiere atención y justificación en el apartado de observaciones
J31: Valor suficiente
J32: Valor esperado
B34: CUADRO DE OBSERVACIONES
B35: Descripción | H35: No conformidad
B36: El folio de Solicitud Individual 2409035136232, no viajo por lo que se levanto caso CAU REQ000001708452, y fue repetido el tramite, el nuevo tramite se levanto con folio de Solicitud Individual 2409035136235, con este folio genero credencial para votar y fue entregada el dia 26 de septiembre del año en curso. El CAU cancelo el folio 2409035136232, cerrando el caso REQ000001708452 el día 18/10/2024 el folio de Solicitud Individual 2509035104228, aparece para ser reenviado a CECYRD, sin embargo se realizo nuevo tramite con folio de Solicitud Individual 2509035104234, este ya fue entregada la credencial para votar, por medio del caso CAU REQ000001790754

Sheet 090451
A1: ='PANEL DE CONTROL DISTRITAL'!A1:Q1 -> INSTITUTO NACIONAL ELECTORAL SISTEMA DE GESTIÓN DE LA CALIDAD CIUDAD DE MÉXICO
D2: Distrito | E2: 4 | F2: Módulo | H2: 90451
A4: TABLERO DE CONTROL DE PROCESOS SUSTANTIVOS DEL SISTEMA DE GESTIÓN DE LA CALIDAD
A6: ='PANEL DE CONTROL DISTRITAL'!A6 -> Número | B6: ='PANEL DE CONTROL DISTRITAL'!B6 -> PROCESOS SUSTANTIVOS E INDICADORES | I6: SEMANA OPERATIVA | BP6: % AVANCE REGISTRADO
B7: ='PANEL DE CONTROL DISTRITAL'!B7 -> DESCRIPCIÓN | E7: ='PANEL DE CONTROL DISTRITAL'!E7 -> MEDICIÓN | I7: ='PANEL DE CONTROL DISTRITAL'!A5 -> CAMPAÑA ANUAL INTENSA 2024 CAMPAÑA ESPECIAL DE ACTUALIZACIÓN PARA EL PROCESO ELECTORAL EXTRAORDINARIO (CEAPEE) 2024-2025
B9: ='PANEL DE CONTROL DISTRITAL'!B8 -> Proceso | C9: ='PANEL DE CONTROL DISTRITAL'!C8 -> Dueño de Proceso | D9: ='PANEL DE CONTROL DISTRITAL'!D8 -> Indicador | E9: ='PANEL DE CONTROL DISTRITAL'!E8 -> Cálculo | F9: ='PANEL DE CONTROL DISTRITAL'!F8 -> Periodo | G9: ='PANEL DE CONTROL DISTRITAL'!G8 -> Estimado | H9: ='PANEL DE CONTROL DISTRITAL'!H8 -> Nominativo | I9: ='090151'!I9 -> 2024-41 | J9: ='090151'!J9 -> 2024-42 | K9: ='090151'!K9 -> 2024-43 | L9: ='090151'!L9 -> 2024-44 | M9: ='090151'!M9 -> 2024-45 | N9: ='090151'!N9 -> 2024-46 | O9: ='090151'!O9 -> 2024-47 | P9: ='090151'!P9 -> 2024-48 | ... BO9: ='090151'!BO9 -> 2025-40
A10: ='PANEL DE CONTROL DISTRITAL'!A9 -> 1 | B10: ='PANEL DE CONTROL DISTRITAL'!B9 -> ENTREVISTA | C10: ='PANEL DE CONTROL DISTRITAL'!C9 -> Auxiliar de Atención Ciudadana | D10: ='PANEL DE CONTROL DISTRITAL'!D9 -> Fichas requisitadas correctamente= | E10: ='PANEL DE CONTROL DISTRITAL'!E9 -> (Fichas requisitadas correctamente / Fichas revisadas en la muestra del 10%) x 100 | F10: ='PANEL DE CONTROL DISTRITAL'!F9 -> Semanal (remesa) | G10: ='PANEL DE CONTROL DISTRITAL'!G9 -> 0.9 | H10: ='PANEL DE CONTROL DISTRITAL'!H9 -> Fichas requistadas correctamente | I10: 0 | J10: 160 | K10: 162 | L10: 109 | M10: 190 | N10: 135 | O10: 178 | P10: 170 | Q10: 159 | R10: 126 | S10: 193 | T10: 178 | U10: 158 | V10: 213 | W10: 175 | X10: 122 | Y10: 116 | Z10: 93 | AA10: 27 | AB10: 72 | AC10: 205 | AD10: 302 | AE10: 335 | AF10: 351 | AG10: 349 | AH10: 94 | AI10: 117 | AJ10: 138 | AK10: 143 | AL10: 5 | AM10: 62 | AN10: 68 | AO10: 60 | AP10: 45 | AQ10: 8 | AR10: 10 | AS10: 13 | AT10: 27 | AU10: 13 | AV10: 48 | AW10: 49 | AX10: 74 | AY10: 35 | AZ10: 0 | BA10: 2 | BB10: 0 | BC10: 129 | BD10: 175 | BE10: 209 | BF10: 175 | BG10: 193 | BH10: 199 | BI10: 198 | BJ10: 200 | BK10: 204 | BL10: 208 | BM10: 184 | BN10: 200 | BO10: 175 | BP10: =IFERROR(SUM(I10:BO10)/SUM(I11:BO11),0) -> 0.969067
H11: ='PANEL DE CONTROL DISTRITAL'!H10 -> Fichas revisadas en la muestra del 10% | I11: 0 | J11: 160 | K11: 162 | L11: 109 | M11: 190 | N11: 135 | O11: 178 | P11: 170 | Q11: 159 | R11: 126 | S11: 193 | T11: 178 | U11: 158 | V11: 213 | W11: 175 | X11: 122 | Y11: 116 | Z11: 93 | AA11: 27 | AB11: 72 | AC11: 205 | AD11: 302 | AE11: 335 | AF11: 351 | AG11: 349 | AH11: 94 | AI11: 117 | AJ11: 138 | AK11: 143 | AL11: 5 | AM11: 62 | AN11: 68 | AO11: 60 | AP11: 68 | AQ11: 9 | AR11: 41 | AS11: 57 | AT11: 36 | AU11: 62 | AV11: 55 | AW11: 57 | AX11: 76 | AY11: 38 | AZ11: 0 | BA11: 2 | BB11: 0 | BC11: 134 | BD11: 195 | BE11: 221 | BF11: 210 | BG11: 208 | BH11: 206 | BI11: 205 | BJ11: 110 | BK11: 211 | BL11: 226 | BM11: 196 | BN11: 209 | BO11: 188
A13: ='PANEL DE CONTROL DISTRITAL'!A12 -> 2 | B13: ='PANEL DE CONTROL DISTRITAL'!B12 -> TRÁMITE | C13: ='PANEL DE CONTROL DISTRITAL'!C12 -> Operador de Equipo Tecnológico | D13: ='PANEL DE CONTROL DISTRITAL'!D12 -> Trámites exitosos efectivos= | E13: ='PANEL DE CONTROL DISTRITAL'!E12 -> (Número de trámites exitosos / Número de trámites aplicados) x 100 | F13: ='PANEL DE CONTROL DISTRITAL'!F12 -> Semanal (remesa) | G13: ='PANEL DE CONTROL DISTRITAL'!G12 -> 0.9 | H13: ='PANEL DE CONTROL DISTRITAL'!H12 -> Número de trámites exitosos | I13: 0 | J13: 1570 | K13: 1591 | L13: 1061 | M13: 1569 | N13: 1321 | O13: 1747 | P13: 1662 | Q13: 1553 | R13: 1232 | S13: 1871 | T13: 1732 | U13: 1535 | V13: 2076 | W13: 1724 | X13: 1117 | Y13: 1132 | Z13: 898 | AA13: 267 | AB13: 712 | AC13: 2024 | AD13: 3002 | AE13: 3323 | AF13: 3367 | AG13: 3477 | AH13: 933 | AI13: 1160 | AJ13: 1368 | AK13: 1425 | AL13: 47 | AM13: 607 | AN13: 672 | AO13: 580 | AP13: 671 | AQ13: 89 | AR13: 403 | AS13: 566 | AT13: 345 | AU13: 606 | AV13: 533 | AW13: 565 | AX13: 748 | AY13: 373 | AZ13: 0 | BA13: 0 | BB13: 0 | BC13: 1314 | BD13: 1904 | BE13: 2206 | BF13: 2050 | BG13: 2032 | BH13: 2021 | BI13: 2019 | BJ13: 2083 | BK13: 2077 | BL13: 2241 | BM13: 1936 | BN13: 2064 | BO13: 1853 | BP13: =IFERROR(SUM(I13:BO13)/SUM(I14:BO14),0) -> 0.99731288
H14: ='PANEL DE CONTROL DISTRITAL'!H13 -> Número de trámites aplicados | I14: 0 | J14: 1570 | K14: 1591 | L14: 1061 | M14: 1569 | N14: 1321 | O14: 1747 | P14: 1663 | Q14: 1554 | R14: 1232 | S14: 1873 | T14: 1732 | U14: 1536 | V14: 2077 | W14: 1724 | X14: 1117 | Y14: 1332 | Z14: 898 | AA14: 267 | AB14: 712 | AC14: 2024 | AD14: 3003 | AE14: 3323 | AF14: 3367 | AG14: 3477 | AH14: 933 | AI14: 1160 | AJ14: 1368 | AK14: 1425 | AL14: 47 | AM14: 607 | AN14: 672 | AO14: 580 | AP14: 671 | AQ14: 89 | AR14: 403 | AS14: 566 | AT14: 345 | AU14: 606 | AV14: 534 | AW14: 565 | AX14: 748 | AY14: 373 | AZ14: 0 | BA14: 0 | BB14: 0 | BC14: 1316 | BD14: 1904 | BE14: 2206 | BF14: 2050 | BG14: 2032 | BH14: 2021 | BI14: 2020 | BJ14: 2083 | BK14: 2077 | BL14: 2241 | BM14: 1936 | BN14: 2065 | BO14: 1854
A16: ='PANEL DE CONTROL DISTRITAL'!A15 -> 3 | B16: ='PANEL DE CONTROL DISTRITAL'!B15 -> TRANSFERENCIA DE LA INFORMACIÓN | C16: ='PANEL DE CONTROL DISTRITAL'!C15 -> Responsable de Módulo | D16: ='PANEL DE CONTROL DISTRITAL'!D15 -> Reenvíos exitosos = | E16: ='PANEL DE CONTROL DISTRITAL'!E15 -> (Ejecución de los scripts de reenvío de notificaciones/Solicitud de reenvíos de scripts requeridos) x100 | F16: ='PANEL DE CONTROL DISTRITAL'!F15 -> Semanal (remesa) | G16: ='PANEL DE CONTROL DISTRITAL'!G15 -> 1 | H16: ='PANEL DE CONTROL DISTRITAL'!H15 -> Ejecución de los scripts de reenvío de notificaciones | I16: 0 | J16: 1 | K16: 1 | L16: 1 | M16: 1 | N16: 0 | O16: 0 | P16: 1 | Q16: 1 | R16: 0 | S16: 1 | T16: 1 | U16: 0 | V16: 1 | W16: 1 | X16: 1 | Y16: 1 | Z16: 1 | AA16: 1 | AB16: 1 | AC16: 0 | AD16: 1 | AE16: 1 | AF16: 1 | AG16: 2 | AH16: 0 | AI16: 1 | AJ16: 0 | AK16: 1 | AL16: 0 | AM16: 0 | AN16: 0 | AO16: 1 | AP16: 0 | AQ16: 0 | AR16: 0 | AS16: 1 | AT16: 1 | AU16: 0 | AV16: 0 | AW16: 0 | AX16: 0 | AY16: 0 | AZ16: 0 | BA16: 0 | BB16: 0 | BC16: 0 | BD16: 0 | BE16: 0 | BF16: 0 | BG16: 0 | BH16: 0 | BI16: 0 | BJ16: 0 | BK16: 0 | BL16: 0 | BM16: 0 | BN16: 0 | BO16: 0 | BP16: =IFERROR(SUM(I16:BO16)/SUM(I17:BO17),1) -> 0.83333333
H17: ='PANEL DE CONTROL DISTRITAL'!H16 -> Solicitud de reevíos de scripts requeridos | I17: 0 | J17: 1 | K17: 1 | L17: 1 | M17: 1 | N17: 0 | O17: 0 | P17: 1 | Q17: 1 | R17: 0 | S17: 1 | T17: 1 | U17: 0 | V17: 1 | W17: 1 | X17: 1 | Y17: 1 | Z17: 1 | AA17: 1 | AB17: 0 | AC17: 0 | AD17: 1 | AE17: 1 | AF17: 1 | AG17: 2 | AH17: 0 | AI17: 1 | AJ17: 1 | AK17: 2 | AL17: 0 | AM17: 1 | AN17: 1 | AO17: 1 | AP17: 1 | AQ17: 0 | AR17: 0 | AS17: 2 | AT17: 1 | AU17: 0 | AV17: 0 | AW17: 0 | AX17: 0 | AY17: 0 | AZ17: 0 | BA17: 0 | BB17: 0 | BC17: 0 | BD17: 0 | BE17: 0 | BF17: 0 | BG17: 0 | BH17: 0 | BI17: 0 | BJ17: 0 | BK17: 0 | BL17: 0 | BM17: 0 | BN17: 0 | BO17: 0
A19: ='PANEL DE CONTROL DISTRITAL'!A18 -> 4 | B19: ='PANEL DE CONTROL DISTRITAL'!B18 -> CONCILIACIÓN DE CREDENCIALES PARA VOTAR | C19: ='PANEL DE CONTROL DISTRITAL'!C18 -> Responsable de Módulo | D19: ='PANEL DE CONTROL DISTRITAL'!D18 -> Credenciales disponibles para entrega = | E19: ='PANEL DE CONTROL DISTRITAL'!E18 -> [(Credenciales recibidas - credenciales inconsistentes) / Credenciales recibidas] x 100 | F19: ='PANEL DE CONTROL DISTRITAL'!F18 -> Semanal (remesa) | G19: ='PANEL DE CONTROL DISTRITAL'!G18 -> 0.9 | H19: ='PANEL DE CONTROL DISTRITAL'!H18 -> Credenciales Recibidas - Credenciales inconsistentes | I19: 1655 | J19: 0 | K19: 1645 | L19: 851 | M19: 1776 | N19: 1208 | O19: 1380 | P19: 2055 | Q19: 1571 | R19: 1622 | S19: 1349 | T19: 1749 | U19: 1129 | V19: 2384 | W19: 1947 | X19: 1183 | Y19: 1123 | Z19: 796 | AA19: 0 | AB19: 663 | AC19: 1303 | AD19: 2742 | AE19: 2563 | AF19: 2717 | AG19: 2492 | AH19: 762 | AI19: 3215 | AJ19: 0 | AK19: 1413 | AL19: 0 | AM19: 1032 | AN19: 621 | AO19: 587 | AP19: 499 | AQ19: 84 | AR19: 634 | AS19: 570 | AT19: 390 | AU19: 550 | AV19: 497 | AW19: 643 | AX19: 655 | AY19: 0 | AZ19: 0 | BA19: 0 | BB19: 0 | BC19: 537 | BD19: 1628 | BE19: 2604 | BF19: 1747 | BG19: 2405 | BH19: 1672 | BI19: 2388 | BJ19: 1650 | BK19: 2081 | BL19: 2138 | BM19: 2130 | BN19: 1985 | BO19: 1911 | BP19: =IFERROR(SUM(I19:BO19)/SUM(I20:BO20),0) -> 1.0000133
H20: ='PANEL DE CONTROL DISTRITAL'!H19 -> Credenciales recibidas | I20: 1655 | J20: 0 | K20: 1645 | L20: 851 | M20: 1776 | N20: 1208 | O20: 1380 | P20: 2055 | Q20: 1571 | R20: 1622 | S20: 1349 | T20: 1749 | U20: 1129 | V20: 2384 | W20: 1947 | X20: 1183 | Y20: 1123 | Z20: 796 | AA20: 0 | AB20: 663 | AC20: 1303 | AD20: 2742 | AE20: 2563 | AF20: 2717 | AG20: 2492 | AH20: 762 | AI20: 3215 | AJ20: 0 | AK20: 1412 | AL20: 0 | AM20: 1032 | AN20: 621 | AO20: 587 | AP20: 499 | AQ20: 84 | AR20: 634 | AS20: 570 | AT20: 390 | AU20: 550 | AV20: 497 | AW20: 643 | AX20: 655 | AY20: 0 | AZ20: 0 | BA20: 0 | BB20: 0 | BC20: 537 | BD20: 1628 | BE20: 2604 | BF20: 1747 | BG20: 2405 | BH20: 1672 | BI20: 2388 | BJ20: 1650 | BK20: 2081 | BL20: 2138 | BM20: 2130 | BN20: 1985 | BO20: 1911
A22: ='PANEL DE CONTROL DISTRITAL'!A21 -> 5 | B22: ='PANEL DE CONTROL DISTRITAL'!B21 -> CONCILIACIÓN DE CREDENCIALES PARA VOTAR | C22: ='PANEL DE CONTROL DISTRITAL'!C21 -> Responsable de Módulo | D22: ='PANEL DE CONTROL DISTRITAL'!D21 -> Arqueo de Credenciales = | E22: ='PANEL DE CONTROL DISTRITAL'!E21 -> (Credenciales disponibles (físicas)/ Credenciales disponibles registradas en SIIRFE) x 100 | F22: ='PANEL DE CONTROL DISTRITAL'!F21 -> Semanal (remesa) | G22: ='PANEL DE CONTROL DISTRITAL'!G21 -> 1 | H22: ='PANEL DE CONTROL DISTRITAL'!H21 -> Credenciales disponibles (físicas) | I22: 2742 | J22: 0 | K22: 2718 | L22: 2128 | M22: 2683 | N22: 2362 | O22: 2383 | P22: 2800 | Q22: 2817 | R22: 3383 | S22: 2814 | T22: 2974 | U22: 2441 | V22: 3189 | W22: 3279 | X22: 3017 | Y22: 2710 | Z22: 2951 | AA22: 2875 | AB22: 2926 | AC22: 3193 | AD22: 4896 | AE22: 5844 | AF22: 5237 | AG22: 2965 | AH22: 3099 | AI22: 3775 | AJ22: 3273 | AK22: 3008 | AL22: 0 | AM22: 2224 | AN22: 1597 | AO22: 1314 | AP22: 1005 | AQ22: 952 | AR22: 1068 | AS22: 1084 | AT22: 1140 | AU22: 1206 | AV22: 1243 | AW22: 1316 | AX22: 1336 | AY22: 1337 | AZ22: 1190 | BA22: 731 | BB22: 0 | BC22: 1153 | BD22: 1982 | BE22: 3282 | BF22: 3046 | BG22: 3420 | BH22: 3044 | BI22: 3472 | BJ22: 3135 | BK22: 3191 | BL22: 3356 | BM22: 3332 | BN22: 3218 | BO22: 3095 | BP22: =IFERROR(SUM(I22:BO22)/SUM(I23:BO23),0) -> 1
H23: ='PANEL DE CONTROL DISTRITAL'!H22 -> Credenciales disponibles registradas en SIIRFE | I23: 2742 | J23: 0 | K23: 2718 | L23: 2128 | M23: 2683 | N23: 2362 | O23: 2383 | P23: 2800 | Q23: 2817 | R23: 3383 | S23: 2814 | T23: 2974 | U23: 2441 | V23: 3189 | W23: 3279 | X23: 3017 | Y23: 2710 | Z23: 2951 | AA23: 2875 | AB23: 2926 | AC23: 3193 | AD23: 4896 | AE23: 5844 | AF23: 5237 | AG23: 2965 | AH23: 3099 | AI23: 3775 | AJ23: 3273 | AK23: 3008 | AL23: 0 | AM23: 2224 | AN23: 1597 | AO23: 1314 | AP23: 1005 | AQ23: 952 | AR23: 1068 | AS23: 1084 | AT23: 1140 | AU23: 1206 | AV23: 1243 | AW23: 1316 | AX23: 1336 | AY23: 1337 | AZ23: 1190 | BA23: 731 | BB23: 0 | BC23: 1153 | BD23: 1982 | BE23: 3282 | BF23: 3046 | BG23: 3420 | BH23: 3044 | BI23: 3472 | BJ23: 3135 | BK23: 3191 | BL23: 3356 | BM23: 3332 | BN23: 3218 | BO23: 3095
A25: ='PANEL DE CONTROL DISTRITAL'!A24 -> 6 | B25: ='PANEL DE CONTROL DISTRITAL'!B24 -> ENTREGA DE LA CREDENCIAL PARA VOTAR | C25: ='PANEL DE CONTROL DISTRITAL'!C24 -> Operador de Equipo Tecnológico | D25: ='PANEL DE CONTROL DISTRITAL'!D24 -> Efectividad de entrega de CPV en MAC = | E25: ='PANEL DE CONTROL DISTRITAL'!E24 -> (Total de credenciales entregadas / Total de ciudadanas y ciudadanos que acuden al MAC a recoger su credencial) x 100 | F25: ='PANEL DE CONTROL DISTRITAL'!F24 -> Semanal (remesa) | G25: ='PANEL DE CONTROL DISTRITAL'!G24 -> 0.9 | H25: ='PANEL DE CONTROL DISTRITAL'!H24 -> Total de credenciales entregadas | I25: 1702 | J25: 0 | K25: 1658 | L25: 1441 | M25: 1221 | N25: 1529 | O25: 1359 | P25: 1627 | Q25: 1554 | R25: 1056 | S25: 1918 | T25: 1589 | U25: 1662 | V25: 1624 | W25: 1857 | X25: 1730 | Y25: 1430 | Z25: 545 | AA25: 76 | AB25: 612 | AC25: 1036 | AD25: 1039 | AE25: 1615 | AF25: 3324 | AG25: 4842 | AH25: 628 | AI25: 2539 | AJ25: 3406 | AK25: 1579 | AL25: 0 | AM25: 1625 | AN25: 1248 | AO25: 870 | AP25: 800 | AQ25: 137 | AR25: 518 | AS25: 554 | AT25: 335 | AU25: 484 | AV25: 460 | AW25: 570 | AX25: 635 | AY25: 256 | AZ25: 590 | BA25: 459 | BB25: 0 | BC25: 70 | BD25: 799 | BE25: 1304 | BF25: 1983 | BG25: 2031 | BH25: 2005 | BI25: 1960 | BJ25: 1987 | BK25: 2025 | BL25: 1973 | BM25: 2146 | BN25: 2099 | BO25: 2034 | BP25: =IFERROR(SUM(I25:BO25)/SUM(I26:BO26),0) -> 1
H26: ='PANEL DE CONTROL DISTRITAL'!H25 -> Total de ciudadanas y ciudadanos que acuden al MAC a recoger su credencial | I26: 1702 | J26: 0 | K26: 1658 | L26: 1441 | M26: 1221 | N26: 1529 | O26: 1359 | P26: 1627 | Q26: 1554 | R26: 1056 | S26: 1918 | T26: 1589 | U26: 1662 | V26: 1624 | W26: 1857 | X26: 1730 | Y26: 1430 | Z26: 545 | AA26: 76 | AB26: 612 | AC26: 1036 | AD26: 1039 | AE26: 1615 | AF26: 3324 | AG26: 4842 | AH26: 628 | AI26: 2539 | AJ26: 3406 | AK26: 1579 | AL26: 0 | AM26: 1625 | AN26: 1248 | AO26: 870 | AP26: 800 | AQ26: 137 | AR26: 518 | AS26: 554 | AT26: 335 | AU26: 484 | AV26: 460 | AW26: 570 | AX26: 635 | AY26: 256 | AZ26: 590 | BA26: 459 | BB26: 0 | BC26: 70 | BD26: 799 | BE26: 1304 | BF26: 1983 | BG26: 2031 | BH26: 2005 | BI26: 1960 | BJ26: 1987 | BK26: 2025 | BL26: 1973 | BM26: 2146 | BN26: 2099 | BO26: 2034
B27: *Registre el valor nominal solicitado en la celda, el resultado proporcional esta automatizado.
I29: Semaforización
J30: Valor que requiere atención y justificación en el apartado de observaciones
J31: Valor suficiente
J32: Valor esperado
B34: CUADRO DE OBSERVACIONES
B35: Descripción | H35: No conformidad

Sheet 090551
A1: ='PANEL DE CONTROL DISTRITAL'!A1:Q1 -> INSTITUTO NACIONAL ELECTORAL SISTEMA DE GESTIÓN DE LA CALIDAD CIUDAD DE MÉXICO
D2: Distrito | E2: 5 | F2: Módulo | H2: 90551
A4: TABLERO DE CONTROL DE PROCESOS SUSTANTIVOS DEL SISTEMA DE GESTIÓN DE LA CALIDAD
A6: ='PANEL DE CONTROL DISTRITAL'!A6 -> Número | B6: ='PANEL DE CONTROL DISTRITAL'!B6 -> PROCESOS SUSTANTIVOS E INDICADORES | I6: SEMANA OPERATIVA | BP6: % AVANCE REGISTRADO
B7: ='PANEL DE CONTROL DISTRITAL'!B7 -> DESCRIPCIÓN | E7: ='PANEL DE CONTROL DISTRITAL'!E7 -> MEDICIÓN | I7: ='PANEL DE CONTROL DISTRITAL'!A5 -> CAMPAÑA ANUAL INTENSA 2024 CAMPAÑA ESPECIAL DE ACTUALIZACIÓN PARA EL PROCESO ELECTORAL EXTRAORDINARIO (CEAPEE) 2024-2025
B9: ='PANEL DE CONTROL DISTRITAL'!B8 -> Proceso | C9: ='PANEL DE CONTROL DISTRITAL'!C8 -> Dueño de Proceso | D9: ='PANEL DE CONTROL DISTRITAL'!D8 -> Indicador | E9: ='PANEL DE CONTROL DISTRITAL'!E8 -> Cálculo | F9: ='PANEL DE CONTROL DISTRITAL'!F8 -> Periodo | G9: ='PANEL DE CONTROL DISTRITAL'!G8 -> Estimado | H9: ='PANEL DE CONTROL DISTRITAL'!H8 -> Nominativo | I9: ='090151'!I9 -> 2024-41 | J9: ='090151'!J9 -> 2024-42 | K9: ='090151'!K9 -> 2024-43 | L9: ='090151'!L9 -> 2024-44 | M9: ='090151'!M9 -> 2024-45 | N9: ='090151'!N9 -> 2024-46 | O9: ='090151'!O9 -> 2024-47 | P9: ='090151'!P9 -> 2024-48 | ... BO9: ='090151'!BO9 -> 2025-40
A10: ='PANEL DE CONTROL DISTRITAL'!A9 -> 1 | B10: ='PANEL DE CONTROL DISTRITAL'!B9 -> ENTREVISTA | C10: ='PANEL DE CONTROL DISTRITAL'!C9 -> Auxiliar de Atención Ciudadana | D10: ='PANEL DE CONTROL DISTRITAL'!D9 -> Fichas requisitadas correctamente= | E10: ='PANEL DE CONTROL DISTRITAL'!E9 -> (Fichas requisitadas correctamente / Fichas revisadas en la muestra del 10%) x 100 | F10: ='PANEL DE CONTROL DISTRITAL'!F9 -> Semanal (remesa) | G10: ='PANEL DE CONTROL DISTRITAL'!G9 -> 0.9 | H10: ='PANEL DE CONTROL DISTRITAL'!H9 -> Fichas requistadas correctamente | I10: 0 | J10: 83 | K10: 93 | L10: 56 | M10: 85 | N10: 90 | O10: 91 | P10: 81 | Q10: 85 | R10: 58 | S10: 105 | T10: 87 | U10: 70 | V10: 105 | W10: 78 | X10: 72 | Y10: 62 | Z10: 61 | AA10: 21 | AB10: 67 | AC10: 132 | AD10: 152 | AE10: 154 | AF10: 176 | AG10: 184 | AH10: 52 | AI10: 57 | AJ10: 77 | AK10: 74 | AL10: 3 | AM10: 35 | AN10: 39 | AO10: 36 | AP10: 41 | AQ10: 8 | AR10: 28 | AS10: 35 | AT10: 21 | AU10: 37 | AV10: 33 | AW10: 33 | AX10: 42 | AY10: 17 | AZ10: 0 | BA10: 0 | BB10: 0 | BC10: 56 | BD10: 98 | BE10: 112 | BF10: 84 | BG10: 95 | BH10: 105 | BI10: 109 | BJ10: 108 | BK10: 107 | BL10: 111 | BM10: 102 | BN10: 108 | BO10: 112 | BP10: =IFERROR(SUM(I10:BO10)/SUM(I11:BO11),0) -> 0.99947931
H11: ='PANEL DE CONTROL DISTRITAL'!H10 -> Fichas revisadas en la muestra del 10% | I11: 0 | J11: 83 | K11: 93 | L11: 56 | M11: 85 | N11: 91 | O11: 91 | P11: 81 | Q11: 85 | R11: 58 | S11: 105 | T11: 87 | U11: 70 | V11: 105 | W11: 78 | X11: 72 | Y11: 62 | Z11: 61 | AA11: 21 | AB11: 67 | AC11: 132 | AD11: 152 | AE11: 154 | AF11: 176 | AG11: 184 | AH11: 52 | AI11: 57 | AJ11: 77 | AK11: 74 | AL11: 3 | AM11: 35 | AN11: 39 | AO11: 36 | AP11: 41.2 | AQ11: 8 | AR11: 28 | AS11: 35 | AT11: 21 | AU11: 37 | AV11: 33 | AW11: 33 | AX11: 42 | AY11: 17 | AZ11: 0 | BA11: 0 | BB11: 0 | BC11: 56 | BD11: 98 | BE11: 112 | BF11: 84 | BG11: 95 | BH11: 105 | BI11: 109 | BJ11: 108 | BK11: 107 | BL11: 111 | BM11: 103 | BN11: 108 | BO11: 112
A13: ='PANEL DE CONTROL DISTRITAL'!A12 -> 2 | B13: ='PANEL DE CONTROL DISTRITAL'!B12 -> TRÁMITE | C13: ='PANEL DE CONTROL DISTRITAL'!C12 -> Operador de Equipo Tecnológico | D13: ='PANEL DE CONTROL DISTRITAL'!D12 -> Trámites exitosos efectivos= | E13: ='PANEL DE CONTROL DISTRITAL'!E12 -> (Número de trámites exitosos / Número de trámites aplicados) x 100 | F13: ='PANEL DE CONTROL DISTRITAL'!F12 -> Semanal (remesa) | G13: ='PANEL DE CONTROL DISTRITAL'!G12 -> 0.9 | H13: ='PANEL DE CONTROL DISTRITAL'!H12 -> Número de trámites exitosos | I13: 0 | J13: 824 | K13: 804 | L13: 550 | M13: 832 | N13: 682 | O13: 903 | P13: 840 | Q13: 821 | R13: 572 | S13: 1026 | T13: 843 | U13: 682 | V13: 1027 | W13: 763 | X13: 723 | Y13: 617 | Z13: 608 | AA13: 214 | AB13: 669 | AC13: 1314 | AD13: 1493 | AE13: 1527 | AF13: 1743 | AG13: 1826 | AH13: 526 | AI13: 571 | AJ13: 771 | AK13: 761 | AL13: 30 | AM13: 350 | AN13: 387 | AO13: 359 | AP13: 412 | AQ13: 75 | AR13: 281 | AS13: 348 | AT13: 207 | AU13: 364 | AV13: 331 | AW13: 301 | AX13: 438 | AY13: 163 | AZ13: 0 | BA13: 0 | BB13: 0 | BC13: 549 | BD13: 951 | BE13: 1098 | BF13: 822 | BG13: 921 | BH13: 1023 | BI13: 1081 | BJ13: 1049 | BK13: 1068 | BL13: 1083 | BM13: 1027 | BN13: 1045 | BO13: 706 | BP13: =IFERROR(SUM(I13:BO13)/SUM(I14:BO14),0) -> 0.9916318
H14: ='PANEL DE CONTROL DISTRITAL'!H13 -> Número de trámites aplicados | I14: 0 | J14: 824 | K14: 804 | L14: 554 | M14: 833 | N14: 682 | O14: 905 | P14: 840 | Q14: 822 | R14: 572 | S14: 1027 | T14: 843 | U14: 682 | V14: 1029 | W14: 766 | X14: 723 | Y14: 618 | Z14: 608 | AA14: 214 | AB14: 670 | AC14: 1316 | AD14: 1494 | AE14: 1527 | AF14: 1747 | AG14: 1828 | AH14: 528 | AI14: 571 | AJ14: 771 | AK14: 762 | AL14: 30 | AM14: 351 | AN14: 387 | AO14: 360 | AP14: 412 | AQ14: 75 | AR14: 281 | AS14: 348 | AT14: 207 | AU14: 364 | AV14: 332 | AW14: 301 | AX14: 439 | AY14: 164 | AZ14: 0 | BA14: 0 | BB14: 0 | BC14: 549 | BD14: 951 | BE14: 1102 | BF14: 826 | BG14: 923 | BH14: 1023 | BI14: 1085 | BJ14: 1050 | BK14: 1070 | BL14: 1083 | BM14: 1032 | BN14: 1047 | BO14: 995
A16: ='PANEL DE CONTROL DISTRITAL'!A15 -> 3 | B16: ='PANEL DE CONTROL DISTRITAL'!B15 -> TRANSFERENCIA DE LA INFORMACIÓN | C16: ='PANEL DE CONTROL DISTRITAL'!C15 -> Responsable de Módulo | D16: ='PANEL DE CONTROL DISTRITAL'!D15 -> Reenvíos exitosos = | E16: ='PANEL DE CONTROL DISTRITAL'!E15 -> (Ejecución de los scripts de reenvío de notificaciones/Solicitud de reenvíos de scripts requeridos) x100 | F16: ='PANEL DE CONTROL DISTRITAL'!F15 -> Semanal (remesa) | G16: ='PANEL DE CONTROL DISTRITAL'!G15 -> 1 | H16: ='PANEL DE CONTROL DISTRITAL'!H15 -> Ejecución de los scripts de reenvío de notificaciones | I16: 0 | J16: 0 | K16: 0 | L16: 0 | M16: 0 | N16: 0 | O16: 0 | P16: 0 | Q16: 0 | R16: 0 | S16: 0 | T16: 0 | U16: 0 | V16: 0 | W16: 0 | X16: 0 | Y16: 0 | Z16: 0 | AA16: 0 | AB16: 0 | AC16: 0 | AD16: 0 | AE16: 0 | AF16: 0 | AG16: 0 | AH16: 0 | AI16: 0 | AJ16: 0 | AK16: 0 | AL16: 0 | AM16: 0 | AN16: 0 | AO16: 0 | AP16: 0 | AQ16: 0 | AR16: 0 | AS16: 0 | AT16: 0 | AU16: 0 | AV16: 0 | AW16: 0 | AX16: 0 | AY16: 0 | AZ16: 0 | BA16: 0 | BB16: 0 | BC16: 0 | BD16: 0 | BE16: 0 | BF16: 0 | BG16: 1 | BH16: 0 | BI16: 0 | BJ16: 0 | BK16: 0 | BL16: 0 | BM16: 0 | BN16: 0 | BO16: 0 | BP16: =IFERROR(SUM(I16:BO16)/SUM(I17:BO17),1) -> 1
H17: ='PANEL DE CONTROL DISTRITAL'!H16 -> Solicitud de reevíos de scripts requeridos | I17: 0 | J17: 0 | K17: 0 | L17: 0 | M17: 0 | N17: 0 | O17: 0 | P17: 0 | Q17: 0 | R17: 0 | S17: 0 | T17: 0 | U17: 0 | V17: 0 | W17: 0 | X17: 0 | Y17: 0 | Z17: 0 | AA17: 0 | AB17: 0 | AC17: 0 | AD17: 0 | AE17: 0 | AF17: 0 | AG17: 0 | AH17: 0 | AI17: 0 | AJ17: 0 | AK17: 0 | AL17: 0 | AM17: 0 | AN17: 0 | AO17: 0 | AP17: 0 | AQ17: 0 | AR17: 0 | AS17: 0 | AT17: 0 | AU17: 0 | AV17: 0 | AW17: 0 | AX17: 0 | AY17: 0 | AZ17: 0 | BA17: 0 | BB17: 0 | BC17: 0 | BD17: 0 | BE17: 0 | BF17: 0 | BG17: 1 | BH17: 0 | BI17: 0 | BJ17: 0 | BK17: 0 | BL17: 0 | BM17: 0 | BN17: 0 | BO17: 0
A19: ='PANEL DE CONTROL DISTRITAL'!A18 -> 4 | B19: ='PANEL DE CONTROL DISTRITAL'!B18 -> CONCILIACIÓN DE CREDENCIALES PARA VOTAR | C19: ='PANEL DE CONTROL DISTRITAL'!C18 -> Responsable de Módulo | D19: ='PANEL DE CONTROL DISTRITAL'!D18 -> Credenciales disponibles para entrega = | E19: ='PANEL DE CONTROL DISTRITAL'!E18 -> [(Credenciales recibidas - credenciales inconsistentes) / Credenciales recibidas] x 100 | F19: ='PANEL DE CONTROL DISTRITAL'!F18 -> Semanal (remesa) | G19: ='PANEL DE CONTROL DISTRITAL'!G18 -> 0.9 | H19: ='PANEL DE CONTROL DISTRITAL'!H18 -> Credenciales Recibidas - Credenciales inconsistentes | I19: 0 | J19: 867 | K19: 825 | L19: 470 | M19: 908 | N19: 626 | O19: 709 | P19: 1058 | Q19: 843 | R19: 656 | S19: 849 | T19: 921 | U19: 813 | V19: 968 | W19: 730 | X19: 858 | Y19: 633 | Z19: 439 | AA19: 0 | AB19: 567 | AC19: 1103 | AD19: 1554 | AE19: 1219 | AF19: 1429 | AG19: 1106 | AH19: 452 | AI19: 1639 | AJ19: 1565 | AK19: 809 | AL19: 0 | AM19: 548 | AN19: 359 | AO19: 330 | AP19: 343 | AQ19: 44 | AR19: 432 | AS19: 368 | AT19: 231 | AU19: 334 | AV19: 286 | AW19: 204 | AX19: 551 | AY19: 124 | AZ19: 91 | BA19: 131 | BB19: 0 | BC19: 178 | BD19: 790 | BE19: 1126 | BF19: 920 | BG19: 895 | BH19: 984 | BI19: 1037 | BJ19: 1245 | BK19: 901 | BL19: 846 | BM19: 1268 | BN19: 1044 | BO19: 1026 | BP19: =IFERROR(SUM(I19:BO19)/SUM(I20:BO20),0) -> 0.99995152
H20: ='PANEL DE CONTROL DISTRITAL'!H19 -> Credenciales recibidas | I20: 0 | J20: 867 | K20: 825 | L20: 470 | M20: 908 | N20: 626 | O20: 709 | P20: 1058 | Q20: 843 | R20: 656 | S20: 849 | T20: 921 | U20: 813 | V20: 968 | W20: 730 | X20: 858 | Y20: 633 | Z20: 439 | AA20: 0 | AB20: 567 | AC20: 1103 | AD20: 1554 | AE20: 1219 | AF20: 1429 | AG20: 1106 | AH20: 452 | AI20: 1639 | AJ20: 1565 | AK20: 809 | AL20: 0 | AM20: 548 | AN20: 359 | AO20: 330 | AP20: 343 | AQ20: 44 | AR20: 432 | AS20: 368 | AT20: 231 | AU20: 334 | AV20: 286 | AW20: 204 | AX20: 551 | AY20: 124 | AZ20: 91 | BA20: 131 | BB20: 0 | BC20: 178 | BD20: 790 | BE20: 1126 | BF20: 920 | BG20: 895 | BH20: 984 | BI20: 1037 | BJ20: 1245 | BK20: 901 | BL20: 846 | BM20: 1269 | BN20: 1045 | BO20: 1026
A22: ='PANEL DE CONTROL DISTRITAL'!A21 -> 5 | B22: ='PANEL DE CONTROL DISTRITAL'!B21 -> CONCILIACIÓN DE CREDENCIALES PARA VOTAR | C22: ='PANEL DE CONTROL DISTRITAL'!C21 -> Responsable de Módulo | D22: ='PANEL DE CONTROL DISTRITAL'!D21 -> Arqueo de Credenciales = | E22: ='PANEL DE CONTROL DISTRITAL'!E21 -> (Credenciales disponibles (físicas)/ Credenciales disponibles registradas en SIIRFE) x 100 | F22: ='PANEL DE CONTROL DISTRITAL'!F21 -> Semanal (remesa) | G22: ='PANEL DE CONTROL DISTRITAL'!G21 -> 1 | H22: ='PANEL DE CONTROL DISTRITAL'!H21 -> Credenciales disponibles (físicas) | I22: 0 | J22: 1357 | K22: 1250 | L22: 1157 | M22: 1370 | N22: 1276 | O22: 1316 | P22: 1530 | Q22: 1479 | R22: 1687 | S22: 1454 | T22: 1543 | U22: 1548 | V22: 1801 | W22: 1599 | X22: 1659 | Y22: 1453 | Z22: 1312 | AA22: 1185 | AB22: 1384 | AC22: 1578 | AD22: 1906 | AE22: 1793 | AF22: 1768 | AG22: 1297 | AH22: 1533 | AI22: 1947 | AJ22: 1702 | AK22: 1718 | AL22: 1567 | AM22: 1224 | AN22: 884 | AO22: 748 | AP22: 565 | AQ22: 522 | AR22: 702 | AS22: 624 | AT22: 695 | AU22: 724 | AV22: 710 | AW22: 590 | AX22: 785 | AY22: 498 | AZ22: 640 | BA22: 524 | BB22: 0 | BC22: 606 | BD22: 1065 | BE22: 1487 | BF22: 1450 | BG22: 1389 | BH22: 1398 | BI22: 1525 | BJ22: 1785 | BK22: 1643 | BL22: 1359 | BM22: 1632 | BN22: 1621 | BO22: 1661 | BP22: =IFERROR(SUM(I22:BO22)/SUM(I23:BO23),0) -> 1
H23: ='PANEL DE CONTROL DISTRITAL'!H22 -> Credenciales disponibles registradas en SIIRFE | I23: 0 | J23: 1357 | K23: 1250 | L23: 1157 | M23: 1370 | N23: 1276 | O23: 1316 | P23: 1530 | Q23: 1479 | R23: 1687 | S23: 1454 | T23: 1543 | U23: 1548 | V23: 1801 | W23: 1599 | X23: 1659 | Y23: 1453 | Z23: 1312 | AA23: 1185 | AB23: 1384 | AC23: 1578 | AD23: 1906 | AE23: 1793 | AF23: 1768 | AG23: 1297 | AH23: 1533 | AI23: 1947 | AJ23: 1702 | AK23: 1718 | AL23: 1567 | AM23: 1224 | AN23: 884 | AO23: 748 | AP23: 565 | AQ23: 522 | AR23: 702 | AS23: 624 | AT23: 695 | AU23: 724 | AV23: 710 | AW23: 590 | AX23: 785 | AY23: 498 | AZ23: 640 | BA23: 524 | BB23: 0 | BC23: 606 | BD23: 1065 | BE23: 1487 | BF23: 1450 | BG23: 1389 | BH23: 1398 | BI23: 1525 | BJ23: 1785 | BK23: 1643 | BL23: 1359 | BM23: 1632 | BN23: 1621 | BO23: 1661
A25: ='PANEL DE CONTROL DISTRITAL'!A24 -> 6 | B25: ='PANEL DE CONTROL DISTRITAL'!B24 -> ENTREGA DE LA CREDENCIAL PARA VOTAR | C25: ='PANEL DE CONTROL DISTRITAL'!C24 -> Operador de Equipo Tecnológico | D25: ='PANEL DE CONTROL DISTRITAL'!D24 -> Efectividad de entrega de CPV en MAC = | E25: ='PANEL DE CONTROL DISTRITAL'!E24 -> (Total de credenciales entregadas / Total de ciudadanas y ciudadanos que acuden al MAC a recoger su credencial) x 100 | F25: ='PANEL DE CONTROL DISTRITAL'!F24 -> Semanal (remesa) | G25: ='PANEL DE CONTROL DISTRITAL'!G24 -> 0.9 | H25: ='PANEL DE CONTROL DISTRITAL'!H24 -> Total de credenciales entregadas | I25: 0 | J25: 852 | K25: 923 | L25: 563 | M25: 695 | N25: 720 | O25: 669 | P25: 844 | Q25: 889 | R25: 448 | S25: 1082 | T25: 832 | U25: 808 | V25: 710 | W25: 932 | X25: 798 | Y25: 839 | Z25: 571 | AA25: 127 | AB25: 368 | AC25: 909 | AD25: 1226 | AE25: 1332 | AF25: 1454 | AG25: 1568 | AH25: 216 | AI25: 1225 | AJ25: 1810 | AK25: 736 | AL25: 151 | AM25: 891 | AN25: 699 | AO25: 466 | AP25: 522 | AQ25: 87 | AR25: 252 | AS25: 446 | AT25: 160 | AU25: 305 | AV25: 300 | AW25: 324 | AX25: 356 | AY25: 126 | AZ25: 234 | BA25: 247 | BB25: 0 | BC25: 59 | BD25: 331 | BE25: 704 | BF25: 957 | BG25: 956 | BH25: 943 | BI25: 910 | BJ25: 985 | BK25: 1043 | BL25: 1130 | BM25: 993 | BN25: 1055 | BO25: 986 | BP25: =IFERROR(SUM(I25:BO25)/SUM(I26:BO26),0) -> 0.99973023
H26: ='PANEL DE CONTROL DISTRITAL'!H25 -> Total de ciudadanas y ciudadanos que acuden al MAC a recoger su credencial | I26: 0 | J26: 853 | K26: 923 | L26: 563 | M26: 695 | N26: 720 | O26: 669 | P26: 844 | Q26: 889 | R26: 448 | S26: 1083 | T26: 832 | U26: 808 | V26: 710 | W26: 932 | X26: 798 | Y26: 839 | Z26: 571 | AA26: 127 | AB26: 368 | AC26: 909 | AD26: 1226 | AE26: 1332 | AF26: 1454 | AG26: 1568 | AH26: 216 | AI26: 1225 | AJ26: 1811 | AK26: 736 | AL26: 151 | AM26: 891 | AN26: 699 | AO26: 466 | AP26: 522 | AQ26: 87 | AR26: 252 | AS26: 446 | AT26: 160 | AU26: 305 | AV26: 300 | AW26: 324 | AX26: 356 | AY26: 126 | AZ26: 234 | BA26: 247 | BB26: 0 | BC26: 59 | BD26: 331 | BE26: 704 | BF26: 957 | BG26: 957 | BH26: 944 | BI26: 911 | BJ26: 986 | BK26: 1044 | BL26: 1132 | BM26: 993 | BN26: 1056 | BO26: 986
B27: *Registre el valor nominal solicitado en la celda, el resultado proporcional esta automatizado.
I29: Semaforización
J30: Valor que requiere atención y justificación en el apartado de observaciones
J31: Valor suficiente
J32: Valor esperado
B34: CUADRO DE OBSERVACIONES
B35: Descripción | H35: No conformidad

Sheet 090651
A1: ='PANEL DE CONTROL DISTRITAL'!A1:Q1 -> INSTITUTO NACIONAL ELECTORAL SISTEMA DE GESTIÓN DE LA CALIDAD CIUDAD DE MÉXICO
D2: Distrito | E2: 6 | F2: Módulo | H2: 90651
A4: TABLERO DE CONTROL DE PROCESOS SUSTANTIVOS DEL SISTEMA DE GESTIÓN DE LA CALIDAD
A6: ='PANEL DE CONTROL DISTRITAL'!A6 -> Número | B6: ='PANEL DE CONTROL DISTRITAL'!B6 -> PROCESOS SUSTANTIVOS E INDICADORES | I6: SEMANA OPERATIVA | BP6: % AVANCE REGISTRADO
B7: ='PANEL DE CONTROL DISTRITAL'!B7 -> DESCRIPCIÓN | E7: ='PANEL DE CONTROL DISTRITAL'!E7 -> MEDICIÓN | I7: ='PANEL DE CONTROL DISTRITAL'!A5 -> CAMPAÑA ANUAL INTENSA 2024 CAMPAÑA ESPECIAL DE ACTUALIZACIÓN PARA EL PROCESO ELECTORAL EXTRAORDINARIO (CEAPEE) 2024-2025
B9: ='PANEL DE CONTROL DISTRITAL'!B8 -> Proceso | C9: ='PANEL DE CONTROL DISTRITAL'!C8 -> Dueño de Proceso | D9: ='PANEL DE CONTROL DISTRITAL'!D8 -> Indicador | E9: ='PANEL DE CONTROL DISTRITAL'!E8 -> Cálculo | F9: ='PANEL DE CONTROL DISTRITAL'!F8 -> Periodo | G9: ='PANEL DE CONTROL DISTRITAL'!G8 -> Estimado | H9: ='PANEL DE CONTROL DISTRITAL'!H8 -> Nominativo | I9: ='090151'!I9 -> 2024-41 | J9: ='090151'!J9 -> 2024-42 | K9: ='090151'!K9 -> 2024-43 | L9: ='090151'!L9 -> 2024-44 | M9: ='090151'!M9 -> 2024-45 | N9: ='090151'!N9 -> 2024-46 | O9: ='090151'!O9 -> 2024-47 | P9: ='090151'!P9 -> 2024-48 | ... BO9: ='090151'!BO9 -> 2025-40
A10: ='PANEL DE CONTROL DISTRITAL'!A9 -> 1 | B10: ='PANEL DE CONTROL DISTRITAL'!B9 -> ENTREVISTA | C10: ='PANEL DE CONTROL DISTRITAL'!C9 -> Auxiliar de Atención Ciudadana | D10: ='PANEL DE CONTROL DISTRITAL'!D9 -> Fichas requisitadas correctamente= | E10: ='PANEL DE CONTROL DISTRITAL'!E9 -> (Fichas requisitadas correctamente / Fichas revisadas en la muestra del 10%) x 100 | F10: ='PANEL DE CONTROL DISTRITAL'!F9 -> Semanal (remesa) | G10: ='PANEL DE CONTROL DISTRITAL'!G9 -> 0.9 | H10: ='PANEL DE CONTROL DISTRITAL'!H9 -> Fichas requistadas correctamente | I10: 0 | J10: 77 | K10: 84 | L10: 58 | M10: 66 | N10: 60 | O10: 81 | P10: 83 | Q10: 80 | R10: 69 | S10: 99 | T10: 95 | U10: 89 | V10: 104 | W10: 92 | X10: 103 | Y10: 80 | Z10: 59 | AA10: 18 | AB10: 58 | AC10: 131 | AD10: 160 | AE10: 140 | AF10: 163 | AG10: 160 | AH10: 55 | AI10: 55 | AJ10: 70 | AK10: 73 | AL10: 3 | AM10: 38 | AN10: 39 | AO10: 33 | AP10: 44 | AQ10: 7 | AR10: 29 | AS10: 35 | AT10: 22 | AU10: 40 | AV10: 35 | AW10: 34 | AX10: 40 | AY10: 21 | AZ10: 0 | BA10: 0 | BB10: 0 | BC10: 72 | BD10: 90 | BE10: 104 | BF10: 79 | BG10: 107 | BH10: 109 | BI10: 103 | BJ10: 98 | BK10: 108 | BL10: 110 | BM10: 106 | BN10: 107 | BO10: 106 | BP10: =IFERROR(SUM(I10:BO10)/SUM(I11:BO11),0) -> 0.89567266
H11: ='PANEL DE CONTROL DISTRITAL'!H10 -> Fichas revisadas en la muestra del 10% | I11: 0 | J11: 93 | K11: 98 | L11: 72 | M11: 87 | N11: 76 | O11: 92 | P11: 99 | Q11: 95 | R11: 69 | S11: 111 | T11: 117 | U11: 98 | V11: 119 | W11: 121 | X11: 120 | Y11: 94 | Z11: 81 | AA11: 24 | AB11: 62 | AC11: 175 | AD11: 173 | AE11: 172 | AF11: 195 | AG11: 184 | AH11: 55 | AI11: 60 | AJ11: 70 | AK11: 78 | AL11: 3 | AM11: 38 | AN11: 39 | AO11: 33 | AP11: 44 | AQ11: 7 | AR11: 29 | AS11: 35 | AT11: 22 | AU11: 40 | AV11: 35 | AW11: 34 | AX11: 40 | AY11: 21 | AZ11: 0 | BA11: 0 | BB11: 0 | BC11: 72 | BD11: 97 | BE11: 112 | BF11: 82 | BG11: 113 | BH11: 111 | BI11: 111 | BJ11: 110 | BK11: 113 | BL11: 116 | BM11: 108 | BN11: 107 | BO11: 106
A13: ='PANEL DE CONTROL DISTRITAL'!A12 -> 2 | B13: ='PANEL DE CONTROL DISTRITAL'!B12 -> TRÁMITE | C13: ='PANEL DE CONTROL DISTRITAL'!C12 -> Operador de Equipo Tecnológico | D13: ='PANEL DE CONTROL DISTRITAL'!D12 -> Trámites exitosos efectivos= | E13: ='PANEL DE CONTROL DISTRITAL'!E12 -> (Número de trámites exitosos / Número de trámites aplicados) x 100 | F13: ='PANEL DE CONTROL DISTRITAL'!F12 -> Semanal (remesa) | G13: ='PANEL DE CONTROL DISTRITAL'!G12 -> 0.9 | H13: ='PANEL DE CONTROL DISTRITAL'!H12 -> Número de trámites exitosos | I13: 0 | J13: 884 | K13: 941 | L13: 683 | M13: 834 | N13: 736 | O13: 887 | P13: 946 | Q13: 902 | R13: 663 | S13: 1073 | T13: 1141 | U13: 946 | V13: 1151 | W13: 1160 | X13: 1158 | Y13: 907 | Z13: 786 | AA13: 230 | AB13: 603 | AC13: 1678 | AD13: 1682 | AE13: 1673 | AF13: 1874 | AG13: 1773 | AH13: 529 | AI13: 572 | AJ13: 669 | AK13: 726 | AL13: 30 | AM13: 361 | AN13: 374 | AO13: 315 | AP13: 410 | AQ13: 64 | AR13: 283 | AS13: 333 | AT13: 212 | AU13: 389 | AV13: 323 | AW13: 328 | AX13: 395 | AY13: 197 | AZ13: 0 | BA13: 0 | BB13: 0 | BC13: 689 | BD13: 932 | BE13: 1086 | BF13: 782 | BG13: 1084 | BH13: 1059 | BI13: 1065 | BJ13: 1049 | BK13: 1081 | BL13: 1117 | BM13: 1043 | BN13: 1037 | BO13: 544 | BP13: =IFERROR(SUM(I13:BO13)/SUM(I14:BO14),0) -> 0.98686083
H14: ='PANEL DE CONTROL DISTRITAL'!H13 -> Número de trámites aplicados | I14: 0 | J14: 888 | K14: 943 | L14: 684 | M14: 838 | N14: 737 | O14: 889 | P14: 950 | Q14: 906 | R14: 665 | S14: 1074 | T14: 1145 | U14: 949 | V14: 1155 | W14: 1163 | X14: 1163 | Y14: 907 | Z14: 788 | AA14: 230 | AB14: 604 | AC14: 1683 | AD14: 1687 | AE14: 1675 | AF14: 1883 | AG14: 1775 | AH14: 531 | AI14: 572 | AJ14: 669 | AK14: 737 | AL14: 30 | AM14: 362 | AN14: 374 | AO14: 315 | AP14: 413 | AQ14: 64 | AR14: 283 | AS14: 333 | AT14: 212 | AU14: 390 | AV14: 323 | AW14: 328 | AX14: 395 | AY14: 197 | AZ14: 0 | BA14: 0 | BB14: 0 | BC14: 689 | BD14: 933 | BE14: 1088 | BF14: 784 | BG14: 1084 | BH14: 1062 | BI14: 1069 | BJ14: 1052 | BK14: 1083 | BL14: 1120 | BM14: 1049 | BN14: 1039 | BO14: 1019
A16: ='PANEL DE CONTROL DISTRITAL'!A15 -> 3 | B16: ='PANEL DE CONTROL DISTRITAL'!B15 -> TRANSFERENCIA DE LA INFORMACIÓN | C16: ='PANEL DE CONTROL DISTRITAL'!C15 -> Responsable de Módulo | D16: ='PANEL DE CONTROL DISTRITAL'!D15 -> Reenvíos exitosos = | E16: ='PANEL DE CONTROL DISTRITAL'!E15 -> (Ejecución de los scripts de reenvío de notificaciones/Solicitud de reenvíos de scripts requeridos) x100 | F16: ='PANEL DE CONTROL DISTRITAL'!F15 -> Semanal (remesa) | G16: ='PANEL DE CONTROL DISTRITAL'!G15 -> 1 | H16: ='PANEL DE CONTROL DISTRITAL'!H15 -> Ejecución de los scripts de reenvío de notificaciones | I16: 0 | J16: 0 | K16: 0 | L16: 0 | M16: 0 | N16: 0 | O16: 0 | P16: 0 | Q16: 0 | R16: 0 | S16: 0 | T16: 0 | U16: 0 | V16: 0 | W16: 0 | X16: 0 | Y16: 0 | Z16: 0 | AA16: 0 | AB16: 0 | AC16: 0 | AD16: 0 | AE16: 0 | AF16: 0 | AG16: 0 | AH16: 0 | AI16: 0 | AJ16: 0 | AK16: 0 | AL16: 0 | AM16: 0 | AN16: 0 | AO16: 0 | AP16: 0 | AQ16: 0 | AR16: 0 | AS16: 0 | AT16: 0 | AU16: 0 | AV16: 0 | AW16: 0 | AX16: 0 | AY16: 0 | AZ16: 0 | BA16: 0 | BB16: 0 | BC16: 0 | BD16: 0 | BE16: 0 | BF16: 0 | BG16: 0 | BH16: 0 | BI16: 0 | BJ16: 0 | BK16: 0 | BL16: 0 | BM16: 0 | BN16: 0 | BO16: 0 | BP16: =IFERROR(SUM(I16:BO16)/SUM(I17:BO17),1) -> 1
H17: ='PANEL DE CONTROL DISTRITAL'!H16 -> Solicitud de reevíos de scripts requeridos | I17: 0 | J17: 0 | K17: 0 | L17: 0 | M17: 0 | N17: 0 | O17: 0 | P17: 0 | Q17: 0 | R17: 0 | S17: 0 | T17: 0 | U17: 0 | V17: 0 | W17: 0 | X17: 0 | Y17: 0 | Z17: 0 | AA17: 0 | AB17: 0 | AC17: 0 | AD17: 0 | AE17: 0 | AF17: 0 | AG17: 0 | AH17: 0 | AI17: 0 | AJ17: 0 | AK17: 0 | AL17: 0 | AM17: 0 | AN17: 0 | AO17: 0 | AP17: 0 | AQ17: 0 | AR17: 0 | AS17: 0 | AT17: 0 | AU17: 0 | AV17: 0 | AW17: 0 | AX17: 0 | AY17: 0 | AZ17: 0 | BA17: 0 | BB17: 0 | BC17: 0 | BD17: 0 | BE17: 0 | BF17: 0 | BG17: 0 | BH17: 0 | BI17: 0 | BJ17: 0 | BK17: 0 | BL17: 0 | BM17: 0 | BN17: 0 | BO17: 0
A19: ='PANEL DE CONTROL DISTRITAL'!A18 -> 4 | B19: ='PANEL DE CONTROL DISTRITAL'!B18 -> CONCILIACIÓN DE CREDENCIALES PARA VOTAR | C19: ='PANEL DE CONTROL DISTRITAL'!C18 -> Responsable de Módulo | D19: ='PANEL DE CONTROL DISTRITAL'!D18 -> Credenciales disponibles para entrega = | E19: ='PANEL DE CONTROL DISTRITAL'!E18 -> [(Credenciales recibidas - credenciales inconsistentes) / Credenciales recibidas] x 100 | F19: ='PANEL DE CONTROL DISTRITAL'!F18 -> Semanal (remesa) | G19: ='PANEL DE CONTROL DISTRITAL'!G18 -> 0.9 | H19: ='PANEL DE CONTROL DISTRITAL'!H18 -> Credenciales Recibidas - Credenciales inconsistentes | I19: 0 | J19: 862 | K19: 1001 | L19: 517 | M19: 1044 | N19: 634 | O19: 745 | P19: 1083 | Q19: 932 | R19: 736 | S19: 909 | T19: 1112 | U19: 742 | V19: 1165 | W19: 1149 | X19: 1388 | Y19: 963 | Z19: 793 | AA19: 0 | AB19: 647 | AC19: 1146 | AD19: 1954 | AE19: 1304 | AF19: 1487 | AG19: 1731 | AH19: 0 | AI19: 1662 | AJ19: 1428 | AK19: 786 | AL19: 0 | AM19: 526 | AN19: 373 | AO19: 306 | AP19: 302 | AQ19: 52 | AR19: 422 | AS19: 347 | AT19: 225 | AU19: 371 | AV19: 291 | AW19: 353 | AX19: 374 | AY19: 142 | AZ19: 238 | BA19: 0 | BB19: 0 | BC19: 248 | BD19: 767 | BE19: 1340 | BF19: 862 | BG19: 825 | BH19: 1088 | BI19: 1051 | BJ19: 1054 | BK19: 1074 | BL19: 1098 | BM19: 1116 | BN19: 1026 | BO19: 1024 | BP19: =IFERROR(SUM(I19:BO19)/SUM(I20:BO20),0) -> 1
H20: ='PANEL DE CONTROL DISTRITAL'!H19 -> Credenciales recibidas | I20: 0 | J20: 862 | K20: 1001 | L20: 517 | M20: 1044 | N20: 634 | O20: 745 | P20: 1083 | Q20: 932 | R20: 736 | S20: 909 | T20: 1112 | U20: 742 | V20: 1165 | W20: 1149 | X20: 1388 | Y20: 963 | Z20: 793 | AA20: 0 | AB20: 647 | AC20: 1146 | AD20: 1954 | AE20: 1304 | AF20: 1487 | AG20: 1731 | AH20: 0 | AI20: 1662 | AJ20: 1428 | AK20: 786 | AL20: 0 | AM20: 526 | AN20: 373 | AO20: 306 | AP20: 302 | AQ20: 52 | AR20: 422 | AS20: 347 | AT20: 225 | AU20: 371 | AV20: 291 | AW20: 353 | AX20: 374 | AY20: 142 | AZ20: 238 | BA20: 0 | BB20: 0 | BC20: 248 | BD20: 767 | BE20: 1340 | BF20: 862 | BG20: 825 | BH20: 1088 | BI20: 1051 | BJ20: 1054 | BK20: 1074 | BL20: 1098 | BM20: 1116 | BN20: 1026 | BO20: 1024
A22: ='PANEL DE CONTROL DISTRITAL'!A21 -> 5 | B22: ='PANEL DE CONTROL DISTRITAL'!B21 -> CONCILIACIÓN DE CREDENCIALES PARA VOTAR | C22: ='PANEL DE CONTROL DISTRITAL'!C21 -> Responsable de Módulo | D22: ='PANEL DE CONTROL DISTRITAL'!D21 -> Arqueo de Credenciales = | E22: ='PANEL DE CONTROL DISTRITAL'!E21 -> (Credenciales disponibles (físicas)/ Credenciales disponibles registradas en SIIRFE) x 100 | F22: ='PANEL DE CONTROL DISTRITAL'!F21 -> Semanal (remesa) | G22: ='PANEL DE CONTROL DISTRITAL'!G21 -> 1 | H22: ='PANEL DE CONTROL DISTRITAL'!H21 -> Credenciales disponibles (físicas) | I22: 1621 | J22: 1621 | K22: 1743 | L22: 1424 | M22: 1705 | N22: 1505 | O22: 1466 | P22: 1686 | Q22: 1730 | R22: 1858 | S22: 1560 | T22: 1915 | U22: 1620 | V22: 1818 | W22: 1868 | X22: 2284 | Y22: 2070 | Z22: 1997 | AA22: 1705 | AB22: 1852 | AC22: 1961 | AD22: 2552 | AE22: 2217 | AF22: 2047 | AG22: 2035 | AH22: 1768 | AI22: 2493 | AJ22: 2074 | AK22: 2023 | AL22: 1831 | AM22: 1513 | AN22: 1236 | AO22: 975 | AP22: 769 | AQ22: 683 | AR22: 441 | AS22: 451 | AT22: 454 | AU22: 466 | AV22: 416 | AW22: 447 | AX22: 446 | AY22: 454 | AZ22: 464 | BA22: 202 | BB22: 0 | BC22: 787 | BD22: 1158 | BE22: 1771 | BF22: 1713 | BG22: 1642 | BH22: 1742 | BI22: 1839 | BJ22: 1864 | BK22: 1905 | BL22: 1948 | BM22: 1958 | BN22: 1902 | BO22: 1865 | BP22: =IFERROR(SUM(I22:BO22)/SUM(I23:BO23),0) -> 1
H23: ='PANEL DE CONTROL DISTRITAL'!H22 -> Credenciales disponibles registradas en SIIRFE | I23: 1621 | J23: 1621 | K23: 1743 | L23: 1424 | M23: 1705 | N23: 1505 | O23: 1466 | P23: 1686 | Q23: 1730 | R23: 1858 | S23: 1560 | T23: 1915 | U23: 1620 | V23: 1818 | W23: 1868 | X23: 2284 | Y23: 2070 | Z23: 1997 | AA23: 1705 | AB23: 1852 | AC23: 1961 | AD23: 2552 | AE23: 2217 | AF23: 2047 | AG23: 2035 | AH23: 1768 | AI23: 2493 | AJ23: 2074 | AK23: 2023 | AL23: 1831 | AM23: 1513 | AN23: 1236 | AO23: 975 | AP23: 769 | AQ23: 683 | AR23: 441 | AS23: 451 | AT23: 454 | AU23: 466 | AV23: 416 | AW23: 447 | AX23: 446 | AY23: 454 | AZ23: 464 | BA23: 202 | BB23: 0 | BC23: 787 | BD23: 1158 | BE23: 1771 | BF23: 1713 | BG23: 1642 | BH23: 1742 | BI23: 1839 | BJ23: 1864 | BK23: 1905 | BL23: 1948 | BM23: 1958 | BN23: 1902 | BO23: 1865
A25: ='PANEL DE CONTROL DISTRITAL'!A24 -> 6 | B25: ='PANEL DE CONTROL DISTRITAL'!B24 -> ENTREGA DE LA CREDENCIAL PARA VOTAR | C25: ='PANEL DE CONTROL DISTRITAL'!C24 -> Operador de Equipo Tecnológico | D25: ='PANEL DE CONTROL DISTRITAL'!D24 -> Efectividad de entrega de CPV en MAC = | E25: ='PANEL DE CONTROL DISTRITAL'!E24 -> (Total de credenciales entregadas / Total de ciudadanas y ciudadanos que acuden al MAC a recoger su credencial) x 100 | F25: ='PANEL DE CONTROL DISTRITAL'!F24 -> Semanal (remesa) | G25: ='PANEL DE CONTROL DISTRITAL'!G24 -> 0.9 | H25: ='PANEL DE CONTROL DISTRITAL'!H24 -> Total de credenciales entregadas | I25: 0 | J25: 847 | K25: 871 | L25: 836 | M25: 763 | N25: 834 | O25: 784 | P25: 857 | Q25: 888 | R25: 608 | S25: 1207 | T25: 757 | U25: 1037 | V25: 961 | W25: 1099 | X25: 972 | Y25: 1177 | Z25: 855 | AA25: 292 | AB25: 500 | AC25: 1037 | AD25: 1363 | AE25: 1639 | AF25: 1657 | AG25: 1728 | AH25: 267 | AI25: 936 | AJ25: 1847 | AK25: 791 | AL25: 192 | AM25: 844 | AN25: 650 | AO25: 567 | AP25: 501 | AQ25: 138 | AR25: 274 | AS25: 337 | AT25: 222 | AU25: 359 | AV25: 341 | AW25: 322 | AX25: 375 | AY25: 134 | AZ25: 258 | BA25: 232 | BB25: 0 | BC25: 22 | BD25: 396 | BE25: 727 | BF25: 920 | BG25: 896 | BH25: 962 | BI25: 954 | BJ25: 1029 | BK25: 1033 | BL25: 1054 | BM25: 1100 | BN25: 1080 | BO25: 1061 | BP25: =IFERROR(SUM(I25:BO25)/SUM(I26:BO26),0) -> 0.99957216
H26: ='PANEL DE CONTROL DISTRITAL'!H25 -> Total de ciudadanas y ciudadanos que acuden al MAC a recoger su credencial | I26: 0 | J26: 847 | K26: 871 | L26: 836 | M26: 763 | N26: 834 | O26: 784 | P26: 857 | Q26: 888 | R26: 608 | S26: 1207 | T26: 757 | U26: 1037 | V26: 961 | W26: 1099 | X26: 972 | Y26: 1177 | Z26: 855 | AA26: 292 | AB26: 500 | AC26: 1037 | AD26: 1363 | AE26: 1639 | AF26: 1657 | AG26: 1728 | AH26: 267 | AI26: 936 | AJ26: 1847 | AK26: 791 | AL26: 192 | AM26: 844 | AN26: 650 | AO26: 567 | AP26: 501 | AQ26: 138 | AR26: 274 | AS26: 337 | AT26: 222 | AU26: 359 | AV26: 341 | AW26: 322 | AX26: 376 | AY26: 134 | AZ26: 258 | BA26: 232 | BB26: 0 | BC26: 22 | BD26: 396 | BE26: 729 | BF26: 921 | BG26: 896 | BH26: 963 | BI26: 955 | BJ26: 1032 | BK26: 1035 | BL26: 1056 | BM26: 1103 | BN26: 1082 | BO26: 1062
B27: *Registre el valor nominal solicitado en la celda, el resultado proporcional esta automatizado.
I29: Semaforización
J30: Valor que requiere atención y justificación en el apartado de observaciones
J31: Valor suficiente
J32: Valor esperado
B34: CUADRO DE OBSERVACIONES
B35: Descripción | H35: No conformidad

Sheet 090751
A1: ='PANEL DE CONTROL DISTRITAL'!A1:Q1 -> INSTITUTO NACIONAL ELECTORAL SISTEMA DE GESTIÓN DE LA CALIDAD CIUDAD DE MÉXICO
D2: Distrito | E2: 7 | F2: Módulo | H2: 90751
A4: TABLERO DE CONTROL DE PROCESOS SUSTANTIVOS DEL SISTEMA DE GESTIÓN DE LA CALIDAD
A6: ='PANEL DE CONTROL DISTRITAL'!A6 -> Número | B6: ='PANEL DE CONTROL DISTRITAL'!B6 -> PROCESOS SUSTANTIVOS E INDICADORES | I6: SEMANA OPERATIVA | BP6: % AVANCE REGISTRADO
B7: ='PANEL DE CONTROL DISTRITAL'!B7 -> DESCRIPCIÓN | E7: ='PANEL DE CONTROL DISTRITAL'!E7 -> MEDICIÓN | I7: ='PANEL DE CONTROL DISTRITAL'!A5 -> CAMPAÑA ANUAL INTENSA 2024 CAMPAÑA ESPECIAL DE ACTUALIZACIÓN PARA EL PROCESO ELECTORAL EXTRAORDINARIO (CEAPEE) 2024-2025
B9: ='PANEL DE CONTROL DISTRITAL'!B8 -> Proceso | C9: ='PANEL DE CONTROL DISTRITAL'!C8 -> Dueño de Proceso | D9: ='PANEL DE CONTROL DISTRITAL'!D8 -> Indicador | E9: ='PANEL DE CONTROL DISTRITAL'!E8 -> Cálculo | F9: ='PANEL DE CONTROL DISTRITAL'!F8 -> Periodo | G9: ='PANEL DE CONTROL DISTRITAL'!G8 -> Estimado | H9: ='PANEL DE CONTROL DISTRITAL'!H8 -> Nominativo | I9: ='090151'!I9 -> 2024-41 | J9: ='090151'!J9 -> 2024-42 | K9: ='090151'!K9 -> 2024-43 | L9: ='090151'!L9 -> 2024-44 | M9: ='090151'!M9 -> 2024-45 | N9: ='090151'!N9 -> 2024-46 | O9: ='090151'!O9 -> 2024-47 | P9: ='090151'!P9 -> 2024-48 | ... BO9: ='090151'!BO9 -> 2025-40
A10: ='PANEL DE CONTROL DISTRITAL'!A9 -> 1 | B10: ='PANEL DE CONTROL DISTRITAL'!B9 -> ENTREVISTA | C10: ='PANEL DE CONTROL DISTRITAL'!C9 -> Auxiliar de Atención Ciudadana | D10: ='PANEL DE CONTROL DISTRITAL'!D9 -> Fichas requisitadas correctamente= | E10: ='PANEL DE CONTROL DISTRITAL'!E9 -> (Fichas requisitadas correctamente / Fichas revisadas en la muestra del 10%) x 100 | F10: ='PANEL DE CONTROL DISTRITAL'!F9 -> Semanal (remesa) | G10: ='PANEL DE CONTROL DISTRITAL'!G9 -> 0.9 | H10: ='PANEL DE CONTROL DISTRITAL'!H9 -> Fichas requistadas correctamente | I10: 0 | J10: 113 | K10: 109 | L10: 67 | M10: 105 | N10: 90 | O10: 121 | P10: 110 | Q10: 104 | R10: 80 | S10: 134 | T10: 107 | U10: 87 | V10: 122 | W10: 120 | X10: 114 | Y10: 116 | Z10: 81 | AA10: 0 | AB10: 40 | AC10: 167 | AD10: 209 | AE10: 201 | AF10: 216 | AG10: 189 | AH10: 66 | AI10: 83 | AJ10: 118 | AK10: 113 | AL10: 5 | AM10: 53 | AN10: 53 | AO10: 49 | AP10: 58 | AQ10: 10 | AR10: 34 | AS10: 57 | AT10: 34 | AU10: 60 | AV10: 47 | AW10: 46 | AX10: 62 | AY10: 35 | AZ10: 0 | BA10: 0 | BB10: 0 | BC10: 138 | BD10: 157 | BE10: 156 | BF10: 157 | BG10: 154 | BH10: 157 | BI10: 140 | BJ10: 149 | BK10: 154 | BL10: 147 | BM10: 133 | BN10: 157 | BO10: 144 | BP10: =IFERROR(SUM(I10:BO10)/SUM(I11:BO11),0) -> 1.0001746
H11: ='PANEL DE CONTROL DISTRITAL'!H10 -> Fichas revisadas en la muestra del 10% | I11: 0 | J11: 113 | K11: 109 | L11: 67 | M11: 105 | N11: 90 | O11: 121 | P11: 110 | Q11: 104 | R11: 80 | S11: 134 | T11: 107 | U11: 87 | V11: 122 | W11: 120 | X11: 114 | Y11: 116 | Z11: 81 | AA11: 0 | AB11: 40 | AC11: 167 | AD11: 209 | AE11: 201 | AF11: 216 | AG11: 189 | AH11: 66 | AI11: 83 | AJ11: 118 | AK11: 113 | AL11: 5 | AM11: 53 | AN11: 53 | AO11: 49 | AP11: 58 | AQ11: 10 | AR11: 34 | AS11: 56 | AT11: 34 | AU11: 60 | AV11: 47 | AW11: 46 | AX11: 62 | AY11: 35 | AZ11: 0 | BA11: 0 | BB11: 0 | BC11: 138 | BD11: 157 | BE11: 156 | BF11: 157 | BG11: 154 | BH11: 157 | BI11: 140 | BJ11: 149 | BK11: 154 | BL11: 147 | BM11: 133 | BN11: 157 | BO11: 144
A13: ='PANEL DE CONTROL DISTRITAL'!A12 -> 2 | B13: ='PANEL DE CONTROL DISTRITAL'!B12 -> TRÁMITE | C13: ='PANEL DE CONTROL DISTRITAL'!C12 -> Operador de Equipo Tecnológico | D13: ='PANEL DE CONTROL DISTRITAL'!D12 -> Trámites exitosos efectivos= | E13: ='PANEL DE CONTROL DISTRITAL'!E12 -> (Número de trámites exitosos / Número de trámites aplicados) x 100 | F13: ='PANEL DE CONTROL DISTRITAL'!F12 -> Semanal (remesa) | G13: ='PANEL DE CONTROL DISTRITAL'!G12 -> 0.9 | H13: ='PANEL DE CONTROL DISTRITAL'!H12 -> Número de trámites exitosos | I13: 0 | J13: 1097 | K13: 1065 | L13: 655 | M13: 1021 | N13: 884 | O13: 1172 | P13: 1072 | Q13: 1002 | R13: 785 | S13: 1316 | T13: 1038 | U13: 848 | V13: 1193 | W13: 1183 | X13: 1116 | Y13: 1138 | Z13: 793 | AA13: 0 | AB13: 397 | AC13: 1722 | AD13: 2050 | AE13: 1982 | AF13: 2122 | AG13: 1889 | AH13: 651 | AI13: 758 | AJ13: 1155 | AK13: 1113 | AL13: 51 | AM13: 526 | AN13: 537 | AO13: 484 | AP13: 561 | AQ13: 102 | AR13: 416 | AS13: 565 | AT13: 334 | AU13: 600 | AV13: 471 | AW13: 459 | AX13: 610 | AY13: 307 | AZ13: 0 | BA13: 0 | BB13: 0 | BC13: 1341 | BD13: 1515 | BE13: 1530 | BF13: 1561 | BG13: 1504 | BH13: 1554 | BI13: 1436 | BJ13: 1479 | BK13: 1520 | BL13: 1438 | BM13: 1304 | BN13: 1486 | BO13: 1414 | BP13: =IFERROR(SUM(I13:BO13)/SUM(I14:BO14),0) -> 0.99639104
H14: ='PANEL DE CONTROL DISTRITAL'!H13 -> Número de trámites aplicados | I14: 0 | J14: 1099 | K14: 1065 | L14: 658 | M14: 1023 | N14: 887 | O14: 1176 | P14: 1072 | Q14: 1004 | R14: 787 | S14: 1318 | T14: 1039 | U14: 851 | V14: 1197 | W14: 1186 | X14: 1120 | Y14: 1145 | Z14: 797 | AA14: 0 | AB14: 397 | AC14: 1725 | AD14: 2052 | AE14: 1982 | AF14: 2130 | AG14: 1895 | AH14: 655 | AI14: 758 | AJ14: 1157 | AK14: 1117 | AL14: 51 | AM14: 526 | AN14: 537 | AO14: 484 | AP14: 561 | AQ14: 102 | AR14: 416 | AS14: 566 | AT14: 334 | AU14: 600 | AV14: 471 | AW14: 460 | AX14: 611 | AY14: 307 | AZ14: 0 | BA14: 0 | BB14: 0 | BC14: 1354 | BD14: 1525 | BE14: 1536 | BF14: 1577 | BG14: 1516 | BH14: 1559 | BI14: 1440 | BJ14: 1494 | BK14: 1528 | BL14: 1447 | BM14: 1314 | BN14: 1494 | BO14: 1424
A16: ='PANEL DE CONTROL DISTRITAL'!A15 -> 3 | B16: ='PANEL DE CONTROL DISTRITAL'!B15 -> TRANSFERENCIA DE LA INFORMACIÓN | C16: ='PANEL DE CONTROL DISTRITAL'!C15 -> Responsable de Módulo | D16: ='PANEL DE CONTROL DISTRITAL'!D15 -> Reenvíos exitosos = | E16: ='PANEL DE CONTROL DISTRITAL'!E15 -> (Ejecución de los scripts de reenvío de notificaciones/Solicitud de reenvíos de scripts requeridos) x100 | F16: ='PANEL DE CONTROL DISTRITAL'!F15 -> Semanal (remesa) | G16: ='PANEL DE CONTROL DISTRITAL'!G15 -> 1 | H16: ='PANEL DE CONTROL DISTRITAL'!H15 -> Ejecución de los scripts de reenvío de notificaciones | I16: 0 | J16: 0 | K16: 0 | L16: 0 | M16: 0 | N16: 0 | O16: 0 | P16: 0 | Q16: 0 | R16: 0 | S16: 0 | T16: 0 | U16: 0 | V16: 0 | W16: 0 | X16: 0 | Y16: 0 | Z16: 0 | AA16: 0 | AB16: 0 | AC16: 0 | AD16: 205 | AE16: 0 | AF16: 0 | AG16: 0 | AH16: 0 | AI16: 0 | AJ16: 0 | AK16: 0 | AL16: 0 | AM16: 0 | AN16: 0 | AO16: 0 | AP16: 0 | AQ16: 0 | AR16: 0 | AS16: 0 | AT16: 0 | AU16: 0 | AV16: 0 | AW16: 0 | AX16: 0 | AY16: 0 | AZ16: 0 | BA16: 0 | BB16: 0 | BC16: 0 | BD16: 0 | BE16: 0 | BF16: 0 | BG16: 0 | BH16: 0 | BI16: 0 | BJ16: 0 | BK16: 0 | BL16: 0 | BM16: 0 | BN16: 0 | BO16: 0 | BP16: =IFERROR(SUM(I16:BO16)/SUM(I17:BO17),1) -> 1
H17: ='PANEL DE CONTROL DISTRITAL'!H16 -> Solicitud de reevíos de scripts requeridos | I17: 0 | J17: 0 | K17: 0 | L17: 0 | M17: 0 | N17: 0 | O17: 0 | P17: 0 | Q17: 0 | R17: 0 | S17: 0 | T17: 0 | U17: 0 | V17: 0 | W17: 0 | X17: 0 | Y17: 0 | Z17: 0 | AA17: 0 | AB17: 0 | AC17: 0 | AD17: 205 | AE17: 0 | AF17: 0 | AG17: 0 | AH17: 0 | AI17: 0 | AJ17: 0 | AK17: 0 | AL17: 0 | AM17: 0 | AN17: 0 | AO17: 0 | AP17: 0 | AQ17: 0 | AR17: 0 | AS17: 0 | AT17: 0 | AU17: 0 | AV17: 0 | AW17: 0 | AX17: 0 | AY17: 0 | AZ17: 0 | BA17: 0 | BB17: 0 | BC17: 0 | BD17: 0 | BE17: 0 | BF17: 0 | BG17: 0 | BH17: 0 | BI17: 0 | BJ17: 0 | BK17: 0 | BL17: 0 | BM17: 0 | BN17: 0 | BO17: 0
A19: ='PANEL DE CONTROL DISTRITAL'!A18 -> 4 | B19: ='PANEL DE CONTROL DISTRITAL'!B18 -> CONCILIACIÓN DE CREDENCIALES PARA VOTAR | C19: ='PANEL DE CONTROL DISTRITAL'!C18 -> Responsable de Módulo | D19: ='PANEL DE CONTROL DISTRITAL'!D18 -> Credenciales disponibles para entrega = | E19: ='PANEL DE CONTROL DISTRITAL'!E18 -> [(Credenciales recibidas - credenciales inconsistentes) / Credenciales recibidas] x 100 | F19: ='PANEL DE CONTROL DISTRITAL'!F18 -> Semanal (remesa) | G19: ='PANEL DE CONTROL DISTRITAL'!G18 -> 0.9 | H19: ='PANEL DE CONTROL DISTRITAL'!H18 -> Credenciales Recibidas - Credenciales inconsistentes | I19: 0 | J19: 1127 | K19: 1076 | L19: 622 | M19: 1058 | N19: 819 | O19: 901 | P19: 1336 | Q19: 1042 | R19: 876 | S19: 1135 | T19: 1131 | U19: 1015 | V19: 946 | W19: 979 | X19: 1374 | Y19: 1102 | Z19: 733 | AA19: 0 | AB19: 608 | AC19: 192 | AD19: 2836 | AE19: 1596 | AF19: 1774 | AG19: 1518 | AH19: 460 | AI19: 1732 | AJ19: 2078 | AK19: 1219 | AL19: 0 | AM19: 785 | AN19: 497 | AO19: 471 | AP19: 444 | AQ19: 77 | AR19: 614 | AS19: 447 | AT19: 451 | AU19: 599 | AV19: 458 | AW19: 504 | AX19: 557 | AY19: 229 | AZ19: 0 | BA19: 0 | BB19: 0 | BC19: 703 | BD19: 1370 | BE19: 1874 | BF19: 1573 | BG19: 1268 | BH19: 1511 | BI19: 1793 | BJ19: 1173 | BK19: 1517 | BL19: 1195 | BM19: 1657 | BN19: 1387 | BO19: 1504 | BP19: =IFERROR(SUM(I19:BO19)/SUM(I20:BO20),0) -> 0.99998212
H20: ='PANEL DE CONTROL DISTRITAL'!H19 -> Credenciales recibidas | I20: 0 | J20: 1127 | K20: 1076 | L20: 622 | M20: 1058 | N20: 819 | O20: 901 | P20: 1336 | Q20: 1042 | R20: 876 | S20: 1135 | T20: 1131 | U20: 1015 | V20: 946 | W20: 979 | X20: 1374 | Y20: 1102 | Z20: 733 | AA20: 0 | AB20: 608 | AC20: 192 | AD20: 2836 | AE20: 1596 | AF20: 1774 | AG20: 1518 | AH20: 460 | AI20: 1732 | AJ20: 2078 | AK20: 1219 | AL20: 0 | AM20: 785 | AN20: 497 | AO20: 471 | AP20: 444 | AQ20: 77 | AR20: 614 | AS20: 447 | AT20: 451 | AU20: 600 | AV20: 458 | AW20: 504 | AX20: 557 | AY20: 229 | AZ20: 0 | BA20: 0 | BB20: 0 | BC20: 703 | BD20: 1370 | BE20: 1874 | BF20: 1573 | BG20: 1268 | BH20: 1511 | BI20: 1793 | BJ20: 1173 | BK20: 1517 | BL20: 1195 | BM20: 1657 | BN20: 1387 | BO20: 1504
A22: ='PANEL DE CONTROL DISTRITAL'!A21 -> 5 | B22: ='PANEL DE CONTROL DISTRITAL'!B21 -> CONCILIACIÓN DE CREDENCIALES PARA VOTAR | C22: ='PANEL DE CONTROL DISTRITAL'!C21 -> Responsable de Módulo | D22: ='PANEL DE CONTROL DISTRITAL'!D21 -> Arqueo de Credenciales = | E22: ='PANEL DE CONTROL DISTRITAL'!E21 -> (Credenciales disponibles (físicas)/ Credenciales disponibles registradas en SIIRFE) x 100 | F22: ='PANEL DE CONTROL DISTRITAL'!F21 -> Semanal (remesa) | G22: ='PANEL DE CONTROL DISTRITAL'!G21 -> 1 | H22: ='PANEL DE CONTROL DISTRITAL'!H21 -> Credenciales disponibles (físicas) | I22: 0 | J22: 1814 | K22: 1900 | L22: 1722 | M22: 1533 | N22: 1330 | O22: 1080 | P22: 1487 | Q22: 1650 | R22: 1707 | S22: 1598 | T22: 1498 | U22: 1578 | V22: 1377 | W22: 1448 | X22: 2061 | Y22: 2205 | Z22: 2458 | AA22: 2458 | AB22: 2681 | AC22: 1675 | AD22: 2997 | AE22: 2649 | AF22: 2288 | AG22: 1876 | AH22: 2073 | AI22: 2637 | AJ22: 2424 | AK22: 2223 | AL22: 2757 | AM22: 1389 | AN22: 1124 | AO22: 1009 | AP22: 757 | AQ22: 718 | AR22: 972 | AS22: 932 | AT22: 1078 | AU22: 1143 | AV22: 1044 | AW22: 1160 | AX22: 1187 | AY22: 1163 | AZ22: 1115 | BA22: 0 | BB22: 0 | BC22: 1334 | BD22: 1517 | BE22: 1956 | BF22: 2171 | BG22: 1929 | BH22: 1823 | BI22: 2142 | BJ22: 1824 | BK22: 1857 | BL22: 1522 | BM22: 1749 | BN22: 1736 | BO22: 1790 | BP22: =IFERROR(SUM(I22:BO22)/SUM(I23:BO23),0) -> 1
H23: ='PANEL DE CONTROL DISTRITAL'!H22 -> Credenciales disponibles registradas en SIIRFE | I23: 0 | J23: 1814 | K23: 1900 | L23: 1722 | M23: 1533 | N23: 1330 | O23: 1080 | P23: 1487 | Q23: 1650 | R23: 1707 | S23: 1598 | T23: 1498 | U23: 1578 | V23: 1377 | W23: 1448 | X23: 2061 | Y23: 2205 | Z23: 2458 | AA23: 2458 | AB23: 2681 | AC23: 1675 | AD23: 2997 | AE23: 2649 | AF23: 2288 | AG23: 1876 | AH23: 2073 | AI23: 2637 | AJ23: 2424 | AK23: 2223 | AL23: 2757 | AM23: 1389 | AN23: 1124 | AO23: 1009 | AP23: 757 | AQ23: 718 | AR23: 972 | AS23: 932 | AT23: 1078 | AU23: 1143 | AV23: 1044 | AW23: 1160 | AX23: 1187 | AY23: 1163 | AZ23: 1115 | BA23: 0 | BB23: 0 | BC23: 1334 | BD23: 1517 | BE23: 1956 | BF23: 2171 | BG23: 1929 | BH23: 1823 | BI23: 2142 | BJ23: 1824 | BK23: 1857 | BL23: 1522 | BM23: 1749 | BN23: 1736 | BO23: 1790
A25: ='PANEL DE CONTROL DISTRITAL'!A24 -> 6 | B25: ='PANEL DE CONTROL DISTRITAL'!B24 -> ENTREGA DE LA CREDENCIAL PARA VOTAR | C25: ='PANEL DE CONTROL DISTRITAL'!C24 -> Operador de Equipo Tecnológico | D25: ='PANEL DE CONTROL DISTRITAL'!D24 -> Efectividad de entrega de CPV en MAC = | E25: ='PANEL DE CONTROL DISTRITAL'!E24 -> (Total de credenciales entregadas / Total de ciudadanas y ciudadanos que acuden al MAC a recoger su credencial) x 100 | F25: ='PANEL DE CONTROL DISTRITAL'!F24 -> Semanal (remesa) | G25: ='PANEL DE CONTROL DISTRITAL'!G24 -> 0.9 | H25: ='PANEL DE CONTROL DISTRITAL'!H24 -> Total de credenciales entregadas | I25: 0 | J25: 1104 | K25: 982 | L25: 800 | M25: 1247 | N25: 1022 | O25: 1151 | P25: 915 | Q25: 879 | R25: 819 | S25: 1244 | T25: 1231 | U25: 935 | V25: 1134 | W25: 908 | X25: 761 | Y25: 958 | Z25: 472 | AA25: 0 | AB25: 385 | AC25: 1198 | AD25: 1514 | AE25: 1944 | AF25: 2135 | AG25: 1921 | AH25: 263 | AI25: 1168 | AJ25: 2291 | AK25: 1338 | AL25: 251 | AM25: 1368 | AN25: 762 | AO25: 586 | AP25: 689 | AQ25: 116 | AR25: 360 | AS25: 487 | AT25: 305 | AU25: 502 | AV25: 557 | AW25: 388 | AX25: 530 | AY25: 253 | AZ25: 418 | BA25: 0 | BB25: 0 | BC25: 58 | BD25: 1187 | BE25: 1435 | BF25: 1358 | BG25: 1510 | BH25: 1535 | BI25: 1474 | BJ25: 1491 | BK25: 1484 | BL25: 1522 | BM25: 1420 | BN25: 1400 | BO25: 1450 | BP25: =IFERROR(SUM(I25:BO25)/SUM(I26:BO26),0) -> 1
H26: ='PANEL DE CONTROL DISTRITAL'!H25 -> Total de ciudadanas y ciudadanos que acuden al MAC a recoger su credencial | I26: 0 | J26: 1104 | K26: 982 | L26: 800 | M26: 1247 | N26: 1022 | O26: 1151 | P26: 915 | Q26: 879 | R26: 819 | S26: 1244 | T26: 1231 | U26: 935 | V26: 1134 | W26: 908 | X26: 761 | Y26: 958 | Z26: 472 | AA26: 0 | AB26: 385 | AC26: 1198 | AD26: 1514 | AE26: 1944 | AF26: 2135 | AG26: 1921 | AH26: 263 | AI26: 1168 | AJ26: 2291 | AK26: 1338 | AL26: 251 | AM26: 1368 | AN26: 762 | AO26: 586 | AP26: 689 | AQ26: 116 | AR26: 360 | AS26: 487 | AT26: 305 | AU26: 502 | AV26: 557 | AW26: 388 | AX26: 530 | AY26: 253 | AZ26: 418 | BA26: 0 | BB26: 0 | BC26: 58 | BD26: 1187 | BE26: 1435 | BF26: 1358 | BG26: 1510 | BH26: 1535 | BI26: 1474 | BJ26: 1491 | BK26: 1484 | BL26: 1522 | BM26: 1420 | BN26: 1400 | BO26: 1450
B27: *Registre el valor nominal solicitado en la celda, el resultado proporcional esta automatizado.
I29: Semaforización
J30: Valor que requiere atención y justificación en el apartado de observaciones
J31: Valor suficiente
J32: Valor esperado
B34: CUADRO DE OBSERVACIONES
B35: Descripción | H35: No conformidad

Sheet 090852
A1: ='PANEL DE CONTROL DISTRITAL'!A1:Q1 -> INSTITUTO NACIONAL ELECTORAL SISTEMA DE GESTIÓN DE LA CALIDAD CIUDAD DE MÉXICO
D2: Distrito | E2: 8 | F2: Módulo | H2: 90852
A4: TABLERO DE CONTROL DE PROCESOS SUSTANTIVOS DEL SISTEMA DE GESTIÓN DE LA CALIDAD
A6: ='PANEL DE CONTROL DISTRITAL'!A6 -> Número | B6: ='PANEL DE CONTROL DISTRITAL'!B6 -> PROCESOS SUSTANTIVOS E INDICADORES | I6: SEMANA OPERATIVA | BP6: % AVANCE REGISTRADO
B7: ='PANEL DE CONTROL DISTRITAL'!B7 -> DESCRIPCIÓN | E7: ='PANEL DE CONTROL DISTRITAL'!E7 -> MEDICIÓN | I7: ='PANEL DE CONTROL DISTRITAL'!A5 -> CAMPAÑA ANUAL INTENSA 2024 CAMPAÑA ESPECIAL DE ACTUALIZACIÓN PARA EL PROCESO ELECTORAL EXTRAORDINARIO (CEAPEE) 2024-2025
B9: ='PANEL DE CONTROL DISTRITAL'!B8 -> Proceso | C9: ='PANEL DE CONTROL DISTRITAL'!C8 -> Dueño de Proceso | D9: ='PANEL DE CONTROL DISTRITAL'!D8 -> Indicador | E9: ='PANEL DE CONTROL DISTRITAL'!E8 -> Cálculo | F9: ='PANEL DE CONTROL DISTRITAL'!F8 -> Periodo | G9: ='PANEL DE CONTROL DISTRITAL'!G8 -> Estimado | H9: ='PANEL DE CONTROL DISTRITAL'!H8 -> Nominativo | I9: ='090151'!I9 -> 2024-41 | J9: ='090151'!J9 -> 2024-42 | K9: ='090151'!K9 -> 2024-43 | L9: ='090151'!L9 -> 2024-44 | M9: ='090151'!M9 -> 2024-45 | N9: ='090151'!N9 -> 2024-46 | O9: ='090151'!O9 -> 2024-47 | P9: ='090151'!P9 -> 2024-48 | ... BO9: ='090151'!BO9 -> 2025-40
A10: ='PANEL DE CONTROL DISTRITAL'!A9 -> 1 | B10: ='PANEL DE CONTROL DISTRITAL'!B9 -> ENTREVISTA | C10: ='PANEL DE CONTROL DISTRITAL'!C9 -> Auxiliar de Atención Ciudadana | D10: ='PANEL DE CONTROL DISTRITAL'!D9 -> Fichas requisitadas correctamente= | E10: ='PANEL DE CONTROL DISTRITAL'!E9 -> (Fichas requisitadas correctamente / Fichas revisadas en la muestra del 10%) x 100 | F10: ='PANEL DE CONTROL DISTRITAL'!F9 -> Semanal (remesa) | G10: ='PANEL DE CONTROL DISTRITAL'!G9 -> 0.9 | H10: ='PANEL DE CONTROL DISTRITAL'!H9 -> Fichas requistadas correctamente | I10: 0 | J10: 115 | K10: 120 | L10: 75 | M10: 108 | N10: 99 | O10: 127 | P10: 119 | Q10: 113 | R10: 97 | S10: 112 | T10: 100 | U10: 85 | V10: 114 | W10: 133 | X10: 121 | Y10: 116 | Z10: 85 | AA10: 23 | AB10: 87 | AC10: 210 | AD10: 216 | AE10: 222 | AF10: 241 | AG10: 210 | AH10: 55 | AI10: 73 | AJ10: 105 | AK10: 106 | AL10: 5 | AM10: 58 | AN10: 56 | AO10: 13 | AP10: 57 | AQ10: 11 | AR10: 30 | AS10: 45 | AT10: 29 | AU10: 53 | AV10: 50 | AW10: 50 | AX10: 61 | AY10: 32 | AZ10: 0 | BA10: 0 | BB10: 0 | BC10: 80 | BD10: 100 | BE10: 120 | BF10: 128 | BG10: 141 | BH10: 138 | BI10: 125 | BJ10: 140 | BK10: 132 | BL10: 140 | BM10: 129 | BN10: 112 | BO10: 128 | BP10: =IFERROR(SUM(I10:BO10)/SUM(I11:BO11),0) -> 0.95083091
H11: ='PANEL DE CONTROL DISTRITAL'!H10 -> Fichas revisadas en la muestra del 10% | I11: 0 | J11: 115 | K11: 120 | L11: 75 | M11: 108 | N11: 99 | O11: 127 | P11: 119 | Q11: 113 | R11: 97 | S11: 112 | T11: 100 | U11: 85 | V11: 114 | W11: 133 | X11: 121 | Y11: 116 | Z11: 85 | AA11: 23 | AB11: 87 | AC11: 210 | AD11: 216 | AE11: 222 | AF11: 241 | AG11: 210 | AH11: 55 | AI11: 73 | AJ11: 105 | AK11: 106 | AL11: 5 | AM11: 58 | AN11: 56 | AO11: 52 | AP11: 57 | AQ11: 11 | AR11: 43 | AS11: 52 | AT11: 31 | AU11: 61 | AV11: 53 | AW11: 55 | AX11: 65 | AY11: 34 | AZ11: 0 | BA11: 0 | BB11: 0 | BC11: 103 | BD11: 136 | BE11: 152 | BF11: 145 | BG11: 148 | BH11: 153 | BI11: 136 | BJ11: 149 | BK11: 143 | BL11: 154 | BM11: 143 | BN11: 118 | BO11: 137
A13: ='PANEL DE CONTROL DISTRITAL'!A12 -> 2 | B13: ='PANEL DE CONTROL DISTRITAL'!B12 -> TRÁMITE | C13: ='PANEL DE CONTROL DISTRITAL'!C12 -> Operador de Equipo Tecnológico | D13: ='PANEL DE CONTROL DISTRITAL'!D12 -> Trámites exitosos efectivos= | E13: ='PANEL DE CONTROL DISTRITAL'!E12 -> (Número de trámites exitosos / Número de trámites aplicados) x 100 | F13: ='PANEL DE CONTROL DISTRITAL'!F12 -> Semanal (remesa) | G13: ='PANEL DE CONTROL DISTRITAL'!G12 -> 0.9 | H13: ='PANEL DE CONTROL DISTRITAL'!H12 -> Número de trámites exitosos | I13: 0 | J13: 1113 | K13: 1093 | L13: 720 | M13: 1056 | N13: 970 | O13: 1222 | P13: 1167 | Q13: 1107 | R13: 948 | S13: 1094 | T13: 984 | U13: 798 | V13: 1352 | W13: 1309 | X13: 1278 | Y13: 1161 | Z13: 847 | AA13: 228 | AB13: 874 | AC13: 2099 | AD13: 2148 | AE13: 2190 | AF13: 2383 | AG13: 2093 | AH13: 543 | AI13: 726 | AJ13: 1016 | AK13: 1032 | AL13: 49 | AM13: 560 | AN13: 555 | AO13: 504 | AP13: 579 | AQ13: 109 | AR13: 416 | AS13: 518 | AT13: 300 | AU13: 595 | AV13: 519 | AW13: 518 | AX13: 640 | AY13: 335 | AZ13: 0 | BA13: 0 | BB13: 0 | BC13: 1009 | BD13: 1321 | BE13: 1485 | BF13: 1414 | BG13: 1445 | BH13: 1500 | BI13: 1327 | BJ13: 1488 | BK13: 1392 | BL13: 1493 | BM13: 1397 | BN13: 1137 | BO13: 1335 | BP13: =IFERROR(SUM(I13:BO13)/SUM(I14:BO14),0) -> 0.99822895
H14: ='PANEL DE CONTROL DISTRITAL'!H13 -> Número de trámites aplicados | I14: 0 | J14: 1116 | K14: 1093 | L14: 725 | M14: 1057 | N14: 972 | O14: 1223 | P14: 1168 | Q14: 1108 | R14: 952 | S14: 1094 | T14: 984 | U14: 798 | V14: 1352 | W14: 1310 | X14: 1280 | Y14: 1163 | Z14: 852 | AA14: 229 | AB14: 874 | AC14: 2103 | AD14: 2154 | AE14: 2192 | AF14: 2387 | AG14: 2098 | AH14: 546 | AI14: 726 | AJ14: 1020 | AK14: 1032 | AL14: 49 | AM14: 560 | AN14: 556 | AO14: 504 | AP14: 579 | AQ14: 109 | AR14: 416 | AS14: 520 | AT14: 300 | AU14: 597 | AV14: 519 | AW14: 518 | AX14: 641 | AY14: 335 | AZ14: 0 | BA14: 0 | BB14: 0 | BC14: 1010 | BD14: 1322 | BE14: 1486 | BF14: 1416 | BG14: 1448 | BH14: 1502 | BI14: 1328 | BJ14: 1492 | BK14: 1396 | BL14: 1498 | BM14: 1402 | BN14: 1144 | BO14: 1338
A16: ='PANEL DE CONTROL DISTRITAL'!A15 -> 3 | B16: ='PANEL DE CONTROL DISTRITAL'!B15 -> TRANSFERENCIA DE LA INFORMACIÓN | C16: ='PANEL DE CONTROL DISTRITAL'!C15 -> Responsable de Módulo | D16: ='PANEL DE CONTROL DISTRITAL'!D15 -> Reenvíos exitosos = | E16: ='PANEL DE CONTROL DISTRITAL'!E15 -> (Ejecución de los scripts de reenvío de notificaciones/Solicitud de reenvíos de scripts requeridos) x100 | F16: ='PANEL DE CONTROL DISTRITAL'!F15 -> Semanal (remesa) | G16: ='PANEL DE CONTROL DISTRITAL'!G15 -> 1 | H16: ='PANEL DE CONTROL DISTRITAL'!H15 -> Ejecución de los scripts de reenvío de notificaciones | I16: 0 | J16: 0 | K16: 0 | L16: 0 | M16: 0 | N16: 0 | O16: 0 | P16: 0 | Q16: 0 | R16: 0 | S16: 0 | T16: 0 | U16: 0 | V16: 0 | W16: 0 | X16: 0 | Y16: 0 | Z16: 0 | AA16: 0 | AB16: 0 | AC16: 0 | AD16: 0 | AE16: 0 | AF16: 0 | AG16: 0 | AH16: 0 | AI16: 0 | AJ16: 0 | AK16: 0 | AL16: 0 | AM16: 1 | AN16: 0 | AO16: 0 | AP16: 0 | AQ16: 0 | AR16: 0 | AS16: 0 | AT16: 0 | AU16: 0 | AV16: 0 | AW16: 0 | AX16: 0 | AY16: 0 | AZ16: 0 | BA16: 0 | BB16: 0 | BC16: 0 | BD16: 0 | BE16: 0 | BF16: 0 | BG16: 0 | BH16: 0 | BI16: 0 | BJ16: 0 | BK16: 0 | BL16: 0 | BM16: 0 | BN16: 0 | BO16: 0 | BP16: =IFERROR(SUM(I16:BO16)/SUM(I17:BO17),1) -> 1
H17: ='PANEL DE CONTROL DISTRITAL'!H16 -> Solicitud de reevíos de scripts requeridos | I17: 0 | J17: 0 | K17: 0 | L17: 0 | M17: 0 | N17: 0 | O17: 0 | P17: 0 | Q17: 0 | R17: 0 | S17: 0 | T17: 0 | U17: 0 | V17: 0 | W17: 0 | X17: 0 | Y17: 0 | Z17: 0 | AA17: 0 | AB17: 0 | AC17: 0 | AD17: 0 | AE17: 0 | AF17: 0 | AG17: 0 | AH17: 0 | AI17: 0 | AJ17: 0 | AK17: 0 | AL17: 0 | AM17: 1 | AN17: 0 | AO17: 0 | AP17: 0 | AQ17: 0 | AR17: 0 | AS17: 0 | AT17: 0 | AU17: 0 | AV17: 0 | AW17: 0 | AX17: 0 | AY17: 0 | AZ17: 0 | BA17: 0 | BB17: 0 | BC17: 0 | BD17: 0 | BE17: 0 | BF17: 0 | BG17: 0 | BH17: 0 | BI17: 0 | BJ17: 0 | BK17: 0 | BL17: 0 | BM17: 0 | BN17: 0 | BO17: 0
A19: ='PANEL DE CONTROL DISTRITAL'!A18 -> 4 | B19: ='PANEL DE CONTROL DISTRITAL'!B18 -> CONCILIACIÓN DE CREDENCIALES PARA VOTAR | C19: ='PANEL DE CONTROL DISTRITAL'!C18 -> Responsable de Módulo | D19: ='PANEL DE CONTROL DISTRITAL'!D18 -> Credenciales disponibles para entrega = | E19: ='PANEL DE CONTROL DISTRITAL'!E18 -> [(Credenciales recibidas - credenciales inconsistentes) / Credenciales recibidas] x 100 | F19: ='PANEL DE CONTROL DISTRITAL'!F18 -> Semanal (remesa) | G19: ='PANEL DE CONTROL DISTRITAL'!G18 -> 0.9 | H19: ='PANEL DE CONTROL DISTRITAL'!H18 -> Credenciales Recibidas - Credenciales inconsistentes | I19: 0 | J19: 1115 | K19: 1112 | L19: 592 | M19: 1213 | N19: 878 | O19: 980 | P19: 1417 | Q19: 1121 | R19: 1122 | S19: 865 | T19: 1131 | U19: 595 | V19: 1635 | W19: 1046 | X19: 1559 | Y19: 1136 | Z19: 807 | AA19: 0 | AB19: 597 | AC19: 1503 | AD19: 2447 | AE19: 1726 | AF19: 1965 | AG19: 2211 | AH19: 0 | AI19: 1943 | AJ19: 1881 | AK19: 1031 | AL19: 0 | AM19: 786 | AN19: 546 | AO19: 579 | AP19: 346 | AQ19: 81 | AR19: 642 | AS19: 516 | AT19: 316 | AU19: 549 | AV19: 463 | AW19: 564 | AX19: 618 | AY19: 219 | AZ19: 413 | BA19: 0 | BB19: 0 | BC19: 552 | BD19: 1043 | BE19: 1500 | BF19: 1722 | BG19: 1153 | BH19: 853 | BI19: 2041 | BJ19: 1725 | BK19: 1143 | BL19: 1165 | BM19: 1736 | BN19: 1139 | BO19: 1330 | BP19: =IFERROR(SUM(I19:BO19)/SUM(I20:BO20),0) -> 1
H20: ='PANEL DE CONTROL DISTRITAL'!H19 -> Credenciales recibidas | I20: 0 | J20: 1115 | K20: 1112 | L20: 592 | M20: 1213 | N20: 878 | O20: 980 | P20: 1417 | Q20: 1121 | R20: 1122 | S20: 865 | T20: 1131 | U20: 595 | V20: 1635 | W20: 1046 | X20: 1559 | Y20: 1136 | Z20: 807 | AA20: 0 | AB20: 597 | AC20: 1503 | AD20: 2447 | AE20: 1726 | AF20: 1965 | AG20: 2211 | AH20: 0 | AI20: 1943 | AJ20: 1881 | AK20: 1031 | AL20: 0 | AM20: 786 | AN20: 546 | AO20: 579 | AP20: 346 | AQ20: 81 | AR20: 642 | AS20: 516 | AT20: 316 | AU20: 549 | AV20: 463 | AW20: 564 | AX20: 618 | AY20: 219 | AZ20: 413 | BA20: 0 | BB20: 0 | BC20: 552 | BD20: 1043 | BE20: 1500 | BF20: 1722 | BG20: 1153 | BH20: 853 | BI20: 2041 | BJ20: 1725 | BK20: 1143 | BL20: 1165 | BM20: 1736 | BN20: 1139 | BO20: 1330
A22: ='PANEL DE CONTROL DISTRITAL'!A21 -> 5 | B22: ='PANEL DE CONTROL DISTRITAL'!B21 -> CONCILIACIÓN DE CREDENCIALES PARA VOTAR | C22: ='PANEL DE CONTROL DISTRITAL'!C21 -> Responsable de Módulo | D22: ='PANEL DE CONTROL DISTRITAL'!D21 -> Arqueo de Credenciales = | E22: ='PANEL DE CONTROL DISTRITAL'!E21 -> (Credenciales disponibles (físicas)/ Credenciales disponibles registradas en SIIRFE) x 100 | F22: ='PANEL DE CONTROL DISTRITAL'!F21 -> Semanal (remesa) | G22: ='PANEL DE CONTROL DISTRITAL'!G21 -> 1 | H22: ='PANEL DE CONTROL DISTRITAL'!H21 -> Credenciales disponibles (físicas) | I22: 0 | J22: 2137 | K22: 2150 | L22: 1782 | M22: 2114 | N22: 1928 | O22: 1970 | P22: 2401 | Q22: 2269 | R22: 2483 | S22: 2121 | T22: 2153 | U22: 1765 | V22: 2467 | W22: 2661 | X22: 3000 | Y22: 2686 | Z22: 2425 | AA22: 2091 | AB22: 2072 | AC22: 2454 | AD22: 3102 | AE22: 2774 | AF22: 2613 | AG22: 2615 | AH22: 2388 | AI22: 2984 | AJ22: 2513 | AK22: 2403 | AL22: 2257 | AM22: 1942 | AN22: 1576 | AO22: 1440 | AP22: 1135 | AQ22: 1049 | AR22: 923 | AS22: 862 | AT22: 840 | AU22: 828 | AV22: 854 | AW22: 927 | AX22: 970 | AY22: 1001 | AZ22: 1019 | BA22: 344 | BB22: 0 | BC22: 1220 | BD22: 1701 | BE22: 2189 | BF22: 2639 | BG22: 2463 | BH22: 1916 | BI22: 2518 | BJ22: 2922 | BK22: 2631 | BL22: 2443 | BM22: 2691 | BN22: 2481 | BO22: 2524 | BP22: =IFERROR(SUM(I22:BO22)/SUM(I23:BO23),0) -> 1
H23: ='PANEL DE CONTROL DISTRITAL'!H22 -> Credenciales disponibles registradas en SIIRFE | I23: 0 | J23: 2137 | K23: 2150 | L23: 1782 | M23: 2114 | N23: 1928 | O23: 1970 | P23: 2401 | Q23: 2269 | R23: 2483 | S23: 2121 | T23: 2153 | U23: 1765 | V23: 2467 | W23: 2661 | X23: 3000 | Y23: 2686 | Z23: 2425 | AA23: 2091 | AB23: 2072 | AC23: 2454 | AD23: 3102 | AE23: 2774 | AF23: 2613 | AG23: 2615 | AH23: 2388 | AI23: 2984 | AJ23: 2513 | AK23: 2403 | AL23: 2257 | AM23: 1942 | AN23: 1576 | AO23: 1440 | AP23: 1135 | AQ23: 1049 | AR23: 923 | AS23: 862 | AT23: 840 | AU23: 828 | AV23: 854 | AW23: 927 | AX23: 970 | AY23: 1001 | AZ23: 1019 | BA23: 344 | BB23: 0 | BC23: 1220 | BD23: 1701 | BE23: 2189 | BF23: 2639 | BG23: 2463 | BH23: 1916 | BI23: 2518 | BJ23: 2922 | BK23: 2631 | BL23: 2443 | BM23: 2691 | BN23: 2481 | BO23: 2524
A25: ='PANEL DE CONTROL DISTRITAL'!A24 -> 6 | B25: ='PANEL DE CONTROL DISTRITAL'!B24 -> ENTREGA DE LA CREDENCIAL PARA VOTAR | C25: ='PANEL DE CONTROL DISTRITAL'!C24 -> Operador de Equipo Tecnológico | D25: ='PANEL DE CONTROL DISTRITAL'!D24 -> Efectividad de entrega de CPV en MAC = | E25: ='PANEL DE CONTROL DISTRITAL'!E24 -> (Total de credenciales entregadas / Total de ciudadanas y ciudadanos que acuden al MAC a recoger su credencial) x 100 | F25: ='PANEL DE CONTROL DISTRITAL'!F24 -> Semanal (remesa) | G25: ='PANEL DE CONTROL DISTRITAL'!G24 -> 0.9 | H25: ='PANEL DE CONTROL DISTRITAL'!H24 -> Total de credenciales entregadas | I25: 0 | J25: 1124 | K25: 1084 | L25: 960 | M25: 881 | N25: 1064 | O25: 938 | P25: 981 | Q25: 1253 | R25: 908 | S25: 1227 | T25: 1099 | U25: 983 | V25: 924 | W25: 852 | X25: 1220 | Y25: 1450 | Z25: 1068 | AA25: 334 | AB25: 616 | AC25: 1121 | AD25: 1799 | AE25: 2054 | AF25: 2126 | AG25: 2189 | AH25: 227 | AI25: 1347 | AJ25: 2352 | AK25: 1079 | AL25: 146 | AM25: 1101 | AN25: 912 | AO25: 715 | AP25: 642 | AQ25: 167 | AR25: 320 | AS25: 577 | AT25: 338 | AU25: 561 | AV25: 437 | AW25: 491 | AX25: 575 | AY25: 188 | AZ25: 395 | BA25: 675 | BB25: 0 | BC25: 68 | BD25: 562 | BE25: 1012 | BF25: 1272 | BG25: 1329 | BH25: 1342 | BI25: 1439 | BJ25: 1321 | BK25: 1434 | BL25: 1353 | BM25: 1472 | BN25: 1349 | BO25: 1287 | BP25: =IFERROR(SUM(I25:BO25)/SUM(I26:BO26),0) -> 0.99985903
H26: ='PANEL DE CONTROL DISTRITAL'!H25 -> Total de ciudadanas y ciudadanos que acuden al MAC a recoger su credencial | I26: 0 | J26: 1124 | K26: 1084 | L26: 962 | M26: 881 | N26: 1064 | O26: 939 | P26: 981 | Q26: 1257 | R26: 908 | S26: 1227 | T26: 1099 | U26: 984 | V26: 924 | W26: 852 | X26: 1220 | Y26: 1450 | Z26: 1068 | AA26: 334 | AB26: 616 | AC26: 1121 | AD26: 1799 | AE26: 2054 | AF26: 2126 | AG26: 2189 | AH26: 227 | AI26: 1347 | AJ26: 2352 | AK26: 1079 | AL26: 146 | AM26: 1101 | AN26: 912 | AO26: 715 | AP26: 642 | AQ26: 167 | AR26: 320 | AS26: 577 | AT26: 338 | AU26: 561 | AV26: 437 | AW26: 491 | AX26: 575 | AY26: 188 | AZ26: 395 | BA26: 675 | BB26: 0 | BC26: 68 | BD26: 562 | BE26: 1012 | BF26: 1272 | BG26: 1329 | BH26: 1342 | BI26: 1439 | BJ26: 1321 | BK26: 1434 | BL26: 1353 | BM26: 1472 | BN26: 1349 | BO26: 1287
B27: *Registre el valor nominal solicitado en la celda, el resultado proporcional esta automatizado.
I29: Semaforización
J30: Valor que requiere atención y justificación en el apartado de observaciones
J31: Valor suficiente
J32: Valor esperado
B34: CUADRO DE OBSERVACIONES
B35: Descripción | H35: No conformidad

Sheet 090853
A1: ='PANEL DE CONTROL DISTRITAL'!A1:Q1 -> INSTITUTO NACIONAL ELECTORAL SISTEMA DE GESTIÓN DE LA CALIDAD CIUDAD DE MÉXICO
D2: Distrito | E2: 8 | F2: Módulo | H2: 90853
A4: TABLERO DE CONTROL DE PROCESOS SUSTANTIVOS DEL SISTEMA DE GESTIÓN DE LA CALIDAD
A6: ='PANEL DE CONTROL DISTRITAL'!A6 -> Número | B6: ='PANEL DE CONTROL DISTRITAL'!B6 -> PROCESOS SUSTANTIVOS E INDICADORES | I6: SEMANA OPERATIVA | BP6: % AVANCE REGISTRADO
B7: ='PANEL DE CONTROL DISTRITAL'!B7 -> DESCRIPCIÓN | E7: ='PANEL DE CONTROL DISTRITAL'!E7 -> MEDICIÓN | I7: ='PANEL DE CONTROL DISTRITAL'!A5 -> CAMPAÑA ANUAL INTENSA 2024 CAMPAÑA ESPECIAL DE ACTUALIZACIÓN PARA EL PROCESO ELECTORAL EXTRAORDINARIO (CEAPEE) 2024-2025
B9: ='PANEL DE CONTROL DISTRITAL'!B8 -> Proceso | C9: ='PANEL DE CONTROL DISTRITAL'!C8 -> Dueño de Proceso | D9: ='PANEL DE CONTROL DISTRITAL'!D8 -> Indicador | E9: ='PANEL DE CONTROL DISTRITAL'!E8 -> Cálculo | F9: ='PANEL DE CONTROL DISTRITAL'!F8 -> Periodo | G9: ='PANEL DE CONTROL DISTRITAL'!G8 -> Estimado | H9: ='PANEL DE CONTROL DISTRITAL'!H8 -> Nominativo | I9: ='090151'!I9 -> 2024-41 | J9: ='090151'!J9 -> 2024-42 | K9: ='090151'!K9 -> 2024-43 | L9: ='090151'!L9 -> 2024-44 | M9: ='090151'!M9 -> 2024-45 | N9: ='090151'!N9 -> 2024-46 | O9: ='090151'!O9 -> 2024-47 | P9: ='090151'!P9 -> 2024-48 | ... BO9: ='090151'!BO9 -> 2025-40
A10: ='PANEL DE CONTROL DISTRITAL'!A9 -> 1 | B10: ='PANEL DE CONTROL DISTRITAL'!B9 -> ENTREVISTA | C10: ='PANEL DE CONTROL DISTRITAL'!C9 -> Auxiliar de Atención Ciudadana | D10: ='PANEL DE CONTROL DISTRITAL'!D9 -> Fichas requisitadas correctamente= | E10: ='PANEL DE CONTROL DISTRITAL'!E9 -> (Fichas requisitadas correctamente / Fichas revisadas en la muestra del 10%) x 100 | F10: ='PANEL DE CONTROL DISTRITAL'!F9 -> Semanal (remesa) | G10: ='PANEL DE CONTROL DISTRITAL'!G9 -> 0.9 | H10: ='PANEL DE CONTROL DISTRITAL'!H9 -> Fichas requistadas correctamente | I10: 0 | J10: 125 | K10: 128 | L10: 84 | M10: 124 | N10: 108 | O10: 141 | P10: 137 | Q10: 128 | R10: 120 | S10: 115 | T10: 81 | U10: 121 | V10: 148 | W10: 156 | X10: 143 | Y10: 138 | Z10: 115 | AA10: 32 | AB10: 96 | AC10: 200 | AD10: 220 | AE10: 228 | AF10: 230 | AG10: 220 | AH10: 61 | AI10: 75 | AJ10: 100 | AK10: 103 | AL10: 4 | AM10: 47 | AN10: 47 | AO10: 40 | AP10: 50 | AQ10: 9 | AR10: 35 | AS10: 48 | AT10: 25 | AU10: 53 | AV10: 43 | AW10: 44 | AX10: 55 | AY10: 30 | AZ10: 0 | BA10: 0 | BB10: 0 | BC10: 107 | BD10: 140 | BE10: 163 | BF10: 105 | BG10: 158 | BH10: 158 | BI10: 153 | BJ10: 155 | BK10: 148 | BL10: 155 | BM10: 154 | BN10: 125 | BO10: 148 | BP10: =IFERROR(SUM(I10:BO10)/SUM(I11:BO11),0) -> 0.9784219
H11: ='PANEL DE CONTROL DISTRITAL'!H10 -> Fichas revisadas en la muestra del 10% | I11: 0 | J11: 127 | K11: 130 | L11: 84 | M11: 127 | N11: 110 | O11: 142 | P11: 139 | Q11: 131 | R11: 123 | S11: 119 | T11: 84 | U11: 122 | V11: 152 | W11: 157 | X11: 145 | Y11: 139 | Z11: 116 | AA11: 32 | AB11: 96 | AC11: 207 | AD11: 224 | AE11: 230 | AF11: 233 | AG11: 224 | AH11: 61 | AI11: 77 | AJ11: 103 | AK11: 103 | AL11: 4 | AM11: 48 | AN11: 50 | AO11: 43 | AP11: 53 | AQ11: 11 | AR11: 37 | AS11: 50 | AT11: 27 | AU11: 56 | AV11: 46 | AW11: 47 | AX11: 58 | AY11: 33 | AZ11: 0 | BA11: 0 | BB11: 0 | BC11: 110 | BD11: 145 | BE11: 166 | BF11: 107 | BG11: 161 | BH11: 162 | BI11: 155 | BJ11: 158 | BK11: 151 | BL11: 160 | BM11: 157 | BN11: 127 | BO11: 151
A13: ='PANEL DE CONTROL DISTRITAL'!A12 -> 2 | B13: ='PANEL DE CONTROL DISTRITAL'!B12 -> TRÁMITE | C13: ='PANEL DE CONTROL DISTRITAL'!C12 -> Operador de Equipo Tecnológico | D13: ='PANEL DE CONTROL DISTRITAL'!D12 -> Trámites exitosos efectivos= | E13: ='PANEL DE CONTROL DISTRITAL'!E12 -> (Número de trámites exitosos / Número de trámites aplicados) x 100 | F13: ='PANEL DE CONTROL DISTRITAL'!F12 -> Semanal (remesa) | G13: ='PANEL DE CONTROL DISTRITAL'!G12 -> 0.9 | H13: ='PANEL DE CONTROL DISTRITAL'!H12 -> Número de trámites exitosos | I13: 0 | J13: 1227 | K13: 1253 | L13: 788 | M13: 1233 | N13: 1053 | O13: 1371 | P13: 1325 | Q13: 1243 | R13: 1173 | S13: 1139 | T13: 990 | U13: 1179 | V13: 1473 | W13: 1513 | X13: 1404 | Y13: 1343 | Z13: 1137 | AA13: 312 | AB13: 910 | AC13: 2022 | AD13: 2184 | AE13: 2246 | AF13: 2270 | AG13: 2292 | AH13: 594 | AI13: 744 | AJ13: 1001 | AK13: 1097 | AL13: 32 | AM13: 461 | AN13: 488 | AO13: 421 | AP13: 511 | AQ13: 107 | AR13: 349 | AS13: 478 | AT13: 260 | AU13: 557 | AV13: 452 | AW13: 463 | AX13: 560 | AY13: 316 | AZ13: 0 | BA13: 0 | BB13: 0 | BC13: 1049 | BD13: 1381 | BE13: 1615 | BF13: 1035 | BG13: 1533 | BH13: 1543 | BI13: 1496 | BJ13: 1526 | BK13: 1471 | BL13: 1525 | BM13: 1497 | BN13: 1226 | BO13: 1410 | BP13: =IFERROR(SUM(I13:BO13)/SUM(I14:BO14),0) -> 0.99761676
H14: ='PANEL DE CONTROL DISTRITAL'!H13 -> Número de trámites aplicados | I14: 0 | J14: 1228 | K14: 1259 | L14: 788 | M14: 1237 | N14: 1055 | O14: 1372 | P14: 1329 | Q14: 1244 | R14: 1174 | S14: 1143 | T14: 991 | U14: 1181 | V14: 1478 | W14: 1516 | X14: 1407 | Y14: 1346 | Z14: 1138 | AA14: 313 | AB14: 911 | AC14: 2026 | AD14: 2191 | AE14: 2255 | AF14: 2274 | AG14: 2294 | AH14: 598 | AI14: 744 | AJ14: 1002 | AK14: 1100 | AL14: 32 | AM14: 461 | AN14: 488 | AO14: 421 | AP14: 511 | AQ14: 107 | AR14: 349 | AS14: 478 | AT14: 260 | AU14: 558 | AV14: 452 | AW14: 463 | AX14: 560 | AY14: 316 | AZ14: 0 | BA14: 0 | BB14: 0 | BC14: 1056 | BD14: 1386 | BE14: 1619 | BF14: 1039 | BG14: 1536 | BH14: 1548 | BI14: 1497 | BJ14: 1528 | BK14: 1475 | BL14: 1534 | BM14: 1506 | BN14: 1230 | BO14: 1418
A16: ='PANEL DE CONTROL DISTRITAL'!A15 -> 3 | B16: ='PANEL DE CONTROL DISTRITAL'!B15 -> TRANSFERENCIA DE LA INFORMACIÓN | C16: ='PANEL DE CONTROL DISTRITAL'!C15 -> Responsable de Módulo | D16: ='PANEL DE CONTROL DISTRITAL'!D15 -> Reenvíos exitosos = | E16: ='PANEL DE CONTROL DISTRITAL'!E15 -> (Ejecución de los scripts de reenvío de notificaciones/Solicitud de reenvíos de scripts requeridos) x100 | F16: ='PANEL DE CONTROL DISTRITAL'!F15 -> Semanal (remesa) | G16: ='PANEL DE CONTROL DISTRITAL'!G15 -> 1 | H16: ='PANEL DE CONTROL DISTRITAL'!H15 -> Ejecución de los scripts de reenvío de notificaciones | I16: 0 | J16: 0 | K16: 0 | L16: 0 | M16: 0 | N16: 0 | O16: 0 | P16: 1 | Q16: 1 | R16: 1 | S16: 0 | T16: 0 | U16: 0 | V16: 0 | W16: 0 | X16: 0 | Y16: 0 | Z16: 0 | AA16: 0 | AB16: 0 | AC16: 0 | AD16: 0 | AE16: 0 | AF16: 0 | AG16: 0 | AH16: 0 | AI16: 0 | AJ16: 0 | AK16: 0 | AL16: 0 | AM16: 0 | AN16: 0 | AO16: 0 | AP16: 0 | AQ16: 0 | AR16: 0 | AS16: 0 | AT16: 0 | AU16: 0 | AV16: 0 | AW16: 0 | AX16: 0 | AY16: 0 | AZ16: 0 | BA16: 0 | BB16: 0 | BC16: 0 | BD16: 0 | BE16: 0 | BF16: 0 | BG16: 0 | BH16: 0 | BI16: 0 | BJ16: 0 | BK16: 0 | BL16: 0 | BM16: 0 | BN16: 0 | BO16: 0 | BP16: =IFERROR(SUM(I16:BO16)/SUM(I17:BO17),1) -> 0.75
H17: ='PANEL DE CONTROL DISTRITAL'!H16 -> Solicitud de reevíos de scripts requeridos | I17: 0 | J17: 0 | K17: 0 | L17: 0 | M17: 0 | N17: 0 | O17: 0 | P17: 1 | Q17: 1 | R17: 1 | S17: 0 | T17: 0 | U17: 0 | V17: 0 | W17: 0 | X17: 0 | Y17: 0 | Z17: 0 | AA17: 0 | AB17: 0 | AC17: 0 | AD17: 0 | AE17: 0 | AF17: 0 | AG17: 0 | AH17: 0 | AI17: 0 | AJ17: 0 | AK17: 0 | AL17: 0 | AM17: 0 | AN17: 0 | AO17: 0 | AP17: 0 | AQ17: 0 | AR17: 0 | AS17: 0 | AT17: 0 | AU17: 0 | AV17: 0 | AW17: 0 | AX17: 0 | AY17: 0 | AZ17: 0 | BA17: 0 | BB17: 0 | BC17: 0 | BD17: 0 | BE17: 1 | BF17: 0 | BG17: 0 | BH17: 0 | BI17: 0 | BJ17: 0 | BK17: 0 | BL17: 0 | BM17: 0 | BN17: 0 | BO17: 0
A19: ='PANEL DE CONTROL DISTRITAL'!A18 -> 4 | B19: ='PANEL DE CONTROL DISTRITAL'!B18 -> CONCILIACIÓN DE CREDENCIALES PARA VOTAR | C19: ='PANEL DE CONTROL DISTRITAL'!C18 -> Responsable de Módulo | D19: ='PANEL DE CONTROL DISTRITAL'!D18 -> Credenciales disponibles para entrega = | E19: ='PANEL DE CONTROL DISTRITAL'!E18 -> [(Credenciales recibidas - credenciales inconsistentes) / Credenciales recibidas] x 100 | F19: ='PANEL DE CONTROL DISTRITAL'!F18 -> Semanal (remesa) | G19: ='PANEL DE CONTROL DISTRITAL'!G18 -> 0.9 | H19: ='PANEL DE CONTROL DISTRITAL'!H18 -> Credenciales Recibidas - Credenciales inconsistentes | I19: 0 | J19: 1272 | K19: 1291 | L19: 687 | M19: 1348 | N19: 967 | O19: 1114 | P19: 1581 | Q19: 1296 | R19: 1231 | S19: 1030 | T19: 1105 | U19: 728 | V19: 1461 | W19: 1090 | X19: 2151 | Y19: 1304 | Z19: 1256 | AA19: 0 | AB19: 817 | AC19: 1608 | AD19: 2341 | AE19: 1806 | AF19: 1936 | AG19: 1616 | AH19: 505 | AI19: 2131 | AJ19: 1718 | AK19: 1286 | AL19: 0 | AM19: 752 | AN19: 487 | AO19: 393 | AP19: 391 | AQ19: 81 | AR19: 533 | AS19: 471 | AT19: 274 | AU19: 522 | AV19: 411 | AW19: 499 | AX19: 552 | AY19: 190 | AZ19: 368 | BA19: 0 | BB19: 0 | BC19: 596 | BD19: 1067 | BE19: 1620 | BF19: 1316 | BG19: 1258 | BH19: 1584 | BI19: 1499 | BJ19: 1510 | BK19: 1512 | BL19: 1186 | BM19: 1857 | BN19: 1460 | BO19: 1200 | BP19: =IFERROR(SUM(I19:BO19)/SUM(I20:BO20),0) -> 1
H20: ='PANEL DE CONTROL DISTRITAL'!H19 -> Credenciales recibidas | I20: 0 | J20: 1272 | K20: 1291 | L20: 687 | M20: 1348 | N20: 967 | O20: 1114 | P20: 1581 | Q20: 1296 | R20: 1231 | S20: 1030 | T20: 1105 | U20: 728 | V20: 1461 | W20: 1090 | X20: 2151 | Y20: 1304 | Z20: 1256 | AA20: 0 | AB20: 817 | AC20: 1608 | AD20: 2341 | AE20: 1806 | AF20: 1936 | AG20: 1616 | AH20: 505 | AI20: 2131 | AJ20: 1718 | AK20: 1286 | AL20: 0 | AM20: 752 | AN20: 487 | AO20: 393 | AP20: 391 | AQ20: 81 | AR20: 533 | AS20: 471 | AT20: 274 | AU20: 522 | AV20: 411 | AW20: 499 | AX20: 552 | AY20: 190 | AZ20: 368 | BA20: 0 | BB20: 0 | BC20: 596 | BD20: 1067 | BE20: 1620 | BF20: 1316 | BG20: 1258 | BH20: 1584 | BI20: 1499 | BJ20: 1510 | BK20: 1512 | BL20: 1186 | BM20: 1857 | BN20: 1460 | BO20: 1200
A22: ='PANEL DE CONTROL DISTRITAL'!A21 -> 5 | B22: ='PANEL DE CONTROL DISTRITAL'!B21 -> CONCILIACIÓN DE CREDENCIALES PARA VOTAR | C22: ='PANEL DE CONTROL DISTRITAL'!C21 -> Responsable de Módulo | D22: ='PANEL DE CONTROL DISTRITAL'!D21 -> Arqueo de Credenciales = | E22: ='PANEL DE CONTROL DISTRITAL'!E21 -> (Credenciales disponibles (físicas)/ Credenciales disponibles registradas en SIIRFE) x 100 | F22: ='PANEL DE CONTROL DISTRITAL'!F21 -> Semanal (remesa) | G22: ='PANEL DE CONTROL DISTRITAL'!G21 -> 1 | H22: ='PANEL DE CONTROL DISTRITAL'!H21 -> Credenciales disponibles (físicas) | I22: 2664 | J22: 2558 | K22: 2563 | L22: 2109 | M22: 2488 | N22: 2277 | O22: 2271 | P22: 2612 | Q22: 2646 | R22: 2837 | S22: 2481 | T22: 2345 | U22: 2080 | V22: 2445 | W22: 2210 | X22: 2930 | Y22: 2851 | Z22: 2955 | AA22: 2569 | AB22: 2679 | AC22: 2835 | AD22: 3289 | AE22: 3039 | AF22: 2739 | AG22: 2206 | AH22: 2457 | AI22: 3047 | AJ22: 2629 | AK22: 2640 | AL22: 2497 | AM22: 2079 | AN22: 1701 | AO22: 1541 | AP22: 1387 | AQ22: 1348 | AR22: 848 | AS22: 861 | AT22: 858 | AU22: 909 | AV22: 906 | AW22: 943 | AX22: 999 | AY22: 1002 | AZ22: 974 | BA22: 390 | BB22: 0 | BC22: 1551 | BD22: 1977 | BE22: 2567 | BF22: 2517 | BG22: 2529 | BH22: 2831 | BI22: 2930 | BJ22: 3044 | BK22: 3058 | BL22: 2792 | BM22: 3167 | BN22: 3239 | BO22: 2992 | BP22: =IFERROR(SUM(I22:BO22)/SUM(I23:BO23),0) -> 1
H23: ='PANEL DE CONTROL DISTRITAL'!H22 -> Credenciales disponibles registradas en SIIRFE | I23: 2664 | J23: 2558 | K23: 2563 | L23: 2109 | M23: 2488 | N23: 2277 | O23: 2271 | P23: 2612 | Q23: 2646 | R23: 2837 | S23: 2481 | T23: 2345 | U23: 2080 | V23: 2445 | W23: 2210 | X23: 2930 | Y23: 2851 | Z23: 2955 | AA23: 2569 | AB23: 2679 | AC23: 2835 | AD23: 3289 | AE23: 3039 | AF23: 2739 | AG23: 2206 | AH23: 2457 | AI23: 3047 | AJ23: 2629 | AK23: 2640 | AL23: 2497 | AM23: 2079 | AN23: 1701 | AO23: 1541 | AP23: 1387 | AQ23: 1348 | AR23: 848 | AS23: 861 | AT23: 858 | AU23: 909 | AV23: 906 | AW23: 943 | AX23: 999 | AY23: 1002 | AZ23: 974 | BA23: 390 | BB23: 0 | BC23: 1551 | BD23: 1977 | BE23: 2567 | BF23: 2517 | BG23: 2529 | BH23: 2831 | BI23: 2930 | BJ23: 3044 | BK23: 3058 | BL23: 2792 | BM23: 3167 | BN23: 3239 | BO23: 2992
A25: ='PANEL DE CONTROL DISTRITAL'!A24 -> 6 | B25: ='PANEL DE CONTROL DISTRITAL'!B24 -> ENTREGA DE LA CREDENCIAL PARA VOTAR | C25: ='PANEL DE CONTROL DISTRITAL'!C24 -> Operador de Equipo Tecnológico | D25: ='PANEL DE CONTROL DISTRITAL'!D24 -> Efectividad de entrega de CPV en MAC = | E25: ='PANEL DE CONTROL DISTRITAL'!E24 -> (Total de credenciales entregadas / Total de ciudadanas y ciudadanos que acuden al MAC a recoger su credencial) x 100 | F25: ='PANEL DE CONTROL DISTRITAL'!F24 -> Semanal (remesa) | G25: ='PANEL DE CONTROL DISTRITAL'!G24 -> 0.9 | H25: ='PANEL DE CONTROL DISTRITAL'!H24 -> Total de credenciales entregadas | I25: 0 | J25: 1378 | K25: 1270 | L25: 1141 | M25: 969 | N25: 1178 | O25: 1120 | P25: 1226 | Q25: 1262 | R25: 1040 | S25: 1386 | T25: 1241 | U25: 993 | V25: 1085 | W25: 1325 | X25: 1431 | Y25: 1383 | Z25: 1142 | AA25: 386 | AB25: 707 | AC25: 1452 | AD25: 1887 | AE25: 2056 | AF25: 2236 | AG25: 1226 | AH25: 254 | AI25: 1541 | AJ25: 2136 | AK25: 1185 | AL25: 143 | AM25: 1170 | AN25: 865 | AO25: 553 | AP25: 538 | AQ25: 120 | AR25: 328 | AS25: 458 | AT25: 277 | AU25: 471 | AV25: 414 | AW25: 462 | AX25: 496 | AY25: 187 | AZ25: 396 | BA25: 584 | BB25: 0 | BC25: 91 | BD25: 641 | BE25: 1030 | BF25: 1366 | BG25: 1246 | BH25: 1202 | BI25: 1400 | BJ25: 1396 | BK25: 1498 | BL25: 1452 | BM25: 1466 | BN25: 1388 | BO25: 1447 | BP25: =IFERROR(SUM(I25:BO25)/SUM(I26:BO26),0) -> 0.99750289
H26: ='PANEL DE CONTROL DISTRITAL'!H25 -> Total de ciudadanas y ciudadanos que acuden al MAC a recoger su credencial | I26: 0 | J26: 1382 | K26: 1277 | L26: 1142 | M26: 972 | N26: 1185 | O26: 1122 | P26: 1233 | Q26: 1269 | R26: 1044 | S26: 1401 | T26: 1246 | U26: 997 | V26: 1087 | W26: 1328 | X26: 1434 | Y26: 1388 | Z26: 1148 | AA26: 387 | AB26: 708 | AC26: 1458 | AD26: 1894 | AE26: 2056 | AF26: 2241 | AG26: 1234 | AH26: 254 | AI26: 1546 | AJ26: 2139 | AK26: 1186 | AL26: 143 | AM26: 1172 | AN26: 865 | AO26: 553 | AP26: 538 | AQ26: 120 | AR26: 328 | AS26: 458 | AT26: 277 | AU26: 471 | AV26: 414 | AW26: 462 | AX26: 496 | AY26: 187 | AZ26: 396 | BA26: 584 | BB26: 0 | BC26: 91 | BD26: 641 | BE26: 1033 | BF26: 1366 | BG26: 1246 | BH26: 1205 | BI26: 1403 | BJ26: 1396 | BK26: 1498 | BL26: 1452 | BM26: 1470 | BN26: 1392 | BO26: 1453
B27: *Registre el valor nominal solicitado en la celda, el resultado proporcional esta automatizado.
I29: Semaforización
J30: Valor que requiere atención y justificación en el apartado de observaciones
J31: Valor suficiente
J32: Valor esperado
B34: CUADRO DE OBSERVACIONES
B35: Descripción | H35: No conformidad
B36: Semana_30_2025, se levanto caso CAU REQ000001906867, por que no fue digitalizado el Folio 2509085323577, motivo por el cual no viajo a CECyRD, en seguimiento el caso fue resuelto la misma semana operativa folio con estatus CANCELADO.

Sheet 090951
A1: ='PANEL DE CONTROL DISTRITAL'!A1:Q1 -> INSTITUTO NACIONAL ELECTORAL SISTEMA DE GESTIÓN DE LA CALIDAD CIUDAD DE MÉXICO
D2: Distrito | E2: 9 | F2: Módulo | H2: 90951
A4: TABLERO DE CONTROL DE PROCESOS SUSTANTIVOS DEL SISTEMA DE GESTIÓN DE LA CALIDAD
A6: ='PANEL DE CONTROL DISTRITAL'!A6 -> Número | B6: ='PANEL DE CONTROL DISTRITAL'!B6 -> PROCESOS SUSTANTIVOS E INDICADORES | I6: SEMANA OPERATIVA | BP6: % AVANCE REGISTRADO
B7: ='PANEL DE CONTROL DISTRITAL'!B7 -> DESCRIPCIÓN | E7: ='PANEL DE CONTROL DISTRITAL'!E7 -> MEDICIÓN | I7: ='PANEL DE CONTROL DISTRITAL'!A5 -> CAMPAÑA ANUAL INTENSA 2024 CAMPAÑA ESPECIAL DE ACTUALIZACIÓN PARA EL PROCESO ELECTORAL EXTRAORDINARIO (CEAPEE) 2024-2025
B9: ='PANEL DE CONTROL DISTRITAL'!B8 -> Proceso | C9: ='PANEL DE CONTROL DISTRITAL'!C8 -> Dueño de Proceso | D9: ='PANEL DE CONTROL DISTRITAL'!D8 -> Indicador | E9: ='PANEL DE CONTROL DISTRITAL'!E8 -> Cálculo | F9: ='PANEL DE CONTROL DISTRITAL'!F8 -> Periodo | G9: ='PANEL DE CONTROL DISTRITAL'!G8 -> Estimado | H9: ='PANEL DE CONTROL DISTRITAL'!H8 -> Nominativo | I9: ='090151'!I9 -> 2024-41 | J9: ='090151'!J9 -> 2024-42 | K9: ='090151'!K9 -> 2024-43 | L9: ='090151'!L9 -> 2024-44 | M9: ='090151'!M9 -> 2024-45 | N9: ='090151'!N9 -> 2024-46 | O9: ='090151'!O9 -> 2024-47 | P9: ='090151'!P9 -> 2024-48 | ... BO9: ='090151'!BO9 -> 2025-40
A10: ='PANEL DE CONTROL DISTRITAL'!A9 -> 1 | B10: ='PANEL DE CONTROL DISTRITAL'!B9 -> ENTREVISTA | C10: ='PANEL DE CONTROL DISTRITAL'!C9 -> Auxiliar de Atención Ciudadana | D10: ='PANEL DE CONTROL DISTRITAL'!D9 -> Fichas requisitadas correctamente= | E10: ='PANEL DE CONTROL DISTRITAL'!E9 -> (Fichas requisitadas correctamente / Fichas revisadas en la muestra del 10%) x 100 | F10: ='PANEL DE CONTROL DISTRITAL'!F9 -> Semanal (remesa) | G10: ='PANEL DE CONTROL DISTRITAL'!G9 -> 0.9 | H10: ='PANEL DE CONTROL DISTRITAL'!H9 -> Fichas requistadas correctamente | I10: 0 | J10: 98 | K10: 95 | L10: 67 | M10: 97 | N10: 86 | O10: 104 | P10: 97 | Q10: 92 | R10: 78 | S10: 104 | T10: 106 | U10: 91 | V10: 114 | W10: 118 | X10: 107 | Y10: 103 | Z10: 71 | AA10: 24 | AB10: 75 | AC10: 188 | AD10: 176 | AE10: 192 | AF10: 208 | AG10: 196 | AH10: 56 | AI10: 65 | AJ10: 83 | AK10: 82 | AL10: 3 | AM10: 36 | AN10: 43 | AO10: 36 | AP10: 43 | AQ10: 7 | AR10: 30 | AS10: 43 | AT10: 24 | AU10: 50 | AV10: 36 | AW10: 39 | AX10: 50 | AY10: 25 | AZ10: 0 | BA10: 0 | BB10: 0 | BC10: 79 | BD10: 105 | BE10: 125 | BF10: 125 | BG10: 117 | BH10: 121 | BI10: 125 | BJ10: 127 | BK10: 133 | BL10: 138 | BM10: 131 | BN10: 130 | BO10: 131 | BP10: =IFERROR(SUM(I10:BO10)/SUM(I11:BO11),0) -> 0.99406528
H11: ='PANEL DE CONTROL DISTRITAL'!H10 -> Fichas revisadas en la muestra del 10% | I11: 0 | J11: 98 | K11: 95 | L11: 67 | M11: 97 | N11: 86 | O11: 105 | P11: 97 | Q11: 93 | R11: 78 | S11: 104 | T11: 106 | U11: 91 | V11: 114 | W11: 118 | X11: 107 | Y11: 103 | Z11: 71 | AA11: 24 | AB11: 75 | AC11: 188 | AD11: 176 | AE11: 192 | AF11: 208 | AG11: 196 | AH11: 56 | AI11: 65 | AJ11: 83 | AK11: 82 | AL11: 3 | AM11: 36 | AN11: 43 | AO11: 36 | AP11: 43 | AQ11: 7 | AR11: 30 | AS11: 43 | AT11: 24 | AU11: 50 | AV11: 36 | AW11: 39 | AX11: 50 | AY11: 25 | AZ11: 0 | BA11: 0 | BB11: 0 | BC11: 79 | BD11: 111 | BE11: 132 | BF11: 128 | BG11: 121 | BH11: 123 | BI11: 128 | BJ11: 127 | BK11: 133 | BL11: 138 | BM11: 132 | BN11: 132 | BO11: 131
A13: ='PANEL DE CONTROL DISTRITAL'!A12 -> 2 | B13: ='PANEL DE CONTROL DISTRITAL'!B12 -> TRÁMITE | C13: ='PANEL DE CONTROL DISTRITAL'!C12 -> Operador de Equipo Tecnológico | D13: ='PANEL DE CONTROL DISTRITAL'!D12 -> Trámites exitosos efectivos= | E13: ='PANEL DE CONTROL DISTRITAL'!E12 -> (Número de trámites exitosos / Número de trámites aplicados) x 100 | F13: ='PANEL DE CONTROL DISTRITAL'!F12 -> Semanal (remesa) | G13: ='PANEL DE CONTROL DISTRITAL'!G12 -> 0.9 | H13: ='PANEL DE CONTROL DISTRITAL'!H12 -> Número de trámites exitosos | I13: 0 | J13: 976 | K13: 941 | L13: 660 | M13: 969 | N13: 856 | O13: 1044 | P13: 968 | Q13: 961 | R13: 779 | S13: 1031 | T13: 1049 | U13: 904 | V13: 1109 | W13: 1172 | X13: 1068 | Y13: 1017 | Z13: 695 | AA13: 236 | AB13: 738 | AC13: 1836 | AD13: 1753 | AE13: 1914 | AF13: 2074 | AG13: 1950 | AH13: 554 | AI13: 664 | AJ13: 827 | AK13: 818 | AL13: 24 | AM13: 348 | AN13: 429 | AO13: 346 | AP13: 427 | AQ13: 72 | AR13: 300 | AS13: 427 | AT13: 228 | AU13: 491 | AV13: 362 | AW13: 385 | AX13: 431 | AY13: 240 | AZ13: 0 | BA13: 0 | BB13: 0 | BC13: 775 | BD13: 1070 | BE13: 1307 | BF13: 1250 | BG13: 1208 | BH13: 1209 | BI13: 1269 | BJ13: 1263 | BK13: 1306 | BL13: 1324 | BM13: 1310 | BN13: 1321 | BO13: 1295 | BP13: =IFERROR(SUM(I13:BO13)/SUM(I14:BO14),0) -> 0.9959945
H14: ='PANEL DE CONTROL DISTRITAL'!H13 -> Número de trámites aplicados | I14: 0 | J14: 978 | K14: 945 | L14: 662 | M14: 970 | N14: 857 | O14: 1047 | P14: 968 | Q14: 962 | R14: 780 | S14: 1031 | T14: 1054 | U14: 907 | V14: 1110 | W14: 1179 | X14: 1072 | Y14: 1025 | Z14: 702 | AA14: 239 | AB14: 744 | AC14: 1837 | AD14: 1758 | AE14: 1921 | AF14: 2079 | AG14: 1958 | AH14: 556 | AI14: 664 | AJ14: 827 | AK14: 818 | AL14: 25 | AM14: 348 | AN14: 429 | AO14: 346 | AP14: 427 | AQ14: 72 | AR14: 300 | AS14: 428 | AT14: 228 | AU14: 492 | AV14: 362 | AW14: 385 | AX14: 485 | AY14: 240 | AZ14: 0 | BA14: 0 | BB14: 0 | BC14: 781 | BD14: 1071 | BE14: 1311 | BF14: 1252 | BG14: 1210 | BH14: 1211 | BI14: 1272 | BJ14: 1267 | BK14: 1312 | BL14: 1331 | BM14: 1318 | BN14: 1322 | BO14: 1306
A16: ='PANEL DE CONTROL DISTRITAL'!A15 -> 3 | B16: ='PANEL DE CONTROL DISTRITAL'!B15 -> TRANSFERENCIA DE LA INFORMACIÓN | C16: ='PANEL DE CONTROL DISTRITAL'!C15 -> Responsable de Módulo | D16: ='PANEL DE CONTROL DISTRITAL'!D15 -> Reenvíos exitosos = | E16: ='PANEL DE CONTROL DISTRITAL'!E15 -> (Ejecución de los scripts de reenvío de notificaciones/Solicitud de reenvíos de scripts requeridos) x100 | F16: ='PANEL DE CONTROL DISTRITAL'!F15 -> Semanal (remesa) | G16: ='PANEL DE CONTROL DISTRITAL'!G15 -> 1 | H16: ='PANEL DE CONTROL DISTRITAL'!H15 -> Ejecución de los scripts de reenvío de notificaciones | I16: 0 | J16: 0 | K16: 0 | L16: 0 | M16: 0 | N16: 0 | O16: 0 | P16: 0 | Q16: 0 | R16: 0 | S16: 0 | T16: 0 | U16: 0 | V16: 0 | W16: 0 | X16: 0 | Y16: 0 | Z16: 0 | AA16: 0 | AB16: 0 | AC16: 0 | AD16: 0 | AE16: 0 | AF16: 0 | AG16: 0 | AH16: 0 | AI16: 0 | AJ16: 0 | AK16: 0 | AL16: 0 | AM16: 0 | AN16: 0 | AO16: 0 | AP16: 0 | AQ16: 0 | AR16: 0 | AS16: 0 | AT16: 0 | AU16: 0 | AV16: 0 | AW16: 0 | AX16: 0 | AY16: 0 | AZ16: 0 | BA16: 0 | BB16: 0 | BC16: 0 | BD16: 0 | BE16: 0 | BF16: 0 | BG16: 0 | BH16: 0 | BI16: 0 | BJ16: 0 | BK16: 0 | BL16: 0 | BM16: 0 | BN16: 0 | BO16: 0 | BP16: =IFERROR(SUM(I16:BO16)/SUM(I17:BO17),1) -> 1
H17: ='PANEL DE CONTROL DISTRITAL'!H16 -> Solicitud de reevíos de scripts requeridos | I17: 0 | J17: 0 | K17: 0 | L17: 0 | M17: 0 | N17: 0 | O17: 0 | P17: 0 | Q17: 0 | R17: 0 | S17: 0 | T17: 0 | U17: 0 | V17: 0 | W17: 0 | X17: 0 | Y17: 0 | Z17: 0 | AA17: 0 | AB17: 0 | AC17: 0 | AD17: 0 | AE17: 0 | AF17: 0 | AG17: 0 | AH17: 0 | AI17: 0 | AJ17: 0 | AK17: 0 | AL17: 0 | AM17: 0 | AN17: 0 | AO17: 0 | AP17: 0 | AQ17: 0 | AR17: 0 | AS17: 0 | AT17: 0 | AU17: 0 | AV17: 0 | AW17: 0 | AX17: 0 | AY17: 0 | AZ17: 0 | BA17: 0 | BB17: 0 | BC17: 0 | BD17: 0 | BE17: 0 | BF17: 0 | BG17: 0 | BH17: 0 | BI17: 0 | BJ17: 0 | BK17: 0 | BL17: 0 | BM17: 0 | BN17: 0 | BO17: 0
A19: ='PANEL DE CONTROL DISTRITAL'!A18 -> 4 | B19: ='PANEL DE CONTROL DISTRITAL'!B18 -> CONCILIACIÓN DE CREDENCIALES PARA VOTAR | C19: ='PANEL DE CONTROL DISTRITAL'!C18 -> Responsable de Módulo | D19: ='PANEL DE CONTROL DISTRITAL'!D18 -> Credenciales disponibles para entrega = | E19: ='PANEL DE CONTROL DISTRITAL'!E18 -> [(Credenciales recibidas - credenciales inconsistentes) / Credenciales recibidas] x 100 | F19: ='PANEL DE CONTROL DISTRITAL'!F18 -> Semanal (remesa) | G19: ='PANEL DE CONTROL DISTRITAL'!G18 -> 0.9 | H19: ='PANEL DE CONTROL DISTRITAL'!H18 -> Credenciales Recibidas - Credenciales inconsistentes | I19: 0 | J19: 1017 | K19: 967 | L19: 526 | M19: 1112 | N19: 757 | O19: 857 | P19: 1205 | Q19: 961 | R19: 939 | S19: 686 | T19: 1185 | U19: 1097 | V19: 1105 | W19: 948 | X19: 1309 | Y19: 780 | Z19: 698 | AA19: 195 | AB19: 546 | AC19: 1234 | AD19: 2162 | AE19: 1456 | AF19: 1695 | AG19: 1458 | AH19: 466 | AI19: 1821 | AJ19: 1676 | AK19: 851 | AL19: 0 | AM19: 577 | AN19: 392 | AO19: 345 | AP19: 308 | AQ19: 53 | AR19: 456 | AS19: 396 | AT19: 280 | AU19: 447 | AV19: 339 | AW19: 225 | AX19: 648 | AY19: 166 | AZ19: 0 | BA19: 0 | BB19: 0 | BC19: 299 | BD19: 962 | BE19: 1300 | BF19: 1269 | BG19: 1181 | BH19: 1252 | BI19: 1250 | BJ19: 1276 | BK19: 1264 | BL19: 1078 | BM19: 1579 | BN19: 1311 | BO19: 1075 | BP19: =IFERROR(SUM(I19:BO19)/SUM(I20:BO20),0) -> 1
H20: ='PANEL DE CONTROL DISTRITAL'!H19 -> Credenciales recibidas | I20: 0 | J20: 1017 | K20: 967 | L20: 526 | M20: 1112 | N20: 757 | O20: 857 | P20: 1205 | Q20: 961 | R20: 939 | S20: 686 | T20: 1185 | U20: 1097 | V20: 1105 | W20: 948 | X20: 1309 | Y20: 780 | Z20: 698 | AA20: 195 | AB20: 546 | AC20: 1234 | AD20: 2162 | AE20: 1456 | AF20: 1695 | AG20: 1458 | AH20: 466 | AI20: 1821 | AJ20: 1676 | AK20: 851 | AL20: 0 | AM20: 577 | AN20: 392 | AO20: 345 | AP20: 308 | AQ20: 53 | AR20: 456 | AS20: 396 | AT20: 280 | AU20: 447 | AV20: 339 | AW20: 225 | AX20: 648 | AY20: 166 | AZ20: 0 | BA20: 0 | BB20: 0 | BC20: 299 | BD20: 962 | BE20: 1300 | BF20: 1269 | BG20: 1181 | BH20: 1252 | BI20: 1250 | BJ20: 1276 | BK20: 1264 | BL20: 1078 | BM20: 1579 | BN20: 1311 | BO20: 1075
A22: ='PANEL DE CONTROL DISTRITAL'!A21 -> 5 | B22: ='PANEL DE CONTROL DISTRITAL'!B21 -> CONCILIACIÓN DE CREDENCIALES PARA VOTAR | C22: ='PANEL DE CONTROL DISTRITAL'!C21 -> Responsable de Módulo | D22: ='PANEL DE CONTROL DISTRITAL'!D21 -> Arqueo de Credenciales = | E22: ='PANEL DE CONTROL DISTRITAL'!E21 -> (Credenciales disponibles (físicas)/ Credenciales disponibles registradas en SIIRFE) x 100 | F22: ='PANEL DE CONTROL DISTRITAL'!F21 -> Semanal (remesa) | G22: ='PANEL DE CONTROL DISTRITAL'!G21 -> 1 | H22: ='PANEL DE CONTROL DISTRITAL'!H21 -> Credenciales disponibles (físicas) | I22: 0 | J22: 1297 | K22: 1294 | L22: 1164 | M22: 1312 | N22: 1238 | O22: 1153 | P22: 1342 | Q22: 1487 | R22: 1536 | S22: 1299 | T22: 1446 | U22: 1773 | V22: 2010 | W22: 1895 | X22: 2127 | Y22: 1782 | Z22: 1544 | AA22: 1504 | AB22: 1477 | AC22: 1458 | AD22: 2000 | AE22: 1712 | AF22: 1477 | AG22: 1334 | AH22: 1797 | AI22: 2126 | AJ22: 1924 | AK22: 1880 | AL22: 1734 | AM22: 1438 | AN22: 982 | AO22: 808 | AP22: 594 | AQ22: 575 | AR22: 753 | AS22: 762 | AT22: 736 | AU22: 707 | AV22: 710 | AW22: 613 | AX22: 747 | AY22: 698 | AZ22: 647 | BA22: 405 | BB22: 0 | BC22: 660 | BD22: 1134 | BE22: 1644 | BF22: 1825 | BG22: 1777 | BH22: 1813 | BI22: 1829 | BJ22: 1953 | BK22: 2020 | BL22: 1785 | BM22: 2030 | BN22: 2072 | BO22: 1840 | BP22: =IFERROR(SUM(I22:BO22)/SUM(I23:BO23),0) -> 1
H23: ='PANEL DE CONTROL DISTRITAL'!H22 -> Credenciales disponibles registradas en SIIRFE | I23: 0 | J23: 1297 | K23: 1294 | L23: 1164 | M23: 1312 | N23: 1238 | O23: 1153 | P23: 1342 | Q23: 1487 | R23: 1536 | S23: 1299 | T23: 1446 | U23: 1773 | V23: 2010 | W23: 1895 | X23: 2127 | Y23: 1782 | Z23: 1544 | AA23: 1504 | AB23: 1477 | AC23: 1458 | AD23: 2000 | AE23: 1712 | AF23: 1477 | AG23: 1334 | AH23: 1797 | AI23: 2126 | AJ23: 1924 | AK23: 1880 | AL23: 1734 | AM23: 1438 | AN23: 982 | AO23: 808 | AP23: 594 | AQ23: 575 | AR23: 753 | AS23: 762 | AT23: 736 | AU23: 707 | AV23: 710 | AW23: 613 | AX23: 747 | AY23: 698 | AZ23: 647 | BA23: 405 | BB23: 0 | BC23: 660 | BD23: 1134 | BE23: 1644 | BF23: 1825 | BG23: 1777 | BH23: 1813 | BI23: 1829 | BJ23: 1953 | BK23: 2020 | BL23: 1785 | BM23: 2030 | BN23: 2072 | BO23: 1840
A25: ='PANEL DE CONTROL DISTRITAL'!A24 -> 6 | B25: ='PANEL DE CONTROL DISTRITAL'!B24 -> ENTREGA DE LA CREDENCIAL PARA VOTAR | C25: ='PANEL DE CONTROL DISTRITAL'!C24 -> Operador de Equipo Tecnológico | D25: ='PANEL DE CONTROL DISTRITAL'!D24 -> Efectividad de entrega de CPV en MAC = | E25: ='PANEL DE CONTROL DISTRITAL'!E24 -> (Total de credenciales entregadas / Total de ciudadanas y ciudadanos que acuden al MAC a recoger su credencial) x 100 | F25: ='PANEL DE CONTROL DISTRITAL'!F24 -> Semanal (remesa) | G25: ='PANEL DE CONTROL DISTRITAL'!G24 -> 0.9 | H25: ='PANEL DE CONTROL DISTRITAL'!H24 -> Total de credenciales entregadas | I25: 0 | J25: 1028 | K25: 967 | L25: 656 | M25: 964 | N25: 831 | O25: 942 | P25: 1009 | Q25: 816 | R25: 890 | S25: 923 | T25: 1037 | U25: 769 | V25: 862 | W25: 1063 | X25: 1077 | Y25: 1125 | Z25: 927 | AA25: 235 | AB25: 573 | AC25: 1253 | AD25: 1620 | AE25: 1744 | AF25: 1930 | AG25: 1589 | AH25: 3 | AI25: 1492 | AJ25: 1878 | AK25: 1880 | AL25: 146 | AM25: 873 | AN25: 848 | AO25: 519 | AP25: 519 | AQ25: 72 | AR25: 278 | AS25: 387 | AT25: 306 | AU25: 476 | AV25: 336 | AW25: 322 | AX25: 514 | AY25: 215 | AZ25: 345 | BA25: 242 | BB25: 0 | BC25: 22 | BD25: 488 | BE25: 790 | BF25: 1088 | BG25: 1229 | BH25: 1183 | BI25: 1234 | BJ25: 1276 | BK25: 1197 | BL25: 1313 | BM25: 1325 | BN25: 1269 | BO25: 1307 | BP25: =IFERROR(SUM(I25:BO25)/SUM(I26:BO26),0) -> 0.9993033
H26: ='PANEL DE CONTROL DISTRITAL'!H25 -> Total de ciudadanas y ciudadanos que acuden al MAC a recoger su credencial | I26: 0 | J26: 1032 | K26: 967 | L26: 657 | M26: 968 | N26: 833 | O26: 944 | P26: 1009 | Q26: 818 | R26: 892 | S26: 925 | T26: 1039 | U26: 770 | V26: 863 | W26: 1064 | X26: 1077 | Y26: 1127 | Z26: 927 | AA26: 236 | AB26: 575 | AC26: 1253 | AD26: 1620 | AE26: 1744 | AF26: 1930 | AG26: 1589 | AH26: 3 | AI26: 1495 | AJ26: 1878 | AK26: 1880 | AL26: 146 | AM26: 873 | AN26: 848 | AO26: 519 | AP26: 519 | AQ26: 72 | AR26: 278 | AS26: 387 | AT26: 306 | AU26: 476 | AV26: 336 | AW26: 322 | AX26: 514 | AY26: 215 | AZ26: 345 | BA26: 242 | BB26: 0 | BC26: 22 | BD26: 488 | BE26: 792 | BF26: 1088 | BG26: 1230 | BH26: 1183 | BI26: 1234 | BJ26: 1276 | BK26: 1197 | BL26: 1313 | BM26: 1325 | BN26: 1269 | BO26: 1307
B27: *Registre el valor nominal solicitado en la celda, el resultado proporcional esta automatizado.
I29: Semaforización
J30: Valor que requiere atención y justificación en el apartado de observaciones
J31: Valor suficiente
J32: Valor esperado
B34: CUADRO DE OBSERVACIONES
B35: Descripción | H35: No conformidad

Sheet 091051
A1: ='PANEL DE CONTROL DISTRITAL'!A1:Q1 -> INSTITUTO NACIONAL ELECTORAL SISTEMA DE GESTIÓN DE LA CALIDAD CIUDAD DE MÉXICO
D2: Distrito | E2: 10 | F2: Módulo | H2: 91051
A4: TABLERO DE CONTROL DE PROCESOS SUSTANTIVOS DEL SISTEMA DE GESTIÓN DE LA CALIDAD
A6: ='PANEL DE CONTROL DISTRITAL'!A6 -> Número | B6: ='PANEL DE CONTROL DISTRITAL'!B6 -> PROCESOS SUSTANTIVOS E INDICADORES | I6: SEMANA OPERATIVA | BP6: % AVANCE REGISTRADO
B7: ='PANEL DE CONTROL DISTRITAL'!B7 -> DESCRIPCIÓN | E7: ='PANEL DE CONTROL DISTRITAL'!E7 -> MEDICIÓN | I7: ='PANEL DE CONTROL DISTRITAL'!A5 -> CAMPAÑA ANUAL INTENSA 2024 CAMPAÑA ESPECIAL DE ACTUALIZACIÓN PARA EL PROCESO ELECTORAL EXTRAORDINARIO (CEAPEE) 2024-2025
B9: ='PANEL DE CONTROL DISTRITAL'!B8 -> Proceso | C9: ='PANEL DE CONTROL DISTRITAL'!C8 -> Dueño de Proceso | D9: ='PANEL DE CONTROL DISTRITAL'!D8 -> Indicador | E9: ='PANEL DE CONTROL DISTRITAL'!E8 -> Cálculo | F9: ='PANEL DE CONTROL DISTRITAL'!F8 -> Periodo | G9: ='PANEL DE CONTROL DISTRITAL'!G8 -> Estimado | H9: ='PANEL DE CONTROL DISTRITAL'!H8 -> Nominativo | I9: ='090151'!I9 -> 2024-41 | J9: ='090151'!J9 -> 2024-42 | K9: ='090151'!K9 -> 2024-43 | L9: ='090151'!L9 -> 2024-44 | M9: ='090151'!M9 -> 2024-45 | N9: ='090151'!N9 -> 2024-46 | O9: ='090151'!O9 -> 2024-47 | P9: ='090151'!P9 -> 2024-48 | ... BO9: ='090151'!BO9 -> 2025-40
A10: ='PANEL DE CONTROL DISTRITAL'!A9 -> 1 | B10: ='PANEL DE CONTROL DISTRITAL'!B9 -> ENTREVISTA | C10: ='PANEL DE CONTROL DISTRITAL'!C9 -> Auxiliar de Atención Ciudadana | D10: ='PANEL DE CONTROL DISTRITAL'!D9 -> Fichas requisitadas correctamente= | E10: ='PANEL DE CONTROL DISTRITAL'!E9 -> (Fichas requisitadas correctamente / Fichas revisadas en la muestra del 10%) x 100 | F10: ='PANEL DE CONTROL DISTRITAL'!F9 -> Semanal (remesa) | G10: ='PANEL DE CONTROL DISTRITAL'!G9 -> 0.9 | H10: ='PANEL DE CONTROL DISTRITAL'!H9 -> Fichas requistadas correctamente | I10: 0 | J10: 87 | K10: 81 | L10: 58 | M10: 85 | N10: 70 | O10: 96 | P10: 89 | Q10: 91 | R10: 78 | S10: 88 | T10: 92 | U10: 80 | V10: 107 | W10: 104 | X10: 100 | Y10: 77 | Z10: 75 | AA10: 23 | AB10: 73 | AC10: 185 | AD10: 174 | AE10: 184 | AF10: 189 | AG10: 190 | AH10: 49 | AI10: 65 | AJ10: 75 | AK10: 78 | AL10: 5 | AM10: 46 | AN10: 40 | AO10: 41 | AP10: 46 | AQ10: 9 | AR10: 33 | AS10: 44 | AT10: 8 | AU10: 48 | AV10: 37 | AW10: 40 | AX10: 53 | AY10: 28 | AZ10: 0 | BA10: 0 | BB10: 0 | BC10: 72 | BD10: 119 | BE10: 138 | BF10: 128 | BG10: 130 | BH10: 132 | BI10: 115 | BJ10: 111 | BK10: 120 | BL10: 125 | BM10: 112 | BN10: 118 | BO10: 114 | BP10: =IFERROR(SUM(I10:BO10)/SUM(I11:BO11),0) -> 0.97960445
H11: ='PANEL DE CONTROL DISTRITAL'!H10 -> Fichas revisadas en la muestra del 10% | I11: 0 | J11: 87 | K11: 81 | L11: 58 | M11: 85 | N11: 70 | O11: 96 | P11: 89 | Q11: 91 | R11: 78 | S11: 88 | T11: 92 | U11: 80 | V11: 107 | W11: 104 | X11: 100 | Y11: 77 | Z11: 75 | AA11: 23 | AB11: 73 | AC11: 185 | AD11: 174 | AE11: 184 | AF11: 189 | AG11: 190 | AH11: 49 | AI11: 65 | AJ11: 75 | AK11: 78 | AL11: 5 | AM11: 46 | AN11: 46 | AO11: 43 | AP11: 46 | AQ11: 9 | AR11: 33 | AS11: 44 | AT11: 8 | AU11: 48 | AV11: 38 | AW11: 40 | AX11: 53 | AY11: 28 | AZ11: 0 | BA11: 0 | BB11: 0 | BC11: 72 | BD11: 122 | BE11: 139 | BF11: 130 | BG11: 139 | BH11: 139 | BI11: 123 | BJ11: 132 | BK11: 135 | BL11: 135 | BM11: 120 | BN11: 120 | BO11: 118
A13: ='PANEL DE CONTROL DISTRITAL'!A12 -> 2 | B13: ='PANEL DE CONTROL DISTRITAL'!B12 -> TRÁMITE | C13: ='PANEL DE CONTROL DISTRITAL'!C12 -> Operador de Equipo Tecnológico | D13: ='PANEL DE CONTROL DISTRITAL'!D12 -> Trámites exitosos efectivos= | E13: ='PANEL DE CONTROL DISTRITAL'!E12 -> (Número de trámites exitosos / Número de trámites aplicados) x 100 | F13: ='PANEL DE CONTROL DISTRITAL'!F12 -> Semanal (remesa) | G13: ='PANEL DE CONTROL DISTRITAL'!G12 -> 0.9 | H13: ='PANEL DE CONTROL DISTRITAL'!H12 -> Número de trámites exitosos | I13: 0 | J13: 864 | K13: 799 | L13: 568 | M13: 842 | N13: 692 | O13: 953 | P13: 877 | Q13: 903 | R13: 774 | S13: 870 | T13: 913 | U13: 789 | V13: 1065 | W13: 1027 | X13: 990 | Y13: 765 | Z13: 743 | AA13: 221 | AB13: 722 | AC13: 1836 | AD13: 1724 | AE13: 1828 | AF13: 1880 | AG13: 1890 | AH13: 490 | AI13: 645 | AJ13: 744 | AK13: 767 | AL13: 41 | AM13: 453 | AN13: 457 | AO13: 428 | AP13: 453 | AQ13: 83 | AR13: 322 | AS13: 430 | AT13: 73 | AU13: 474 | AV13: 371 | AW13: 396 | AX13: 524 | AY13: 278 | AZ13: 0 | BA13: 0 | BB13: 0 | BC13: 708 | BD13: 1208 | BE13: 1375 | BF13: 1291 | BG13: 1380 | BH13: 1381 | BI13: 1225 | BJ13: 1311 | BK13: 1310 | BL13: 1309 | BM13: 1174 | BN13: 1161 | BO13: 1128 | BP13: =IFERROR(SUM(I13:BO13)/SUM(I14:BO14),0) -> 0.99768923
H14: ='PANEL DE CONTROL DISTRITAL'!H13 -> Número de trámites aplicados | I14: 0 | J14: 864 | K14: 800 | L14: 569 | M14: 844 | N14: 695 | O14: 954 | P14: 879 | Q14: 905 | R14: 775 | S14: 870 | T14: 915 | U14: 791 | V14: 1065 | W14: 1030 | X14: 991 | Y14: 766 | Z14: 745 | AA14: 221 | AB14: 724 | AC14: 1839 | AD14: 1727 | AE14: 1833 | AF14: 1881 | AG14: 1894 | AH14: 490 | AI14: 645 | AJ14: 744 | AK14: 771 | AL14: 42 | AM14: 455 | AN14: 457 | AO14: 429 | AP14: 455 | AQ14: 83 | AR14: 322 | AS14: 431 | AT14: 73 | AU14: 475 | AV14: 371 | AW14: 396 | AX14: 524 | AY14: 278 | AZ14: 0 | BA14: 0 | BB14: 0 | BC14: 716 | BD14: 1214 | BE14: 1377 | BF14: 1294 | BG14: 1383 | BH14: 1384 | BI14: 1227 | BJ14: 1315 | BK14: 1316 | BL14: 1313 | BM14: 1178 | BN14: 1168 | BO14: 1133
A16: ='PANEL DE CONTROL DISTRITAL'!A15 -> 3 | B16: ='PANEL DE CONTROL DISTRITAL'!B15 -> TRANSFERENCIA DE LA INFORMACIÓN | C16: ='PANEL DE CONTROL DISTRITAL'!C15 -> Responsable de Módulo | D16: ='PANEL DE CONTROL DISTRITAL'!D15 -> Reenvíos exitosos = | E16: ='PANEL DE CONTROL DISTRITAL'!E15 -> (Ejecución de los scripts de reenvío de notificaciones/Solicitud de reenvíos de scripts requeridos) x100 | F16: ='PANEL DE CONTROL DISTRITAL'!F15 -> Semanal (remesa) | G16: ='PANEL DE CONTROL DISTRITAL'!G15 -> 1 | H16: ='PANEL DE CONTROL DISTRITAL'!H15 -> Ejecución de los scripts de reenvío de notificaciones | I16: 0 | J16: 0 | K16: 0 | L16: 0 | M16: 0 | N16: 0 | O16: 0 | P16: 0 | Q16: 0 | R16: 0 | S16: 0 | T16: 0 | U16: 0 | V16: 0 | W16: 0 | X16: 0 | Y16: 0 | Z16: 0 | AA16: 0 | AB16: 0 | AC16: 0 | AD16: 0 | AE16: 0 | AF16: 0 | AG16: 0 | AH16: 0 | AI16: 0 | AJ16: 0 | AK16: 0 | AL16: 0 | AM16: 0 | AN16: 0 | AO16: 0 | AP16: 0 | AQ16: 0 | AR16: 0 | AS16: 0 | AT16: 0 | AU16: 0 | AV16: 0 | AW16: 0 | AX16: 0 | AY16: 0 | AZ16: 0 | BA16: 0 | BB16: 0 | BC16: 0 | BD16: 0 | BE16: 0 | BF16: 0 | BG16: 0 | BH16: 0 | BI16: 0 | BJ16: 0 | BK16: 0 | BL16: 0 | BM16: 0 | BN16: 0 | BO16: 0 | BP16: =IFERROR(SUM(I16:BO16)/SUM(I17:BO17),1) -> 1
H17: ='PANEL DE CONTROL DISTRITAL'!H16 -> Solicitud de reevíos de scripts requeridos | I17: 0 | J17: 0 | K17: 0 | L17: 0 | M17: 0 | N17: 0 | O17: 0 | P17: 0 | Q17: 0 | R17: 0 | S17: 0 | T17: 0 | U17: 0 | V17: 0 | W17: 0 | X17: 0 | Y17: 0 | Z17: 0 | AA17: 0 | AB17: 0 | AC17: 0 | AD17: 0 | AE17: 0 | AF17: 0 | AG17: 0 | AH17: 0 | AI17: 0 | AJ17: 0 | AK17: 0 | AL17: 0 | AM17: 0 | AN17: 0 | AO17: 0 | AP17: 0 | AQ17: 0 | AR17: 0 | AS17: 0 | AT17: 0 | AU17: 0 | AV17: 0 | AW17: 0 | AX17: 0 | AY17: 0 | AZ17: 0 | BA17: 0 | BB17: 0 | BC17: 0 | BD17: 0 | BE17: 0 | BF17: 0 | BG17: 0 | BH17: 0 | BI17: 0 | BJ17: 0 | BK17: 0 | BL17: 0 | BM17: 0 | BN17: 0 | BO17: 0
A19: ='PANEL DE CONTROL DISTRITAL'!A18 -> 4 | B19: ='PANEL DE CONTROL DISTRITAL'!B18 -> CONCILIACIÓN DE CREDENCIALES PARA VOTAR | C19: ='PANEL DE CONTROL DISTRITAL'!C18 -> Responsable de Módulo | D19: ='PANEL DE CONTROL DISTRITAL'!D18 -> Credenciales disponibles para entrega = | E19: ='PANEL DE CONTROL DISTRITAL'!E18 -> [(Credenciales recibidas - credenciales inconsistentes) / Credenciales recibidas] x 100 | F19: ='PANEL DE CONTROL DISTRITAL'!F18 -> Semanal (remesa) | G19: ='PANEL DE CONTROL DISTRITAL'!G18 -> 0.9 | H19: ='PANEL DE CONTROL DISTRITAL'!H18 -> Credenciales Recibidas - Credenciales inconsistentes | I19: 0 | J19: 883 | K19: 851 | L19: 473 | M19: 929 | N19: 654 | O19: 725 | P19: 1095 | Q19: 887 | R19: 894 | S19: 699 | T19: 963 | U19: 604 | V19: 1174 | W19: 867 | X19: 1220 | Y19: 974 | Z19: 608 | AA19: 0 | AB19: 560 | AC19: 1956 | AD19: 1399 | AE19: 1434 | AF19: 1605 | AG19: 1287 | AH19: 425 | AI19: 1761 | AJ19: 1566 | AK19: 806 | AL19: 0 | AM19: 582 | AN19: 486 | AO19: 367 | AP19: 387 | AQ19: 57 | AR19: 490 | AS19: 403 | AT19: 292 | AU19: 413 | AV19: 388 | AW19: 404 | AX19: 507 | AY19: 161 | AZ19: 341 | BA19: 0 | BB19: 0 | BC19: 492 | BD19: 753 | BE19: 1650 | BF19: 1343 | BG19: 1092 | BH19: 1373 | BI19: 1254 | BJ19: 1543 | BK19: 1101 | BL19: 1037 | BM19: 1494 | BN19: 1166 | BO19: 1130 | BP19: =IFERROR(SUM(I19:BO19)/SUM(I20:BO20),0) -> 1
H20: ='PANEL DE CONTROL DISTRITAL'!H19 -> Credenciales recibidas | I20: 0 | J20: 883 | K20: 851 | L20: 473 | M20: 929 | N20: 654 | O20: 725 | P20: 1095 | Q20: 887 | R20: 894 | S20: 699 | T20: 963 | U20: 604 | V20: 1174 | W20: 867 | X20: 1220 | Y20: 974 | Z20: 608 | AA20: 0 | AB20: 560 | AC20: 1956 | AD20: 1399 | AE20: 1434 | AF20: 1605 | AG20: 1287 | AH20: 425 | AI20: 1761 | AJ20: 1566 | AK20: 806 | AL20: 0 | AM20: 582 | AN20: 486 | AO20: 367 | AP20: 387 | AQ20: 57 | AR20: 490 | AS20: 403 | AT20: 292 | AU20: 413 | AV20: 388 | AW20: 404 | AX20: 507 | AY20: 161 | AZ20: 341 | BA20: 0 | BB20: 0 | BC20: 492 | BD20: 753 | BE20: 1650 | BF20: 1343 | BG20: 1092 | BH20: 1373 | BI20: 1254 | BJ20: 1543 | BK20: 1101 | BL20: 1037 | BM20: 1494 | BN20: 1166 | BO20: 1130
A22: ='PANEL DE CONTROL DISTRITAL'!A21 -> 5 | B22: ='PANEL DE CONTROL DISTRITAL'!B21 -> CONCILIACIÓN DE CREDENCIALES PARA VOTAR | C22: ='PANEL DE CONTROL DISTRITAL'!C21 -> Responsable de Módulo | D22: ='PANEL DE CONTROL DISTRITAL'!D21 -> Arqueo de Credenciales = | E22: ='PANEL DE CONTROL DISTRITAL'!E21 -> (Credenciales disponibles (físicas)/ Credenciales disponibles registradas en SIIRFE) x 100 | F22: ='PANEL DE CONTROL DISTRITAL'!F21 -> Semanal (remesa) | G22: ='PANEL DE CONTROL DISTRITAL'!G21 -> 1 | H22: ='PANEL DE CONTROL DISTRITAL'!H21 -> Credenciales disponibles (físicas) | I22: 1802 | J22: 1845 | K22: 1768 | L22: 1558 | M22: 1789 | N22: 1707 | O22: 1685 | P22: 1913 | Q22: 1927 | R22: 2076 | S22: 1873 | T22: 1972 | U22: 1774 | V22: 2100 | W22: 2035 | X22: 2222 | Y22: 2172 | Z22: 2086 | AA22: 1855 | AB22: 1957 | AC22: 2889 | AD22: 2784 | AE22: 2468 | AF22: 2384 | AG22: 1797 | AH22: 1967 | AI22: 2421 | AJ22: 2150 | AK22: 2041 | AL22: 1902 | AM22: 1606 | AN22: 1336 | AO22: 1107 | AP22: 898 | AQ22: 383 | AR22: 559 | AS22: 552 | AT22: 607 | AU22: 652 | AV22: 656 | AW22: 691 | AX22: 751 | AY22: 678 | AZ22: 689 | BA22: 319 | BB22: 0 | BC22: 1136 | BD22: 1479 | BE22: 2289 | BF22: 2447 | BG22: 2334 | BH22: 2372 | BI22: 2351 | BJ22: 2681 | BK22: 2616 | BL22: 2248 | BM22: 2539 | BN22: 2428 | BO22: 2348 | BP22: =IFERROR(SUM(I22:BO22)/SUM(I23:BO23),0) -> 1
H23: ='PANEL DE CONTROL DISTRITAL'!H22 -> Credenciales disponibles registradas en SIIRFE | I23: 1802 | J23: 1845 | K23: 1768 | L23: 1558 | M23: 1789 | N23: 1707 | O23: 1685 | P23: 1913 | Q23: 1927 | R23: 2076 | S23: 1873 | T23: 1972 | U23: 1774 | V23: 2100 | W23: 2035 | X23: 2222 | Y23: 2172 | Z23: 2086 | AA23: 1855 | AB23: 1957 | AC23: 2889 | AD23: 2784 | AE23: 2468 | AF23: 2384 | AG23: 1797 | AH23: 1967 | AI23: 2421 | AJ23: 2150 | AK23: 2041 | AL23: 1902 | AM23: 1606 | AN23: 1336 | AO23: 1107 | AP23: 898 | AQ23: 383 | AR23: 559 | AS23: 552 | AT23: 607 | AU23: 652 | AV23: 656 | AW23: 691 | AX23: 751 | AY23: 678 | AZ23: 689 | BA23: 319 | BB23: 0 | BC23: 1136 | BD23: 1479 | BE23: 2289 | BF23: 2447 | BG23: 2334 | BH23: 2372 | BI23: 2351 | BJ23: 2681 | BK23: 2616 | BL23: 2248 | BM23: 2539 | BN23: 2428 | BO23: 2348
A25: ='PANEL DE CONTROL DISTRITAL'!A24 -> 6 | B25: ='PANEL DE CONTROL DISTRITAL'!B24 -> ENTREGA DE LA CREDENCIAL PARA VOTAR | C25: ='PANEL DE CONTROL DISTRITAL'!C24 -> Operador de Equipo Tecnológico | D25: ='PANEL DE CONTROL DISTRITAL'!D24 -> Efectividad de entrega de CPV en MAC = | E25: ='PANEL DE CONTROL DISTRITAL'!E24 -> (Total de credenciales entregadas / Total de ciudadanas y ciudadanos que acuden al MAC a recoger su credencial) x 100 | F25: ='PANEL DE CONTROL DISTRITAL'!F24 -> Semanal (remesa) | G25: ='PANEL DE CONTROL DISTRITAL'!G24 -> 0.9 | H25: ='PANEL DE CONTROL DISTRITAL'!H24 -> Total de credenciales entregadas | I25: 0 | J25: 840 | K25: 920 | L25: 683 | M25: 698 | N25: 736 | O25: 747 | P25: 856 | Q25: 873 | R25: 745 | S25: 902 | T25: 864 | U25: 802 | V25: 836 | W25: 931 | X25: 1033 | Y25: 1024 | Z25: 690 | AA25: 231 | AB25: 458 | AC25: 1024 | AD25: 1504 | AE25: 1750 | AF25: 1689 | AG25: 1864 | AH25: 255 | AI25: 1307 | AJ25: 1837 | AK25: 859 | AL25: 139 | AM25: 878 | AN25: 756 | AO25: 596 | AP25: 588 | AQ25: 138 | AR25: 314 | AS25: 410 | AT25: 99 | AU25: 368 | AV25: 384 | AW25: 369 | AX25: 447 | AY25: 234 | AZ25: 330 | BA25: 370 | BB25: 0 | BC25: 67 | BD25: 410 | BE25: 840 | BF25: 1185 | BG25: 1205 | BH25: 1273 | BI25: 1275 | BJ25: 1213 | BK25: 1166 | BL25: 1405 | BM25: 1188 | BN25: 1277 | BO25: 1210 | BP25: =IFERROR(SUM(I25:BO25)/SUM(I26:BO26),0) -> 0.99887581
H26: ='PANEL DE CONTROL DISTRITAL'!H25 -> Total de ciudadanas y ciudadanos que acuden al MAC a recoger su credencial | I26: 0 | J26: 840 | K26: 921 | L26: 685 | M26: 698 | N26: 737 | O26: 748 | P26: 856 | Q26: 876 | R26: 747 | S26: 902 | T26: 864 | U26: 803 | V26: 836 | W26: 932 | X26: 1035 | Y26: 1024 | Z26: 691 | AA26: 232 | AB26: 458 | AC26: 1024 | AD26: 1504 | AE26: 1751 | AF26: 1692 | AG26: 1864 | AH26: 255 | AI26: 1309 | AJ26: 1842 | AK26: 860 | AL26: 139 | AM26: 880 | AN26: 756 | AO26: 596 | AP26: 589 | AQ26: 139 | AR26: 314 | AS26: 411 | AT26: 99 | AU26: 368 | AV26: 384 | AW26: 369 | AX26: 447 | AY26: 234 | AZ26: 330 | BA26: 370 | BB26: 0 | BC26: 67 | BD26: 411 | BE26: 841 | BF26: 1186 | BG26: 1206 | BH26: 1274 | BI26: 1278 | BJ26: 1217 | BK26: 1170 | BL26: 1406 | BM26: 1188 | BN26: 1277 | BO26: 1213
B27: *Registre el valor nominal solicitado en la celda, el resultado proporcional esta automatizado.
I29: Semaforización
J30: Valor que requiere atención y justificación en el apartado de observaciones
J31: Valor suficiente
J32: Valor esperado
B34: CUADRO DE OBSERVACIONES
B35: Descripción | H35: No conformidad

Sheet 091151
A1: ='PANEL DE CONTROL DISTRITAL'!A1:Q1 -> INSTITUTO NACIONAL ELECTORAL SISTEMA DE GESTIÓN DE LA CALIDAD CIUDAD DE MÉXICO
D2: Distrito | E2: 11 | F2: Módulo | H2: 91151
A4: TABLERO DE CONTROL DE PROCESOS SUSTANTIVOS DEL SISTEMA DE GESTIÓN DE LA CALIDAD
A6: ='PANEL DE CONTROL DISTRITAL'!A6 -> Número | B6: ='PANEL DE CONTROL DISTRITAL'!B6 -> PROCESOS SUSTANTIVOS E INDICADORES | I6: SEMANA OPERATIVA | BP6: % AVANCE REGISTRADO
B7: ='PANEL DE CONTROL DISTRITAL'!B7 -> DESCRIPCIÓN | E7: ='PANEL DE CONTROL DISTRITAL'!E7 -> MEDICIÓN | I7: ='PANEL DE CONTROL DISTRITAL'!A5 -> CAMPAÑA ANUAL INTENSA 2024 CAMPAÑA ESPECIAL DE ACTUALIZACIÓN PARA EL PROCESO ELECTORAL EXTRAORDINARIO (CEAPEE) 2024-2025
B9: ='PANEL DE CONTROL DISTRITAL'!B8 -> Proceso | C9: ='PANEL DE CONTROL DISTRITAL'!C8 -> Dueño de Proceso | D9: ='PANEL DE CONTROL DISTRITAL'!D8 -> Indicador | E9: ='PANEL DE CONTROL DISTRITAL'!E8 -> Cálculo | F9: ='PANEL DE CONTROL DISTRITAL'!F8 -> Periodo | G9: ='PANEL DE CONTROL DISTRITAL'!G8 -> Estimado | H9: ='PANEL DE CONTROL DISTRITAL'!H8 -> Nominativo | I9: ='090151'!I9 -> 2024-41 | J9: ='090151'!J9 -> 2024-42 | K9: ='090151'!K9 -> 2024-43 | L9: ='090151'!L9 -> 2024-44 | M9: ='090151'!M9 -> 2024-45 | N9: ='090151'!N9 -> 2024-46 | O9: ='090151'!O9 -> 2024-47 | P9: ='090151'!P9 -> 2024-48 | ... BO9: ='090151'!BO9 -> 2025-40
A10: ='PANEL DE CONTROL DISTRITAL'!A9 -> 1 | B10: ='PANEL DE CONTROL DISTRITAL'!B9 -> ENTREVISTA | C10: ='PANEL DE CONTROL DISTRITAL'!C9 -> Auxiliar de Atención Ciudadana | D10: ='PANEL DE CONTROL DISTRITAL'!D9 -> Fichas requisitadas correctamente= | E10: ='PANEL DE CONTROL DISTRITAL'!E9 -> (Fichas requisitadas correctamente / Fichas revisadas en la muestra del 10%) x 100 | F10: ='PANEL DE CONTROL DISTRITAL'!F9 -> Semanal (remesa) | G10: ='PANEL DE CONTROL DISTRITAL'!G9 -> 0.9 | H10: ='PANEL DE CONTROL DISTRITAL'!H9 -> Fichas requistadas correctamente | I10: 0 | J10: 130 | K10: 129 | L10: 84 | M10: 126 | N10: 115 | O10: 145 | P10: 139 | Q10: 128 | R10: 116 | S10: 118 | T10: 135 | U10: 123 | V10: 133 | W10: 100 | X10: 153 | Y10: 114 | Z10: 93 | AA10: 26 | AB10: 84 | AC10: 200 | AD10: 247 | AE10: 255 | AF10: 270 | AG10: 265 | AH10: 86 | AI10: 67 | AJ10: 106 | AK10: 110 | AL10: 4 | AM10: 47 | AN10: 19 | AO10: 45 | AP10: 59 | AQ10: 12 | AR10: 42 | AS10: 49 | AT10: 30 | AU10: 53 | AV10: 45 | AW10: 48 | AX10: 57 | AY10: 32 | AZ10: 0 | BA10: 0 | BB10: 0 | BC10: 74 | BD10: 109 | BE10: 151 | BF10: 118 | BG10: 165 | BH10: 165 | BI10: 169 | BJ10: 169 | BK10: 168 | BL10: 164 | BM10: 141 | BN10: 164 | BO10: 159 | BP10: =IFERROR(SUM(I10:BO10)/SUM(I11:BO11),0) -> 0.97597129
H11: ='PANEL DE CONTROL DISTRITAL'!H10 -> Fichas revisadas en la muestra del 10% | I11: 0 | J11: 130 | K11: 129 | L11: 86 | M11: 126 | N11: 115 | O11: 145 | P11: 140 | Q11: 130 | R11: 120 | S11: 120 | T11: 135 | U11: 123 | V11: 133 | W11: 100 | X11: 153 | Y11: 114 | Z11: 93 | AA11: 26 | AB11: 84 | AC11: 223 | AD11: 250 | AE11: 247 | AF11: 270 | AG11: 270 | AH11: 86 | AI11: 68 | AJ11: 104 | AK11: 107 | AL11: 4 | AM11: 48 | AN11: 49 | AO11: 48 | AP11: 61 | AQ11: 12 | AR11: 42 | AS11: 49 | AT11: 30 | AU11: 54 | AV11: 45 | AW11: 48 | AX11: 62 | AY11: 33 | AZ11: 0 | BA11: 0 | BB11: 0 | BC11: 75 | BD11: 145 | BE11: 183 | BF11: 120 | BG11: 169 | BH11: 165 | BI11: 169 | BJ11: 169 | BK11: 168 | BL11: 164 | BM11: 144 | BN11: 166 | BO11: 160
A13: ='PANEL DE CONTROL DISTRITAL'!A12 -> 2 | B13: ='PANEL DE CONTROL DISTRITAL'!B12 -> TRÁMITE | C13: ='PANEL DE CONTROL DISTRITAL'!C12 -> Operador de Equipo Tecnológico | D13: ='PANEL DE CONTROL DISTRITAL'!D12 -> Trámites exitosos efectivos= | E13: ='PANEL DE CONTROL DISTRITAL'!E12 -> (Número de trámites exitosos / Número de trámites aplicados) x 100 | F13: ='PANEL DE CONTROL DISTRITAL'!F12 -> Semanal (remesa) | G13: ='PANEL DE CONTROL DISTRITAL'!G12 -> 0.9 | H13: ='PANEL DE CONTROL DISTRITAL'!H12 -> Número de trámites exitosos | I13: 0 | J13: 1263 | K13: 1287 | L13: 852 | M13: 1247 | N13: 1117 | O13: 1401 | P13: 1340 | Q13: 1212 | R13: 1122 | S13: 1199 | T13: 1345 | U13: 1220 | V13: 1318 | W13: 949 | X13: 1523 | Y13: 1134 | Z13: 922 | AA13: 260 | AB13: 837 | AC13: 2227 | AD13: 2489 | AE13: 2535 | AF13: 2747 | AG13: 2620 | AH13: 870 | AI13: 674 | AJ13: 1045 | AK13: 1074 | AL13: 40 | AM13: 469 | AN13: 486 | AO13: 470 | AP13: 604 | AQ13: 125 | AR13: 411 | AS13: 492 | AT13: 300 | AU13: 531 | AV13: 446 | AW13: 480 | AX13: 616 | AY13: 327 | AZ13: 0 | BA13: 0 | BB13: 0 | BC13: 746 | BD13: 1425 | BE13: 1805 | BF13: 1155 | BG13: 1614 | BH13: 1615 | BI13: 1638 | BJ13: 1633 | BK13: 1619 | BL13: 1674 | BM13: 1401 | BN13: 1586 | BO13: 1535 | BP13: =IFERROR(SUM(I13:BO13)/SUM(I14:BO14),0) -> 0.99770631
H14: ='PANEL DE CONTROL DISTRITAL'!H13 -> Número de trámites aplicados | I14: 0 | J14: 1266 | K14: 1289 | L14: 854 | M14: 1252 | N14: 1121 | O14: 1403 | P14: 1340 | Q14: 1214 | R14: 1123 | S14: 1203 | T14: 1348 | U14: 1224 | V14: 1322 | W14: 950 | X14: 1527 | Y14: 1135 | Z14: 924 | AA14: 260 | AB14: 838 | AC14: 2228 | AD14: 2492 | AE14: 2540 | AF14: 2750 | AG14: 2627 | AH14: 871 | AI14: 677 | AJ14: 1048 | AK14: 1076 | AL14: 40 | AM14: 471 | AN14: 487 | AO14: 471 | AP14: 604 | AQ14: 126 | AR14: 411 | AS14: 492 | AT14: 300 | AU14: 531 | AV14: 446 | AW14: 480 | AX14: 618 | AY14: 329 | AZ14: 0 | BA14: 0 | BB14: 0 | BC14: 747 | BD14: 1430 | BE14: 1810 | BF14: 1161 | BG14: 1617 | BH14: 1619 | BI14: 1641 | BJ14: 1636 | BK14: 1623 | BL14: 1679 | BM14: 1405 | BN14: 1596 | BO14: 1545
A16: ='PANEL DE CONTROL DISTRITAL'!A15 -> 3 | B16: ='PANEL DE CONTROL DISTRITAL'!B15 -> TRANSFERENCIA DE LA INFORMACIÓN | C16: ='PANEL DE CONTROL DISTRITAL'!C15 -> Responsable de Módulo | D16: ='PANEL DE CONTROL DISTRITAL'!D15 -> Reenvíos exitosos = | E16: ='PANEL DE CONTROL DISTRITAL'!E15 -> (Ejecución de los scripts de reenvío de notificaciones/Solicitud de reenvíos de scripts requeridos) x100 | F16: ='PANEL DE CONTROL DISTRITAL'!F15 -> Semanal (remesa) | G16: ='PANEL DE CONTROL DISTRITAL'!G15 -> 1 | H16: ='PANEL DE CONTROL DISTRITAL'!H15 -> Ejecución de los scripts de reenvío de notificaciones | I16: 0 | J16: 0 | K16: 0 | L16: 0 | M16: 0 | N16: 0 | O16: 0 | P16: 0 | Q16: 0 | R16: 0 | S16: 0 | T16: 0 | U16: 0 | V16: 0 | W16: 0 | X16: 0 | Y16: 0 | Z16: 0 | AA16: 0 | AB16: 0 | AC16: 0 | AD16: 0 | AE16: 0 | AF16: 0 | AG16: 0 | AH16: 0 | AI16: 0 | AJ16: 0 | AK16: 0 | AL16: 0 | AM16: 0 | AN16: 0 | AO16: 0 | AP16: 0 | AQ16: 0 | AR16: 0 | AS16: 0 | AT16: 0 | AU16: 0 | AV16: 0 | AW16: 0 | AX16: 0 | AY16: 0 | AZ16: 0 | BA16: 0 | BB16: 0 | BC16: 0 | BD16: 0 | BE16: 0 | BF16: 0 | BG16: 0 | BH16: 0 | BI16: 0 | BJ16: 0 | BK16: 0 | BL16: 0 | BM16: 0 | BN16: 0 | BO16: 0 | BP16: =IFERROR(SUM(I16:BO16)/SUM(I17:BO17),1) -> 1
H17: ='PANEL DE CONTROL DISTRITAL'!H16 -> Solicitud de reevíos de scripts requeridos | I17: 0 | J17: 0 | K17: 0 | L17: 0 | M17: 0 | N17: 0 | O17: 0 | P17: 0 | Q17: 0 | R17: 0 | S17: 0 | T17: 0 | U17: 0 | V17: 0 | W17: 0 | X17: 0 | Y17: 0 | Z17: 0 | AA17: 0 | AB17: 0 | AC17: 0 | AD17: 0 | AE17: 0 | AF17: 0 | AG17: 0 | AH17: 0 | AI17: 0 | AJ17: 0 | AK17: 0 | AL17: 0 | AM17: 0 | AN17: 0 | AO17: 0 | AP17: 0 | AQ17: 0 | AR17: 0 | AS17: 0 | AT17: 0 | AU17: 0 | AV17: 0 | AW17: 0 | AX17: 0 | AY17: 0 | AZ17: 0 | BA17: 0 | BB17: 0 | BC17: 0 | BD17: 0 | BE17: 0 | BF17: 0 | BG17: 0 | BH17: 0 | BI17: 0 | BJ17: 0 | BK17: 0 | BL17: 0 | BM17: 0 | BN17: 0 | BO17: 0
A19: ='PANEL DE CONTROL DISTRITAL'!A18 -> 4 | B19: ='PANEL DE CONTROL DISTRITAL'!B18 -> CONCILIACIÓN DE CREDENCIALES PARA VOTAR | C19: ='PANEL DE CONTROL DISTRITAL'!C18 -> Responsable de Módulo | D19: ='PANEL DE CONTROL DISTRITAL'!D18 -> Credenciales disponibles para entrega = | E19: ='PANEL DE CONTROL DISTRITAL'!E18 -> [(Credenciales recibidas - credenciales inconsistentes) / Credenciales recibidas] x 100 | F19: ='PANEL DE CONTROL DISTRITAL'!F18 -> Semanal (remesa) | G19: ='PANEL DE CONTROL DISTRITAL'!G18 -> 0.9 | H19: ='PANEL DE CONTROL DISTRITAL'!H18 -> Credenciales Recibidas - Credenciales inconsistentes | I19: 0 | J19: 1283 | K19: 1310 | L19: 684 | M19: 1407 | N19: 1039 | O19: 1141 | P19: 1620 | Q19: 1219 | R19: 1286 | S19: 981 | T19: 1380 | U19: 1448 | V19: 894 | W19: 1366 | X19: 1250 | Y19: 1256 | Z19: 778 | AA19: 267 | AB19: 660 | AC19: 1457 | AD19: 2771 | AE19: 2031 | AF19: 2234 | AG19: 1967 | AH19: 0 | AI19: 2983 | AJ19: 2171 | AK19: 1082 | AL19: 0 | AM19: 750 | AN19: 475 | AO19: 443 | AP19: 436 | AQ19: 80 | AR19: 568 | AS19: 606 | AT19: 300 | AU19: 510 | AV19: 432 | AW19: 479 | AX19: 577 | AY19: 214 | AZ19: 400 | BA19: 0 | BB19: 0 | BC19: 373 | BD19: 975 | BE19: 1805 | BF19: 1464 | BG19: 1354 | BH19: 1559 | BI19: 1694 | BJ19: 1678 | BK19: 1585 | BL19: 1366 | BM19: 1817 | BN19: 1524 | BO19: 1564 | BP19: =IFERROR(SUM(I19:BO19)/SUM(I20:BO20),0) -> 1
H20: ='PANEL DE CONTROL DISTRITAL'!H19 -> Credenciales recibidas | I20: 0 | J20: 1283 | K20: 1310 | L20: 684 | M20: 1407 | N20: 1039 | O20: 1141 | P20: 1620 | Q20: 1219 | R20: 1286 | S20: 981 | T20: 1380 | U20: 1448 | V20: 894 | W20: 1366 | X20: 1250 | Y20: 1256 | Z20: 778 | AA20: 267 | AB20: 660 | AC20: 1457 | AD20: 2771 | AE20: 2031 | AF20: 2234 | AG20: 1967 | AH20: 0 | AI20: 2983 | AJ20: 2171 | AK20: 1082 | AL20: 0 | AM20: 750 | AN20: 475 | AO20: 443 | AP20: 436 | AQ20: 80 | AR20: 568 | AS20: 606 | AT20: 300 | AU20: 510 | AV20: 432 | AW20: 479 | AX20: 577 | AY20: 214 | AZ20: 400 | BA20: 0 | BB20: 0 | BC20: 373 | BD20: 975 | BE20: 1805 | BF20: 1464 | BG20: 1354 | BH20: 1559 | BI20: 1694 | BJ20: 1678 | BK20: 1585 | BL20: 1366 | BM20: 1817 | BN20: 1524 | BO20: 1564
A22: ='PANEL DE CONTROL DISTRITAL'!A21 -> 5 | B22: ='PANEL DE CONTROL DISTRITAL'!B21 -> CONCILIACIÓN DE CREDENCIALES PARA VOTAR | C22: ='PANEL DE CONTROL DISTRITAL'!C21 -> Responsable de Módulo | D22: ='PANEL DE CONTROL DISTRITAL'!D21 -> Arqueo de Credenciales = | E22: ='PANEL DE CONTROL DISTRITAL'!E21 -> (Credenciales disponibles (físicas)/ Credenciales disponibles registradas en SIIRFE) x 100 | F22: ='PANEL DE CONTROL DISTRITAL'!F21 -> Semanal (remesa) | G22: ='PANEL DE CONTROL DISTRITAL'!G21 -> 1 | H22: ='PANEL DE CONTROL DISTRITAL'!H21 -> Credenciales disponibles (físicas) | I22: 0 | J22: 2380 | K22: 2456 | L22: 1989 | M22: 2372 | N22: 2276 | O22: 2277 | P22: 2966 | Q22: 2655 | R22: 2888 | S22: 2424 | T22: 2570 | U22: 2747 | V22: 2468 | W22: 2975 | X22: 2654 | Y22: 2937 | Z22: 2404 | AA22: 2309 | AB22: 2328 | AC22: 2542 | AD22: 3401 | AE22: 3161 | AF22: 2852 | AG22: 2298 | AH22: 2238 | AI22: 3820 | AJ22: 2879 | AK22: 2568 | AL22: 2365 | AM22: 1906 | AN22: 1638 | AO22: 1385 | AP22: 1058 | AQ22: 1002 | AR22: 667 | AS22: 734 | AT22: 720 | AU22: 798 | AV22: 706 | AW22: 787 | AX22: 814 | AY22: 840 | AZ22: 819 | BA22: 329 | BB22: 0 | BC22: 1072 | BD22: 1684 | BE22: 2467 | BF22: 2350 | BG22: 2356 | BH22: 2476 | BI22: 2687 | BJ22: 2827 | BK22: 2812 | BL22: 2540 | BM22: 2750 | BN22: 2730 | BO22: 2754 | BP22: =IFERROR(SUM(I22:BO22)/SUM(I23:BO23),0) -> 1
H23: ='PANEL DE CONTROL DISTRITAL'!H22 -> Credenciales disponibles registradas en SIIRFE | I23: 0 | J23: 2380 | K23: 2456 | L23: 1989 | M23: 2372 | N23: 2276 | O23: 2277 | P23: 2966 | Q23: 2655 | R23: 2888 | S23: 2424 | T23: 2570 | U23: 2747 | V23: 2468 | W23: 2975 | X23: 2654 | Y23: 2937 | Z23: 2404 | AA23: 2309 | AB23: 2328 | AC23: 2542 | AD23: 3401 | AE23: 3161 | AF23: 2852 | AG23: 2298 | AH23: 2238 | AI23: 3820 | AJ23: 2879 | AK23: 2568 | AL23: 2365 | AM23: 1906 | AN23: 1638 | AO23: 1385 | AP23: 1058 | AQ23: 1002 | AR23: 667 | AS23: 734 | AT23: 720 | AU23: 798 | AV23: 706 | AW23: 787 | AX23: 814 | AY23: 840 | AZ23: 819 | BA23: 329 | BB23: 0 | BC23: 1072 | BD23: 1684 | BE23: 2467 | BF23: 2350 | BG23: 2356 | BH23: 2476 | BI23: 2687 | BJ23: 2827 | BK23: 2812 | BL23: 2540 | BM23: 2750 | BN23: 2730 | BO23: 2754
A25: ='PANEL DE CONTROL DISTRITAL'!A24 -> 6 | B25: ='PANEL DE CONTROL DISTRITAL'!B24 -> ENTREGA DE LA CREDENCIAL PARA VOTAR | C25: ='PANEL DE CONTROL DISTRITAL'!C24 -> Operador de Equipo Tecnológico | D25: ='PANEL DE CONTROL DISTRITAL'!D24 -> Efectividad de entrega de CPV en MAC = | E25: ='PANEL DE CONTROL DISTRITAL'!E24 -> (Total de credenciales entregadas / Total de ciudadanas y ciudadanos que acuden al MAC a recoger su credencial) x 100 | F25: ='PANEL DE CONTROL DISTRITAL'!F24 -> Semanal (remesa) | G25: ='PANEL DE CONTROL DISTRITAL'!G24 -> 0.9 | H25: ='PANEL DE CONTROL DISTRITAL'!H24 -> Total de credenciales entregadas | I25: 0 | J25: 1083 | K25: 1219 | L25: 1151 | M25: 1024 | N25: 1135 | O25: 1140 | P25: 919 | Q25: 1530 | R25: 1053 | S25: 1445 | T25: 1234 | U25: 1271 | V25: 1157 | W25: 859 | X25: 1571 | Y25: 972 | Z25: 1296 | AA25: 362 | AB25: 641 | AC25: 1243 | AD25: 1912 | AE25: 2271 | AF25: 2543 | AG25: 2498 | AH25: 60 | AI25: 1401 | AJ25: 3112 | AK25: 1289 | AL25: 203 | AM25: 1209 | AN25: 743 | AO25: 696 | AP25: 749 | AQ25: 136 | AR25: 406 | AS25: 539 | AT25: 314 | AU25: 432 | AV25: 524 | AW25: 398 | AX25: 550 | AY25: 188 | AZ25: 421 | BA25: 490 | BB25: 0 | BC25: 83 | BD25: 363 | BE25: 1022 | BF25: 1581 | BG25: 1348 | BH25: 1374 | BI25: 1483 | BJ25: 1538 | BK25: 1600 | BL25: 1638 | BM25: 1598 | BN25: 1544 | BO25: 1540 | BP25: =IFERROR(SUM(I25:BO25)/SUM(I26:BO26),0) -> 0.99879375
H26: ='PANEL DE CONTROL DISTRITAL'!H25 -> Total de ciudadanas y ciudadanos que acuden al MAC a recoger su credencial | I26: 0 | J26: 1083 | K26: 1222 | L26: 1152 | M26: 1027 | N26: 1136 | O26: 1145 | P26: 912 | Q26: 1536 | R26: 1061 | S26: 1448 | T26: 1239 | U26: 1271 | V26: 1158 | W26: 859 | X26: 1572 | Y26: 972 | Z26: 1296 | AA26: 362 | AB26: 641 | AC26: 1247 | AD26: 1915 | AE26: 2272 | AF26: 2545 | AG26: 2502 | AH26: 60 | AI26: 1403 | AJ26: 3114 | AK26: 1290 | AL26: 203 | AM26: 1210 | AN26: 743 | AO26: 696 | AP26: 749 | AQ26: 136 | AR26: 406 | AS26: 539 | AT26: 314 | AU26: 432 | AV26: 524 | AW26: 398 | AX26: 550 | AY26: 188 | AZ26: 421 | BA26: 490 | BB26: 0 | BC26: 84 | BD26: 364 | BE26: 1024 | BF26: 1581 | BG26: 1349 | BH26: 1379 | BI26: 1487 | BJ26: 1540 | BK26: 1604 | BL26: 1640 | BM26: 1599 | BN26: 1545 | BO26: 1541
B27: *Registre el valor nominal solicitado en la celda, el resultado proporcional esta automatizado.
I29: Semaforización
J30: Valor que requiere atención y justificación en el apartado de observaciones
J31: Valor suficiente
J32: Valor esperado
B34: CUADRO DE OBSERVACIONES
B35: Descripción | H35: No conformidad

Sheet 091251
A1: ='PANEL DE CONTROL DISTRITAL'!A1:Q1 -> INSTITUTO NACIONAL ELECTORAL SISTEMA DE GESTIÓN DE LA CALIDAD CIUDAD DE MÉXICO
D2: Distrito | E2: 12 | F2: Módulo | H2: 91251
A4: TABLERO DE CONTROL DE PROCESOS SUSTANTIVOS DEL SISTEMA DE GESTIÓN DE LA CALIDAD
A6: ='PANEL DE CONTROL DISTRITAL'!A6 -> Número | B6: ='PANEL DE CONTROL DISTRITAL'!B6 -> PROCESOS SUSTANTIVOS E INDICADORES | I6: SEMANA OPERATIVA | BP6: % AVANCE REGISTRADO
B7: ='PANEL DE CONTROL DISTRITAL'!B7 -> DESCRIPCIÓN | E7: ='PANEL DE CONTROL DISTRITAL'!E7 -> MEDICIÓN | I7: ='PANEL DE CONTROL DISTRITAL'!A5 -> CAMPAÑA ANUAL INTENSA 2024 CAMPAÑA ESPECIAL DE ACTUALIZACIÓN PARA EL PROCESO ELECTORAL EXTRAORDINARIO (CEAPEE) 2024-2025
B9: ='PANEL DE CONTROL DISTRITAL'!B8 -> Proceso | C9: ='PANEL DE CONTROL DISTRITAL'!C8 -> Dueño de Proceso | D9: ='PANEL DE CONTROL DISTRITAL'!D8 -> Indicador | E9: ='PANEL DE CONTROL DISTRITAL'!E8 -> Cálculo | F9: ='PANEL DE CONTROL DISTRITAL'!F8 -> Periodo | G9: ='PANEL DE CONTROL DISTRITAL'!G8 -> Estimado | H9: ='PANEL DE CONTROL DISTRITAL'!H8 -> Nominativo | I9: ='090151'!I9 -> 2024-41 | J9: ='090151'!J9 -> 2024-42 | K9: ='090151'!K9 -> 2024-43 | L9: ='090151'!L9 -> 2024-44 | M9: ='090151'!M9 -> 2024-45 | N9: ='090151'!N9 -> 2024-46 | O9: ='090151'!O9 -> 2024-47 | P9: ='090151'!P9 -> 2024-48 | ... BO9: ='090151'!BO9 -> 2025-40
A10: ='PANEL DE CONTROL DISTRITAL'!A9 -> 1 | B10: ='PANEL DE CONTROL DISTRITAL'!B9 -> ENTREVISTA | C10: ='PANEL DE CONTROL DISTRITAL'!C9 -> Auxiliar de Atención Ciudadana | D10: ='PANEL DE CONTROL DISTRITAL'!D9 -> Fichas requisitadas correctamente= | E10: ='PANEL DE CONTROL DISTRITAL'!E9 -> (Fichas requisitadas correctamente / Fichas revisadas en la muestra del 10%) x 100 | F10: ='PANEL DE CONTROL DISTRITAL'!F9 -> Semanal (remesa) | G10: ='PANEL DE CONTROL DISTRITAL'!G9 -> 0.9 | H10: ='PANEL DE CONTROL DISTRITAL'!H9 -> Fichas requistadas correctamente | I10: 0 | J10: 116 | K10: 97 | L10: 74 | M10: 97 | N10: 84 | O10: 116 | P10: 108 | Q10: 104 | R10: 90 | S10: 101 | T10: 90 | U10: 71 | V10: 112 | W10: 119 | X10: 108 | Y10: 86 | Z10: 64 | AA10: 23 | AB10: 59 | AC10: 160 | AD10: 167 | AE10: 180 | AF10: 202 | AG10: 185 | AH10: 60 | AI10: 66 | AJ10: 85 | AK10: 87 | AL10: 4 | AM10: 49 | AN10: 46 | AO10: 45 | AP10: 55 | AQ10: 11 | AR10: 38 | AS10: 50 | AT10: 29 | AU10: 57 | AV10: 50 | AW10: 50 | AX10: 63 | AY10: 36 | AZ10: 0 | BA10: 0 | BB10: 0 | BC10: 0 | BD10: 83 | BE10: 150 | BF10: 138 | BG10: 131 | BH10: 138 | BI10: 126 | BJ10: 131 | BK10: 125 | BL10: 124 | BM10: 118 | BN10: 129 | BO10: 97 | BP10: =IFERROR(SUM(I10:BO10)/SUM(I11:BO11),0) -> 1
H11: ='PANEL DE CONTROL DISTRITAL'!H10 -> Fichas revisadas en la muestra del 10% | I11: 0 | J11: 116 | K11: 97 | L11: 74 | M11: 97 | N11: 84 | O11: 116 | P11: 108 | Q11: 104 | R11: 90 | S11: 101 | T11: 90 | U11: 71 | V11: 112 | W11: 119 | X11: 108 | Y11: 86 | Z11: 64 | AA11: 23 | AB11: 59 | AC11: 160 | AD11: 167 | AE11: 180 | AF11: 202 | AG11: 185 | AH11: 60 | AI11: 66 | AJ11: 85 | AK11: 87 | AL11: 4 | AM11: 49 | AN11: 46 | AO11: 45 | AP11: 55 | AQ11: 11 | AR11: 38 | AS11: 50 | AT11: 29 | AU11: 57 | AV11: 50 | AW11: 50 | AX11: 63 | AY11: 36 | AZ11: 0 | BA11: 0 | BB11: 0 | BC11: 0 | BD11: 83 | BE11: 150 | BF11: 138 | BG11: 131 | BH11: 138 | BI11: 126 | BJ11: 131 | BK11: 125 | BL11: 124 | BM11: 118 | BN11: 129 | BO11: 97
A13: ='PANEL DE CONTROL DISTRITAL'!A12 -> 2 | B13: ='PANEL DE CONTROL DISTRITAL'!B12 -> TRÁMITE | C13: ='PANEL DE CONTROL DISTRITAL'!C12 -> Operador de Equipo Tecnológico | D13: ='PANEL DE CONTROL DISTRITAL'!D12 -> Trámites exitosos efectivos= | E13: ='PANEL DE CONTROL DISTRITAL'!E12 -> (Número de trámites exitosos / Número de trámites aplicados) x 100 | F13: ='PANEL DE CONTROL DISTRITAL'!F12 -> Semanal (remesa) | G13: ='PANEL DE CONTROL DISTRITAL'!G12 -> 0.9 | H13: ='PANEL DE CONTROL DISTRITAL'!H12 -> Número de trámites exitosos | I13: 0 | J13: 970 | K13: 922 | L13: 668 | M13: 909 | N13: 797 | O13: 1100 | P13: 1014 | Q13: 948 | R13: 840 | S13: 961 | T13: 839 | U13: 667 | V13: 1097 | W13: 1126 | X13: 1031 | Y13: 816 | Z13: 604 | AA13: 216 | AB13: 568 | AC13: 1527 | AD13: 1587 | AE13: 1667 | AF13: 1862 | AG13: 1726 | AH13: 548 | AI13: 645 | AJ13: 790 | AK13: 848 | AL13: 34 | AM13: 473 | AN13: 437 | AO13: 434 | AP13: 464 | AQ13: 100 | AR13: 353 | AS13: 493 | AT13: 271 | AU13: 537 | AV13: 479 | AW13: 473 | AX13: 598 | AY13: 353 | AZ13: 0 | BA13: 0 | BB13: 0 | BC13: 0 | BD13: 778 | BE13: 1423 | BF13: 1302 | BG13: 1213 | BH13: 1307 | BI13: 1193 | BJ13: 1225 | BK13: 1188 | BL13: 1168 | BM13: 1121 | BN13: 1219 | BO13: 917 | BP13: =IFERROR(SUM(I13:BO13)/SUM(I14:BO14),0) -> 0.9971265
H14: ='PANEL DE CONTROL DISTRITAL'!H13 -> Número de trámites aplicados | I14: 0 | J14: 971 | K14: 923 | L14: 671 | M14: 914 | N14: 799 | O14: 1103 | P14: 1018 | Q14: 951 | R14: 845 | S14: 965 | T14: 843 | U14: 669 | V14: 1098 | W14: 1129 | X14: 1033 | Y14: 821 | Z14: 607 | AA14: 216 | AB14: 570 | AC14: 1529 | AD14: 1590 | AE14: 1674 | AF14: 1866 | AG14: 1730 | AH14: 554 | AI14: 645 | AJ14: 792 | AK14: 851 | AL14: 34 | AM14: 473 | AN14: 437 | AO14: 434 | AP14: 467 | AQ14: 100 | AR14: 353 | AS14: 493 | AT14: 271 | AU14: 537 | AV14: 479 | AW14: 473 | AX14: 598 | AY14: 353 | AZ14: 0 | BA14: 0 | BB14: 0 | BC14: 0 | BD14: 779 | BE14: 1428 | BF14: 1303 | BG14: 1216 | BH14: 1309 | BI14: 1202 | BJ14: 1231 | BK14: 1192 | BL14: 1173 | BM14: 1123 | BN14: 1221 | BO14: 925
A16: ='PANEL DE CONTROL DISTRITAL'!A15 -> 3 | B16: ='PANEL DE CONTROL DISTRITAL'!B15 -> TRANSFERENCIA DE LA INFORMACIÓN | C16: ='PANEL DE CONTROL DISTRITAL'!C15 -> Responsable de Módulo | D16: ='PANEL DE CONTROL DISTRITAL'!D15 -> Reenvíos exitosos = | E16: ='PANEL DE CONTROL DISTRITAL'!E15 -> (Ejecución de los scripts de reenvío de notificaciones/Solicitud de reenvíos de scripts requeridos) x100 | F16: ='PANEL DE CONTROL DISTRITAL'!F15 -> Semanal (remesa) | G16: ='PANEL DE CONTROL DISTRITAL'!G15 -> 1 | H16: ='PANEL DE CONTROL DISTRITAL'!H15 -> Ejecución de los scripts de reenvío de notificaciones | I16: 0 | J16: 0 | K16: 0 | L16: 0 | M16: 0 | N16: 0 | O16: 0 | P16: 0 | Q16: 0 | R16: 0 | S16: 0 | T16: 0 | U16: 0 | V16: 0 | W16: 0 | X16: 0 | Y16: 0 | Z16: 0 | AA16: 0 | AB16: 0 | AC16: 0 | AD16: 0 | AE16: 0 | AF16: 0 | AG16: 0 | AH16: 0 | AI16: 0 | AJ16: 0 | AK16: 0 | AL16: 0 | AM16: 0 | AN16: 0 | AO16: 0 | AP16: 0 | AQ16: 0 | AR16: 0 | AS16: 0 | AT16: 0 | AU16: 0 | AV16: 0 | AW16: 0 | AX16: 0 | AY16: 0 | AZ16: 0 | BA16: 0 | BB16: 0 | BC16: 0 | BD16: 0 | BE16: 0 | BF16: 0 | BG16: 0 | BH16: 0 | BI16: 0 | BJ16: 0 | BK16: 0 | BL16: 0 | BM16: 0 | BN16: 0 | BO16: 0 | BP16: =IFERROR(SUM(I16:BO16)/SUM(I17:BO17),1) -> 1
H17: ='PANEL DE CONTROL DISTRITAL'!H16 -> Solicitud de reevíos de scripts requeridos | I17: 0 | J17: 0 | K17: 0 | L17: 0 | M17: 0 | N17: 0 | O17: 0 | P17: 0 | Q17: 0 | R17: 0 | S17: 0 | T17: 0 | U17: 0 | V17: 0 | W17: 0 | X17: 0 | Y17: 0 | Z17: 0 | AA17: 0 | AB17: 0 | AC17: 0 | AD17: 0 | AE17: 0 | AF17: 0 | AG17: 0 | AH17: 0 | AI17: 0 | AJ17: 0 | AK17: 0 | AL17: 0 | AM17: 0 | AN17: 0 | AO17: 0 | AP17: 0 | AQ17: 0 | AR17: 0 | AS17: 0 | AT17: 0 | AU17: 0 | AV17: 0 | AW17: 0 | AX17: 0 | AY17: 0 | AZ17: 0 | BA17: 0 | BB17: 0 | BC17: 0 | BD17: 0 | BE17: 0 | BF17: 0 | BG17: 0 | BH17: 0 | BI17: 0 | BJ17: 0 | BK17: 0 | BL17: 0 | BM17: 0 | BN17: 0 | BO17: 0
A19: ='PANEL DE CONTROL DISTRITAL'!A18 -> 4 | B19: ='PANEL DE CONTROL DISTRITAL'!B18 -> CONCILIACIÓN DE CREDENCIALES PARA VOTAR | C19: ='PANEL DE CONTROL DISTRITAL'!C18 -> Responsable de Módulo | D19: ='PANEL DE CONTROL DISTRITAL'!D18 -> Credenciales disponibles para entrega = | E19: ='PANEL DE CONTROL DISTRITAL'!E18 -> [(Credenciales recibidas - credenciales inconsistentes) / Credenciales recibidas] x 100 | F19: ='PANEL DE CONTROL DISTRITAL'!F18 -> Semanal (remesa) | G19: ='PANEL DE CONTROL DISTRITAL'!G18 -> 0.9 | H19: ='PANEL DE CONTROL DISTRITAL'!H18 -> Credenciales Recibidas - Credenciales inconsistentes | I19: 0 | J19: 1080 | K19: 978 | L19: 495 | M19: 1074 | N19: 698 | O19: 876 | P19: 1281 | Q19: 971 | R19: 952 | S19: 770 | T19: 974 | U19: 819 | V19: 810 | W19: 916 | X19: 1267 | Y19: 889 | Z19: 546 | AA19: 179 | AB19: 472 | AC19: 966 | AD19: 1860 | AE19: 1347 | AF19: 1166 | AG19: 1597 | AH19: 392 | AI19: 1614 | AJ19: 1667 | AK19: 842 | AL19: 0 | AM19: 654 | AN19: 449 | AO19: 393 | AP19: 370 | AQ19: 70 | AR19: 531 | AS19: 447 | AT19: 303 | AU19: 504 | AV19: 454 | AW19: 490 | AX19: 581 | AY19: 207 | AZ19: 0 | BA19: 0 | BB19: 0 | BC19: 0 | BD19: 109 | BE19: 1450 | BF19: 1381 | BG19: 1195 | BH19: 1321 | BI19: 1208 | BJ19: 1225 | BK19: 1212 | BL19: 956 | BM19: 1337 | BN19: 1200 | BO19: 971 | BP19: =IFERROR(SUM(I19:BO19)/SUM(I20:BO20),0) -> 0.99995701
H20: ='PANEL DE CONTROL DISTRITAL'!H19 -> Credenciales recibidas | I20: 0 | J20: 1080 | K20: 978 | L20: 495 | M20: 1074 | N20: 698 | O20: 876 | P20: 1281 | Q20: 971 | R20: 952 | S20: 770 | T20: 974 | U20: 819 | V20: 810 | W20: 916 | X20: 1267 | Y20: 889 | Z20: 546 | AA20: 179 | AB20: 472 | AC20: 967 | AD20: 1860 | AE20: 1347 | AF20: 1166 | AG20: 1597 | AH20: 392 | AI20: 1614 | AJ20: 1667 | AK20: 842 | AL20: 0 | AM20: 654 | AN20: 449 | AO20: 393 | AP20: 370 | AQ20: 70 | AR20: 531 | AS20: 447 | AT20: 303 | AU20: 504 | AV20: 454 | AW20: 490 | AX20: 581 | AY20: 207 | AZ20: 0 | BA20: 0 | BB20: 0 | BC20: 0 | BD20: 109 | BE20: 1451 | BF20: 1381 | BG20: 1195 | BH20: 1321 | BI20: 1208 | BJ20: 1225 | BK20: 1212 | BL20: 956 | BM20: 1337 | BN20: 1200 | BO20: 971
A22: ='PANEL DE CONTROL DISTRITAL'!A21 -> 5 | B22: ='PANEL DE CONTROL DISTRITAL'!B21 -> CONCILIACIÓN DE CREDENCIALES PARA VOTAR | C22: ='PANEL DE CONTROL DISTRITAL'!C21 -> Responsable de Módulo | D22: ='PANEL DE CONTROL DISTRITAL'!D21 -> Arqueo de Credenciales = | E22: ='PANEL DE CONTROL DISTRITAL'!E21 -> (Credenciales disponibles (físicas)/ Credenciales disponibles registradas en SIIRFE) x 100 | F22: ='PANEL DE CONTROL DISTRITAL'!F21 -> Semanal (remesa) | G22: ='PANEL DE CONTROL DISTRITAL'!G21 -> 1 | H22: ='PANEL DE CONTROL DISTRITAL'!H21 -> Credenciales disponibles (físicas) | I22: 0 | J22: 2037 | K22: 1973 | L22: 1783 | M22: 1941 | N22: 1081 | O22: 1795 | P22: 2067 | Q22: 2017 | R22: 2225 | S22: 2130 | T22: 2046 | U22: 1890 | V22: 1921 | W22: 1966 | X22: 2159 | Y22: 2048 | Z22: 2022 | AA22: 2017 | AB22: 2130 | AC22: 1972 | AD22: 2490 | AE22: 2358 | AF22: 1904 | AG22: 1953 | AH22: 2300 | AI22: 3222 | AJ22: 2633 | AK22: 2223 | AL22: 2110 | AM22: 1831 | AN22: 1443 | AO22: 1281 | AP22: 1024 | AQ22: 881 | AR22: 1136 | AS22: 1218 | AT22: 1249 | AU22: 1203 | AV22: 1326 | AW22: 1432 | AX22: 1296 | AY22: 1263 | AZ22: 1312 | BA22: 840 | BB22: 0 | BC22: 718 | BD22: 775 | BE22: 1940 | BF22: 2197 | BG22: 2124 | BH22: 2248 | BI22: 2203 | BJ22: 2237 | BK22: 2307 | BL22: 2007 | BM22: 2137 | BN22: 2270 | BO22: 2177 | BP22: =IFERROR(SUM(I22:BO22)/SUM(I23:BO23),0) -> 1
H23: ='PANEL DE CONTROL DISTRITAL'!H22 -> Credenciales disponibles registradas en SIIRFE | I23: 0 | J23: 2037 | K23: 1973 | L23: 1783 | M23: 1941 | N23: 1081 | O23: 1795 | P23: 2067 | Q23: 2017 | R23: 2225 | S23: 2130 | T23: 2046 | U23: 1890 | V23: 1921 | W23: 1966 | X23: 2159 | Y23: 2048 | Z23: 2022 | AA23: 2017 | AB23: 2130 | AC23: 1972 | AD23: 2490 | AE23: 2358 | AF23: 1904 | AG23: 1953 | AH23: 2300 | AI23: 3222 | AJ23: 2633 | AK23: 2223 | AL23: 2110 | AM23: 1831 | AN23: 1443 | AO23: 1281 | AP23: 1024 | AQ23: 881 | AR23: 1136 | AS23: 1218 | AT23: 1249 | AU23: 1203 | AV23: 1326 | AW23: 1432 | AX23: 1296 | AY23: 1263 | AZ23: 1312 | BA23: 840 | BB23: 0 | BC23: 718 | BD23: 775 | BE23: 1940 | BF23: 2197 | BG23: 2124 | BH23: 2248 | BI23: 2203 | BJ23: 2237 | BK23: 2307 | BL23: 2007 | BM23: 2137 | BN23: 2270 | BO23: 2177
A25: ='PANEL DE CONTROL DISTRITAL'!A24 -> 6 | B25: ='PANEL DE CONTROL DISTRITAL'!B24 -> ENTREGA DE LA CREDENCIAL PARA VOTAR | C25: ='PANEL DE CONTROL DISTRITAL'!C24 -> Operador de Equipo Tecnológico | D25: ='PANEL DE CONTROL DISTRITAL'!D24 -> Efectividad de entrega de CPV en MAC = | E25: ='PANEL DE CONTROL DISTRITAL'!E24 -> (Total de credenciales entregadas / Total de ciudadanas y ciudadanos que acuden al MAC a recoger su credencial) x 100 | F25: ='PANEL DE CONTROL DISTRITAL'!F24 -> Semanal (remesa) | G25: ='PANEL DE CONTROL DISTRITAL'!G24 -> 0.9 | H25: ='PANEL DE CONTROL DISTRITAL'!H24 -> Total de credenciales entregadas | I25: 0 | J25: 1047 | K25: 1033 | L25: 685 | M25: 916 | N25: 838 | O25: 882 | P25: 988 | Q25: 1021 | R25: 743 | S25: 865 | T25: 1058 | U25: 975 | V25: 765 | W25: 871 | X25: 1074 | Y25: 1000 | Z25: 559 | AA25: 184 | AB25: 359 | AC25: 1124 | AD25: 1342 | AE25: 1479 | AF25: 1620 | AG25: 1520 | AH25: 45 | AI25: 692 | AJ25: 2256 | AK25: 1174 | AL25: 113 | AM25: 933 | AN25: 837 | AO25: 555 | AP25: 606 | AQ25: 213 | AR25: 276 | AS25: 365 | AT25: 272 | AU25: 550 | AV25: 331 | AW25: 384 | AX25: 717 | AY25: 240 | AZ25: 361 | BA25: 472 | BB25: 0 | BC25: 69 | BD25: 52 | BE25: 285 | BF25: 1124 | BG25: 1268 | BH25: 1136 | BI25: 1253 | BJ25: 1191 | BK25: 1142 | BL25: 1256 | BM25: 1194 | BN25: 1067 | BO25: 1064 | BP25: =IFERROR(SUM(I25:BO25)/SUM(I26:BO26),0) -> 0.99387934
H26: ='PANEL DE CONTROL DISTRITAL'!H25 -> Total de ciudadanas y ciudadanos que acuden al MAC a recoger su credencial | I26: 0 | J26: 1050 | K26: 1034 | L26: 688 | M26: 919 | N26: 840 | O26: 883 | P26: 991 | Q26: 1023 | R26: 746 | S26: 865 | T26: 1058 | U26: 977 | V26: 766 | W26: 871 | X26: 1074 | Y26: 1001 | Z26: 559 | AA26: 184 | AB26: 360 | AC26: 1130 | AD26: 1344 | AE26: 1481 | AF26: 1624 | AG26: 1522 | AH26: 45 | AI26: 892 | AJ26: 2260 | AK26: 1174 | AL26: 114 | AM26: 935 | AN26: 840 | AO26: 558 | AP26: 609 | AQ26: 213 | AR26: 278 | AS26: 365 | AT26: 272 | AU26: 556 | AV26: 331 | AW26: 384 | AX26: 717 | AY26: 240 | AZ26: 361 | BA26: 472 | BB26: 0 | BC26: 69 | BD26: 52 | BE26: 285 | BF26: 1124 | BG26: 1270 | BH26: 1137 | BI26: 1255 | BJ26: 1196 | BK26: 1146 | BL26: 1258 | BM26: 1197 | BN26: 1068 | BO26: 1064
B27: *Registre el valor nominal solicitado en la celda, el resultado proporcional esta automatizado.
I29: Semaforización
J30: Valor que requiere atención y justificación en el apartado de observaciones
J31: Valor suficiente
J32: Valor esperado
B34: CUADRO DE OBSERVACIONES
B35: Descripción | H35: No conformidad

Sheet 091252
A1: ='PANEL DE CONTROL DISTRITAL'!A1:Q1 -> INSTITUTO NACIONAL ELECTORAL SISTEMA DE GESTIÓN DE LA CALIDAD CIUDAD DE MÉXICO
D2: Distrito | E2: 12 | F2: Módulo | H2: 91252
A4: TABLERO DE CONTROL DE PROCESOS SUSTANTIVOS DEL SISTEMA DE GESTIÓN DE LA CALIDAD
A6: ='PANEL DE CONTROL DISTRITAL'!A6 -> Número | B6: ='PANEL DE CONTROL DISTRITAL'!B6 -> PROCESOS SUSTANTIVOS E INDICADORES | I6: SEMANA OPERATIVA | BP6: % AVANCE REGISTRADO
B7: ='PANEL DE CONTROL DISTRITAL'!B7 -> DESCRIPCIÓN | E7: ='PANEL DE CONTROL DISTRITAL'!E7 -> MEDICIÓN | I7: ='PANEL DE CONTROL DISTRITAL'!A5 -> CAMPAÑA ANUAL INTENSA 2024 CAMPAÑA ESPECIAL DE ACTUALIZACIÓN PARA EL PROCESO ELECTORAL EXTRAORDINARIO (CEAPEE) 2024-2025
B9: ='PANEL DE CONTROL DISTRITAL'!B8 -> Proceso | C9: ='PANEL DE CONTROL DISTRITAL'!C8 -> Dueño de Proceso | D9: ='PANEL DE CONTROL DISTRITAL'!D8 -> Indicador | E9: ='PANEL DE CONTROL DISTRITAL'!E8 -> Cálculo | F9: ='PANEL DE CONTROL DISTRITAL'!F8 -> Periodo | G9: ='PANEL DE CONTROL DISTRITAL'!G8 -> Estimado | H9: ='PANEL DE CONTROL DISTRITAL'!H8 -> Nominativo | I9: ='090151'!I9 -> 2024-41 | J9: ='090151'!J9 -> 2024-42 | K9: ='090151'!K9 -> 2024-43 | L9: ='090151'!L9 -> 2024-44 | M9: ='090151'!M9 -> 2024-45 | N9: ='090151'!N9 -> 2024-46 | O9: ='090151'!O9 -> 2024-47 | P9: ='090151'!P9 -> 2024-48 | ... BO9: ='090151'!BO9 -> 2025-40
A10: ='PANEL DE CONTROL DISTRITAL'!A9 -> 1 | B10: ='PANEL DE CONTROL DISTRITAL'!B9 -> ENTREVISTA | C10: ='PANEL DE CONTROL DISTRITAL'!C9 -> Auxiliar de Atención Ciudadana | D10: ='PANEL DE CONTROL DISTRITAL'!D9 -> Fichas requisitadas correctamente= | E10: ='PANEL DE CONTROL DISTRITAL'!E9 -> (Fichas requisitadas correctamente / Fichas revisadas en la muestra del 10%) x 100 | F10: ='PANEL DE CONTROL DISTRITAL'!F9 -> Semanal (remesa) | G10: ='PANEL DE CONTROL DISTRITAL'!G9 -> 0.9 | H10: ='PANEL DE CONTROL DISTRITAL'!H9 -> Fichas requistadas correctamente | I10: 0 | J10: 63 | K10: 62 | L10: 40 | M10: 47 | N10: 40 | O10: 51 | P10: 41 | Q10: 42 | R10: 42 | S10: 63 | T10: 71 | U10: 53 | V10: 72 | W10: 57 | X10: 57 | Y10: 60 | Z10: 48 | AA10: 6 | AB10: 46 | AC10: 125 | AD10: 117 | AE10: 118 | AF10: 131 | AG10: 125 | AH10: 37 | AI10: 50 | AJ10: 49 | AK10: 53 | AL10: 3 | AM10: 29 | AN10: 33 | AO10: 31 | AP10: 33 | AQ10: 5 | AR10: 19 | AS10: 23 | AT10: 14 | AU10: 27 | AV10: 20 | AW10: 24 | AX10: 28 | AY10: 18 | AZ10: 0 | BA10: 0 | BB10: 0 | BC10: 48 | BD10: 82 | BE10: 92 | BF10: 84 | BG10: 25 | BH10: 83 | BI10: 83 | BJ10: 89 | BK10: 83 | BL10: 82 | BM10: 74 | BN10: 72 | BO10: 72 | BP10: =IFERROR(SUM(I10:BO10)/SUM(I11:BO11),0) -> 0.98065764
